BEGIN:VCALENDAR
VERSION:2.0
PRODID:-//UCSF - Universidad Católica de Santa Fe - ECPv5.14.2.1//NONSGML v1.0//EN
CALSCALE:GREGORIAN
METHOD:PUBLISH
X-WR-CALNAME:UCSF - Universidad Católica de Santa Fe
X-ORIGINAL-URL:https://www.ucsf.edu.ar
X-WR-CALDESC:Events for UCSF - Universidad Católica de Santa Fe
REFRESH-INTERVAL;VALUE=DURATION:PT1H
X-Robots-Tag:noindex
X-PUBLISHED-TTL:PT1H
BEGIN:VTIMEZONE
TZID:America/Argentina/Buenos_Aires
BEGIN:STANDARD
TZOFFSETFROM:-0300
TZOFFSETTO:-0300
TZNAME:-03
DTSTART:20240101T000000
END:STANDARD
END:VTIMEZONE
BEGIN:VEVENT
DTSTART;TZID=America/Argentina/Buenos_Aires:20240508T100000
DTEND;TZID=America/Argentina/Buenos_Aires:20240508T120000
DTSTAMP:20260421T023125
CREATED:20240429T152948Z
LAST-MODIFIED:20240503T143216Z
UID:71219-1715162400-1715169600@www.ucsf.edu.ar
SUMMARY:Capacitación RCP para la comunidad. Temas de medicina
DESCRIPTION:El Programa Universidad Abierta y la Facultad de Ciencia de la Salud\, comunica que se encuentra abierta la inscripción para la “Capacitación RCP para la comunidad”.  \nFundamentación \n“ lA RCP salva vidas”\nCuando mayor sea el número de personas que conocen las técnicas de RCP\, mayores son las\nposibilidades de supervivencia de la víctima.\nLos ataques cardíacos\, el ahogamiento u otros problemas pueden hacer que el corazón deje de\nbombear sangre. Esto se denomina paro cardíaco. Si se administra la RCP a una persona de\ninmediato\, es más probable que sobreviva. La mayoría de los paros cardíacos ocurren en el hogar\nen presencia de los miembros de la familia. Cualquier persona entrenada puede ayudar a un ser\nquerido a sobrevivir administrando la RCP. \nObjetivos generales\nEn este taller se enseñarán las habilidades de la RCP para salvar vidas usando sólo las manos\n(Hand-Only™)\, RCP con ventilaciones para niños\, el uso de un desfibrilador externo automático\n(DEA) en adultos y niños y desobstrucción de las vías aéreas en adultos y niños. \nObjetivos específicos:\nDescribir los pasos necesarios para hacer RCP con ventilaciones en un adulto Realizar la RCP con ventilaciones en un adulto Describir el modo de usar el DEA en un adulto Usar un DEA cuando se encuentre disponible para un adulto que necesite RCP\nDebatir cuando y cómo ayudar a un adulto con obstrucción\nIndicar los signos de obstrucción\nDemostrar cómo ayudar a un adulto con obstrucción \nDía y horario: miércoles 8 de mayo de 10 a 12 horas \nLugar: Aula 1.27 (C. Echagüe 7151. UCSF) \nDestinatarios: Comunidad UCSF\, público interesado en la temática.\n(Personas con poco o ningún entrenamiento en temas médicos\, que necesiten aprender reanimación\ncardio pulmonar (RCP)\, saber utilizar correctamente el desfibrilador externo automático (DEA)\ndentro de las normativas vigentes) \nDocente/ disertante: Médico: Julio Eduardo Rico \nInscripciones: https://www.eventbrite.com.ar/e/capacitacion-rcp-para-la-comunidad-temas-de-medicina-tickets-893750179847?aff=Inscripciones \n¡Cupo limitado de 30 participantes! \nCV abreviado: Médico Generalista y de Familia. Médico Deportólogo \nInformes: nsturla@ucsf.edu.ar (Coordinadora Programa Universidad abierta para la Casa Común) \nfederico.fookespaccamiccio@ucsf.edu.ar (Secretario de Ciencia\, Técnica y Extensión. Facultad de Ciencias de la Salud)
URL:https://www.ucsf.edu.ar/evento/capacitacion-rcp-para-la-comunidad-temas-de-medicina/
LOCATION:UCSF Santa Fe\, Echagüe 7151\, Santa Fe\, Santa Fe\, Argentina
CATEGORIES:Pastoral,Cultura: coros y teatro,Santa Fe,Alumnos,Deportes,Rosario,Docentes,Posadas,Personal UCSF,Ciclos de complementación,Reconquista,Rafaela,Gualeguaychú,Comunidad,Licenciatura en Medios Digitales (CCC),Bienestar universitario,Sedes,Licenciatura en Negocios Digitales (CCC),Licenciatura en Psicomotricidad (CCC),Licenciatura en Seguridad Alimentaria (CCC),Extensión,Investigación,Profesorado en Historia (CCC),Profesorado en Lengua y Literatura (CCC)
ATTACH;FMTTYPE=image/jpeg:https://www.ucsf.edu.ar/wp-content/uploads/2024/04/Screenshot_20240429_193123_OneDrive.jpg
ORGANIZER;CN="Vicerrectorado%20Acad%C3%A9mico":MAILTO:vrecacad@ucsf.edu.ar
GEO:-31.6069451;-60.6709418
X-APPLE-STRUCTURED-LOCATION;VALUE=URI;X-ADDRESS=UCSF Santa Fe Echagüe 7151 Santa Fe Santa Fe Argentina;X-APPLE-RADIUS=500;X-TITLE=Echagüe 7151:geo:-60.6709418,-31.6069451
END:VEVENT
END:VCALENDAR