BEGIN:VCALENDAR
VERSION:2.0
PRODID:-//UCSF - Universidad Católica de Santa Fe - ECPv5.14.2.1//NONSGML v1.0//EN
CALSCALE:GREGORIAN
METHOD:PUBLISH
X-WR-CALNAME:UCSF - Universidad Católica de Santa Fe
X-ORIGINAL-URL:https://www.ucsf.edu.ar
X-WR-CALDESC:Events for UCSF - Universidad Católica de Santa Fe
REFRESH-INTERVAL;VALUE=DURATION:PT1H
X-Robots-Tag:noindex
X-PUBLISHED-TTL:PT1H
BEGIN:VTIMEZONE
TZID:America/Argentina/Buenos_Aires
BEGIN:STANDARD
TZOFFSETFROM:-0300
TZOFFSETTO:-0300
TZNAME:-03
DTSTART:20240101T000000
END:STANDARD
END:VTIMEZONE
BEGIN:VEVENT
DTSTART;TZID=America/Argentina/Buenos_Aires:20240814T160000
DTEND;TZID=America/Argentina/Buenos_Aires:20240814T170000
DTSTAMP:20260420T221318
CREATED:20240809T141529Z
LAST-MODIFIED:20240813T103749Z
UID:75013-1723651200-1723654800@www.ucsf.edu.ar
SUMMARY:Misa de vísperas de la "Asunción de la Virgen María" - Sede Santa Fe
DESCRIPTION:La fiesta de la Asunción de la Virgen María se celebra en toda la Iglesia el 15 de agosto. \n“La asunción al cielo\, en alma y cuerpo\, es un privilegio divino concedido a la Santa Madre de Dios por su particular unión con Jesús. Es una unión corporal y espiritual\, iniciada en la Anunciación y madurada a lo largo de la vida de María a través de su singular participación en el misterio del Hijo… \nLa maravillosa realidad de la Asunción de María manifiesta y confirma la unidad de la persona humana y nos recuerda que estamos llamados a servir y glorificar a Dios con todo nuestro ser\, alma y cuerpo.” (Papa Francisco\, 2022) \nEn la UCSF Sede Santa Fe celebraremos la Misa de vísperas de la Asunción el miércoles 14/8 a las 16 hs. \n 
URL:https://www.ucsf.edu.ar/evento/misa-de-visperas-de-la-asuncion-de-la-virgen-maria/
LOCATION:UCSF Santa Fe\, Echagüe 7151\, Santa Fe\, Santa Fe\, Argentina
CATEGORIES:Pastoral,Alumnos,Cultura: coros y teatro,Docentes,Deportes,Personal UCSF,Vicerrectorado de Formación,Comunidad,Bienestar universitario
ATTACH;FMTTYPE=image/png:https://www.ucsf.edu.ar/wp-content/uploads/2024/08/Misa-asuncion-de-la-virgen_Feed.png
GEO:-31.6069451;-60.6709418
X-APPLE-STRUCTURED-LOCATION;VALUE=URI;X-ADDRESS=UCSF Santa Fe Echagüe 7151 Santa Fe Santa Fe Argentina;X-APPLE-RADIUS=500;X-TITLE=Echagüe 7151:geo:-60.6709418,-31.6069451
END:VEVENT
BEGIN:VEVENT
DTSTART;TZID=America/Argentina/Buenos_Aires:20240823T163000
DTEND;TZID=America/Argentina/Buenos_Aires:20240823T200000
DTSTAMP:20260420T221318
CREATED:20240801T145343Z
LAST-MODIFIED:20240821T174636Z
UID:74658-1724430600-1724443200@www.ucsf.edu.ar
SUMMARY:Curso Construcción y análisis de datos cuantitativos. Introducción al Software SPSS
DESCRIPTION:El Vicerrectorado Académico\, a través del Programa Universidad Abierta y la Facultad de Psicología de la UCSF\, comunican que se encuentra abierta la inscripción para el Curso “Construcción y análisis de datos cuantitativos. Introducción al Software SPSS \nFudamentación del Curso: \nLa propuesta se centrará en el procesamiento y análisis de variables cuantitativas en el marco\nde la investigación en ciencias sociales. Se propone un desarrollo basado en ejes conceptuales de la\nciencia Estadística que se profundizarán en diversos niveles relativos a los requerimientos de\ncomprensión de las técnicas. Se privilegiará la exposición de los principios fundamentales de las\ntécnicas estadísticas en lugar del desarrollo matemático de las mismas. \nObjetivos del curso: \n\nComprender los usos y alcances del software SPSS para el procesamiento y análisis de datos\ncuantitativos en el marco de procesos de investigación en el campo de las ciencias sociales.\nIdentificar los procedimientos de tratamiento y análisis de datos más adecuados a los problemas\nde investigación en ciencias sociales.\n Aplicar los conceptos del procesamiento estadístico básico a través del uso de las herramientas\ndel software SPSS.\n\nContenidos\nEje temático I: Creación de una matriz de datos\nEstructura del SPSS: El editor de datos. El visor de resultados. Barra de menús y de herramientas.\nMenús generales. Menú Analizar. La estructura de los datos. Unidades de análisis\, variables\, valores.\nLa matriz de datos. Tipo y usos de escalas de medición. Tipos de variables. Codificación y\nrecodificación. Creación de variables. Cálculo de variables nuevas a partir de preexistentes.\nImportación y exportación de archivos de datos con diferentes formatos. \nEje temático II: Análisis descriptivo univariado \nDistribuciones de frecuencias. Medidas de tendencia central y posición. Media\, mediana y moda.\nDeciles\, cuartiles y percentiles. Medidas de variación. Varianza y desviación típica\nAsimetría y curtosis. Representaciones gráficas: gráfico de barras\, histograma\, diagrama de cajas\nInterpretación de resultados. \nEje temático III: Análisis descriptivo Biivariado \nMedidas de asociación y tablas de contingencia. Medidas de correlación. Presentación y resumen de los\nresultados. \nDía y horarios: viernes 23 de agosto\, de 16:30 a 20 horas. \nDestinatarios: alumnos\, docentes\, investigadores y público en genral \nModalidad virtual \nDisertantes: Dra.en Psicología Salessi Solana \nInscripciones: https://www.eventbrite.com.ar/e/construccion-y-analisis-de-datos-cuantitativos-software-spss-tickets-970595646707?aff=Inscripciones \nImportante: el link de Zoom sólo se enviará por correo (1 día y 1 una hora antes del Evento) a los participantes que se hayan inscripto a través de este link) \nCupos limitados \nImportante: para realizar el curso es necesario tener descargado el Softwere SPSS o su versión gratuita. \nLink para descargar el software: \nhttps://www.ibm.com/es-es/products/spss-statistics \nSaludos cordiales \nCV abreviado: Doctora en Psicología. Facultad de Psicología\, Universidad Nacional de La Plata. Año: agosto de 2016. Especialista en Docencia Universitaria. Facultad de Filosofía y Letras\, Universidad Nacional de Cuyo Año: febrero de 2021.  Profesora Superior de Psicología. Facultad de Derecho y Ciencias Sociales del Rosario\, Pontificia Universidad Católica Argentina.\nInformes: nsturla@ucsf.edu.ar
URL:https://www.ucsf.edu.ar/evento/curso-construccion-y-analisis-de-datos-cuantitativos-introduccion-al-software-spss/
LOCATION:UCSF Santa Fe\, Echagüe 7151\, Santa Fe\, Santa Fe\, Argentina
CATEGORIES:Pastoral,Cultura: coros y teatro,Santa Fe,Alumnos,Deportes,Rosario,Docentes,Posadas,Ciclos de complementación,Reconquista,Rafaela,Gualeguaychú,Comunidad,Bienestar universitario,Licenciatura en Medios Digitales (CCC),Sedes,Licenciatura en Negocios Digitales (CCC),Licenciatura en Psicomotricidad (CCC),Licenciatura en Seguridad Alimentaria (CCC),Extensión,Investigación,Profesorado en Historia (CCC),Profesorado en Lengua y Literatura (CCC)
ATTACH;FMTTYPE=image/jpeg:https://www.ucsf.edu.ar/wp-content/uploads/2024/08/IMAGEN-CONSTRUCCION-Y-ANALISIS-DE-DATOS-CUANTITATIVOS_web.jpg
ORGANIZER;CN="Vicerrectorado%20Acad%C3%A9mico":MAILTO:vrecacad@ucsf.edu.ar
GEO:-31.6069451;-60.6709418
X-APPLE-STRUCTURED-LOCATION;VALUE=URI;X-ADDRESS=UCSF Santa Fe Echagüe 7151 Santa Fe Santa Fe Argentina;X-APPLE-RADIUS=500;X-TITLE=Echagüe 7151:geo:-60.6709418,-31.6069451
END:VEVENT
BEGIN:VEVENT
DTSTART;TZID=America/Argentina/Buenos_Aires:20240829T160000
DTEND;TZID=America/Argentina/Buenos_Aires:20240829T190000
DTSTAMP:20260420T221318
CREATED:20240820T153537Z
LAST-MODIFIED:20240820T153537Z
UID:75315-1724947200-1724958000@www.ucsf.edu.ar
SUMMARY:PRIMER TORNEO INTERNO DE AJEDREZ. UCSF-SEDE VIRGEN DE GUADALUPE
DESCRIPTION:El día 29 de agosto de 2024\, en la franja horaria de las 16 a las 19 horas\, se llevará a cabo el primer torneo de Ajedrez en la Sede Virgen de Guadalupe. \nPodrán participar: Alumnos de grado\, graduados\, docentes\, personal administrativo y de servicio de la UCSF. \nContaremos además con la participación de invitados especiales: Alumnos de otras universidades. \nLa inscripción es libre y gratuita. \nEn cuanto al formato del torneo: 5 Rondas Sistema Suizo. Ritmo de juego “Ajedrez Relámpago” o “Blitz” 5+3 (5 minutos para cada jugador\, más 3 segundos de incremento por cada movimiento). \nLa modalidad será presencial en el Segundo piso\, pasillo frente a las aulas\, en la Sede Virgen de Guadalupe. \nEntregaremos Premios y Diplomas para los tres primeros puestos. \nInformes e inscripción: equintana@ucsf.edu.ar \n¡Los esperamos!
URL:https://www.ucsf.edu.ar/evento/primer-torneo-interno-de-ajedrez-ucsf-sede-virgen-de-guadalupe/
LOCATION:UCSF Santa Fe\, Echagüe 7151\, Santa Fe\, Santa Fe\, Argentina
CATEGORIES:Santa Fe,Deportes,Bienestar universitario
ATTACH;FMTTYPE=image/png:https://www.ucsf.edu.ar/wp-content/uploads/2024/08/Torneo-de-ajedrez-santa-fe.png
ORGANIZER;CN="Bienestar%20Universitario":MAILTO:debora@furman.com.ar
GEO:-31.6069451;-60.6709418
X-APPLE-STRUCTURED-LOCATION;VALUE=URI;X-ADDRESS=UCSF Santa Fe Echagüe 7151 Santa Fe Santa Fe Argentina;X-APPLE-RADIUS=500;X-TITLE=Echagüe 7151:geo:-60.6709418,-31.6069451
END:VEVENT
END:VCALENDAR