BEGIN:VCALENDAR
VERSION:2.0
PRODID:-//UCSF - Universidad Católica de Santa Fe - ECPv5.14.2.1//NONSGML v1.0//EN
CALSCALE:GREGORIAN
METHOD:PUBLISH
X-WR-CALNAME:UCSF - Universidad Católica de Santa Fe
X-ORIGINAL-URL:https://www.ucsf.edu.ar
X-WR-CALDESC:Events for UCSF - Universidad Católica de Santa Fe
REFRESH-INTERVAL;VALUE=DURATION:PT1H
X-Robots-Tag:noindex
X-PUBLISHED-TTL:PT1H
BEGIN:VTIMEZONE
TZID:America/Argentina/Buenos_Aires
BEGIN:STANDARD
TZOFFSETFROM:-0300
TZOFFSETTO:-0300
TZNAME:-03
DTSTART:20230101T000000
END:STANDARD
END:VTIMEZONE
BEGIN:VEVENT
DTSTART;TZID=America/Argentina/Buenos_Aires:20231027T123000
DTEND;TZID=America/Argentina/Buenos_Aires:20231027T133000
DTSTAMP:20260421T154940
CREATED:20231023T222429Z
LAST-MODIFIED:20231024T215609Z
UID:65857-1698409800-1698413400@www.ucsf.edu.ar
SUMMARY:Charla: “El Tiempo es Cerebro: la importancia de reconocer y actuar rápido frente a un ACV”
DESCRIPTION:  \n  \n  \n 
URL:https://www.ucsf.edu.ar/evento/charla-el-tiempo-es-cerebro-la-importancia-de-reconocer-y-actuar-rapido-frente-a-un-acv/
LOCATION:UCSF Santa Fe\, Echagüe 7151\, Santa Fe\, Santa Fe\, Argentina
CATEGORIES:Pastoral,Doctorado en Filosofía,Maestría en Evaluación de Impacto y Gestión Ambiental,Alumnos,Santa Fe,Cultura: coros y teatro,Docentes,Deportes,Especialización en Terapias Cognitivas,Personal UCSF,Especialización en Gestión Integral del Hábitat,Carreras de Posgrado,Doctorado en Ciencias Jurídicas,Comunidad,Doctorado en Educación,Posgrados,Bienestar universitario,Sedes,Maestría en Relaciones Internacionales
ATTACH;FMTTYPE=image/jpeg:https://www.ucsf.edu.ar/wp-content/uploads/2023/10/POS.jpg
ORGANIZER;CN="Posgrado":MAILTO:posgrado@ucsf.edu.ar
GEO:-31.6069451;-60.6709418
X-APPLE-STRUCTURED-LOCATION;VALUE=URI;X-ADDRESS=UCSF Santa Fe Echagüe 7151 Santa Fe Santa Fe Argentina;X-APPLE-RADIUS=500;X-TITLE=Echagüe 7151:geo:-60.6709418,-31.6069451
END:VEVENT
END:VCALENDAR