BEGIN:VCALENDAR
VERSION:2.0
PRODID:-//UCSF - Universidad Católica de Santa Fe - ECPv5.14.2.1//NONSGML v1.0//EN
CALSCALE:GREGORIAN
METHOD:PUBLISH
X-WR-CALNAME:UCSF - Universidad Católica de Santa Fe
X-ORIGINAL-URL:https://www.ucsf.edu.ar
X-WR-CALDESC:Events for UCSF - Universidad Católica de Santa Fe
REFRESH-INTERVAL;VALUE=DURATION:PT1H
X-Robots-Tag:noindex
X-PUBLISHED-TTL:PT1H
BEGIN:VTIMEZONE
TZID:America/Argentina/Buenos_Aires
BEGIN:STANDARD
TZOFFSETFROM:-0300
TZOFFSETTO:-0300
TZNAME:-03
DTSTART:20250101T000000
END:STANDARD
END:VTIMEZONE
BEGIN:VEVENT
DTSTART;TZID=America/Argentina/Buenos_Aires:20250429T184500
DTEND;TZID=America/Argentina/Buenos_Aires:20250429T203000
DTSTAMP:20260420T032313
CREATED:20250428T191516Z
LAST-MODIFIED:20250428T191516Z
UID:82100-1745952300-1745958600@www.ucsf.edu.ar
SUMMARY:Peregrinación de la UCSF a Guadalupe
DESCRIPTION:Un año más nos reunimos como Comunidad Universitaria para peregrinar a la Casa de nuestra Madre y Patrona\, la Virgen de Guadalupe. \nEste martes 29 de abril nos convocamos en el hall de la UCSF – Sede Santa Fe\, a las 18.45 hs.\, para participar de la Novena y Misa en la Basílica de Guadalupe. \n¡Los esperamos! \nDepartamento de Pastoral.
URL:https://www.ucsf.edu.ar/evento/peregrinacion-de-la-ucsf-a-guadalupe/
LOCATION:UCSF Santa Fe\, Echagüe 7151\, Santa Fe\, Santa Fe\, Argentina
CATEGORIES:Pastoral,Cultura: coros y teatro,Alumnos,Deportes,Docentes,Personal UCSF,Ciclos de complementación,Vicerrectorado de Formación,Comunidad,Bienestar universitario
ATTACH;FMTTYPE=image/png:https://www.ucsf.edu.ar/wp-content/uploads/2025/04/La-UCSF-peregrina-a-Guadalupe_feed.png
GEO:-31.6069451;-60.6709418
X-APPLE-STRUCTURED-LOCATION;VALUE=URI;X-ADDRESS=UCSF Santa Fe Echagüe 7151 Santa Fe Santa Fe Argentina;X-APPLE-RADIUS=500;X-TITLE=Echagüe 7151:geo:-60.6709418,-31.6069451
END:VEVENT
END:VCALENDAR