BEGIN:VCALENDAR
VERSION:2.0
PRODID:-//UCSF - Universidad Católica de Santa Fe - ECPv5.14.2.1//NONSGML v1.0//EN
CALSCALE:GREGORIAN
METHOD:PUBLISH
X-WR-CALNAME:UCSF - Universidad Católica de Santa Fe
X-ORIGINAL-URL:https://www.ucsf.edu.ar
X-WR-CALDESC:Events for UCSF - Universidad Católica de Santa Fe
REFRESH-INTERVAL;VALUE=DURATION:PT1H
X-Robots-Tag:noindex
X-PUBLISHED-TTL:PT1H
BEGIN:VTIMEZONE
TZID:America/Argentina/Buenos_Aires
BEGIN:STANDARD
TZOFFSETFROM:-0300
TZOFFSETTO:-0300
TZNAME:-03
DTSTART:20250101T000000
END:STANDARD
END:VTIMEZONE
BEGIN:VEVENT
DTSTART;TZID=America/Argentina/Buenos_Aires:20251114T150000
DTEND;TZID=America/Argentina/Buenos_Aires:20251114T190000
DTSTAMP:20260419T114717
CREATED:20251015T172812Z
LAST-MODIFIED:20251015T172812Z
UID:88338-1763132400-1763146800@www.ucsf.edu.ar
SUMMARY:Torneo de Ajedrez en UCSF
DESCRIPTION:Los invitamos a participar del Torneo de Ajedrez a llevarse a cabo el 14 de noviembre de 15 a 19 horas.\nLos cupos son limitados y la inscripción libre y gratuita.\nContacto e inscripción: equintana@ucsf.edu.ar
URL:https://www.ucsf.edu.ar/evento/torneo-de-ajedrez-en-ucsf/
LOCATION:UCSF Santa Fe\, Echagüe 7151\, Santa Fe\, Santa Fe\, Argentina
CATEGORIES:Santa Fe,Deportes,Bienestar universitario,Sedes
ATTACH;FMTTYPE=image/jpeg:https://www.ucsf.edu.ar/wp-content/uploads/2025/10/Torneo-ajedrez-2025.jpg
ORGANIZER;CN="Deportes":MAILTO:crodriguez@ucsf.edu.ar
GEO:-31.6069451;-60.6709418
X-APPLE-STRUCTURED-LOCATION;VALUE=URI;X-ADDRESS=UCSF Santa Fe Echagüe 7151 Santa Fe Santa Fe Argentina;X-APPLE-RADIUS=500;X-TITLE=Echagüe 7151:geo:-60.6709418,-31.6069451
END:VEVENT
END:VCALENDAR