BEGIN:VCALENDAR
VERSION:2.0
PRODID:-//UCSF - Universidad Católica de Santa Fe - ECPv5.14.2.1//NONSGML v1.0//EN
CALSCALE:GREGORIAN
METHOD:PUBLISH
X-WR-CALNAME:UCSF - Universidad Católica de Santa Fe
X-ORIGINAL-URL:https://www.ucsf.edu.ar
X-WR-CALDESC:Events for UCSF - Universidad Católica de Santa Fe
REFRESH-INTERVAL;VALUE=DURATION:PT1H
X-Robots-Tag:noindex
X-PUBLISHED-TTL:PT1H
BEGIN:VTIMEZONE
TZID:America/Argentina/Buenos_Aires
BEGIN:STANDARD
TZOFFSETFROM:-0300
TZOFFSETTO:-0300
TZNAME:-03
DTSTART:20240101T000000
END:STANDARD
END:VTIMEZONE
BEGIN:VEVENT
DTSTART;TZID=America/Argentina/Buenos_Aires:20241025T150000
DTEND;TZID=America/Argentina/Buenos_Aires:20241025T190000
DTSTAMP:20260421T023716
CREATED:20241008T144007Z
LAST-MODIFIED:20241008T144007Z
UID:77056-1729868400-1729882800@www.ucsf.edu.ar
SUMMARY:SEGUNDO TORNEO INTERNO DE AJEDREZ UCSF
DESCRIPTION:Los invitamos a participar del Segundo Torneo Interno de Ajedrez UCSF. \nEl mismo se llevará a cabo el día 25 de octubre de 2024\, dando inicio a las 15 horas y finalizando a las 19 horas. \nEstá dirigido a alumnos de grado\, posgrado\, graduados\, docentes\, personal administrativo y de servicio de la UCSF. \nAdemás\, contaremos con la participación de invitados especiales y alumnos de otras Universidades. \nLa inscripción es libre y gratuita y estará abierta hasta una hora antes de comenzar el torneo\, siendo el formato del torneo de 6 rondas sistema Suizo  y el ritmo de juego “Ajedrez Relámpago” o “Blitz” 5+3 (5 minutos para cada jugador\, más 3 segundos de incremento por movimiento). \nLos esperamos en el segundo piso de la Universidad\, Sede Virgen de Guadalupe\, pasillo frente a las aulas.
URL:https://www.ucsf.edu.ar/evento/segundo-torneo-interno-de-ajedrez-ucsf/
LOCATION:UCSF Santa Fe\, Echagüe 7151\, Santa Fe\, Santa Fe\, Argentina
CATEGORIES:Deportes,Bienestar universitario
ATTACH;FMTTYPE=image/png:https://www.ucsf.edu.ar/wp-content/uploads/2024/10/SEGUNDO-TORNEO-DE-AJEDREZ.png
ORGANIZER;CN="Bienestar%20Universitario":MAILTO:debora@furman.com.ar
GEO:-31.6069451;-60.6709418
X-APPLE-STRUCTURED-LOCATION;VALUE=URI;X-ADDRESS=UCSF Santa Fe Echagüe 7151 Santa Fe Santa Fe Argentina;X-APPLE-RADIUS=500;X-TITLE=Echagüe 7151:geo:-60.6709418,-31.6069451
END:VEVENT
BEGIN:VEVENT
DTSTART;TZID=America/Argentina/Buenos_Aires:20241026T090000
DTEND;TZID=America/Argentina/Buenos_Aires:20241026T120000
DTSTAMP:20260421T023716
CREATED:20241008T190629Z
LAST-MODIFIED:20241015T164505Z
UID:77087-1729933200-1729944000@www.ucsf.edu.ar
SUMMARY:Curso de Ofimática e IA del Ecosistema de la UCSF para personal no docente. Copilot
DESCRIPTION:La Secretaría de Ciencia y Técnica\, y Extensión\, conjuntamente con El Programa Universidad Abierta\, la Facultad de Ciencias Económicas\, Ciencias de la Salud\,  Derecho y Ciencia Política\, la Facultad de Ciencias Agrarias y de Arquitectura y Diseño\, comunican que se encuentra abierta la inscripción para el “Curso Ofimática e IA del Ecosistema de la UCSF. Copilot “. \n¿Qué es la Ofimática? \nLa ofimática es la automatización\, mediante sistemas electrónicos\, de las comunicaciones y procesos administrativos en las oficinas. (RAE) \nObjetivos generales: \n1- Comprender el término Ofimática \n2- Conocer el Ecosistema de Microsoft 365 de la UCSF \n3- Profundizar el conocimiento  de Outlook 365 y el de Office 365 \n4- Reafirmar la importancia de la seguridad infomática en el ecosistema de la UCSF \n5- Aportar soluciones a potenciales obstáculos en los procesos administrativos \n6- Integrar herramientas de uso con los demás actores de la Comunidad \n7- Conocer el ABC del ecosistema de IA de la UCSF. \n8- Realizar PROMPY y asistencia con la IA en la redacción de documentos en genraal \nDías y horario: sábados 26 de octubre y 9 de noviembre\, de 9:00 a 12 horas \nDestinatarios: Personal no docente de la UCSF\, en todas sus sedes. Público interesado \nSólo se enviará la dirección de Zoom a quines se hayan  inscripto por medio de este link \n                                                                                ⇓ \nInscripciones:  https://www.eventbrite.com.ar/e/ofimatica-tickets-1042215774437?aff=Inscripciones \nCon evaluación final. Se otorgarán certificados. \nResponsable: Dr. Guillermo Kerz: Vicerrector académico a/c Secretaria Ciencia\, Técnica y Extensión. \nCoordinadora: Carina Banegas (Secretaria de Ciencia\, Técnica y Extensión de la UCSF) \nInformes: Dra. Vanina Sturla: Coordinadora PUA. nsturla@ucsf.edu.ar
URL:https://www.ucsf.edu.ar/evento/77087/
LOCATION:UCSF Santa Fe\, Echagüe 7151\, Santa Fe\, Santa Fe\, Argentina
CATEGORIES:Pastoral,Cultura: coros y teatro,Santa Fe,Deportes,Rosario,Posadas,Personal UCSF,Reconquista,Rafaela,Gualeguaychú,Bienestar universitario,Sedes
ATTACH;FMTTYPE=image/png:https://www.ucsf.edu.ar/wp-content/uploads/2024/10/Curso-ofimatica-e-IA_Flyer-copia-1.png
ORGANIZER;CN="Vicerrectorado%20Acad%C3%A9mico":MAILTO:vrecacad@ucsf.edu.ar
GEO:-31.6069451;-60.6709418
X-APPLE-STRUCTURED-LOCATION;VALUE=URI;X-ADDRESS=UCSF Santa Fe Echagüe 7151 Santa Fe Santa Fe Argentina;X-APPLE-RADIUS=500;X-TITLE=Echagüe 7151:geo:-60.6709418,-31.6069451
END:VEVENT
END:VCALENDAR