BEGIN:VCALENDAR
VERSION:2.0
PRODID:-//UCSF - Universidad Católica de Santa Fe - ECPv5.14.2.1//NONSGML v1.0//EN
CALSCALE:GREGORIAN
METHOD:PUBLISH
X-WR-CALNAME:UCSF - Universidad Católica de Santa Fe
X-ORIGINAL-URL:https://www.ucsf.edu.ar
X-WR-CALDESC:Events for UCSF - Universidad Católica de Santa Fe
REFRESH-INTERVAL;VALUE=DURATION:PT1H
X-Robots-Tag:noindex
X-PUBLISHED-TTL:PT1H
BEGIN:VTIMEZONE
TZID:America/Argentina/Buenos_Aires
BEGIN:STANDARD
TZOFFSETFROM:-0300
TZOFFSETTO:-0300
TZNAME:-03
DTSTART:20240101T000000
END:STANDARD
END:VTIMEZONE
BEGIN:VEVENT
DTSTART;TZID=America/Argentina/Buenos_Aires:20241217T160000
DTEND;TZID=America/Argentina/Buenos_Aires:20241217T170000
DTSTAMP:20260420T234611
CREATED:20241209T224150Z
LAST-MODIFIED:20241210T180543Z
UID:79021-1734451200-1734454800@www.ucsf.edu.ar
SUMMARY:Misa de Navidad
DESCRIPTION:Celebramos la Navidad en Comunidad!\nEl martes 17 de diciembre a las 16 hs.\, en la Capilla de la UCSF Sede “Virgen de Guadalupe”\, se celebrará la MISA DE NAVIDAD con todos los integrantes de la Comunidad Universitaria. \nPediremos al Niño Jesús que nos haga renacer en nuestra fe;  nos haga conmover ante este Misterio y nos transforme en portadores de verdad\, de bondad\, de solidaridad y de perdón.  \n \n  \n 
URL:https://www.ucsf.edu.ar/evento/misa-de-navidad-2/
LOCATION:UCSF Santa Fe\, Echagüe 7151\, Santa Fe\, Santa Fe\, Argentina
CATEGORIES:Pastoral,Alumnos,Cultura: coros y teatro,Docentes,Deportes,Personal UCSF,Vicerrectorado de Formación,Comunidad,Bienestar universitario
GEO:-31.6069451;-60.6709418
X-APPLE-STRUCTURED-LOCATION;VALUE=URI;X-ADDRESS=UCSF Santa Fe Echagüe 7151 Santa Fe Santa Fe Argentina;X-APPLE-RADIUS=500;X-TITLE=Echagüe 7151:geo:-60.6709418,-31.6069451
END:VEVENT
END:VCALENDAR