BEGIN:VCALENDAR
VERSION:2.0
PRODID:-//UCSF - Universidad Católica de Santa Fe - ECPv5.14.2.1//NONSGML v1.0//EN
CALSCALE:GREGORIAN
METHOD:PUBLISH
X-WR-CALNAME:UCSF - Universidad Católica de Santa Fe
X-ORIGINAL-URL:https://www.ucsf.edu.ar
X-WR-CALDESC:Events for UCSF - Universidad Católica de Santa Fe
REFRESH-INTERVAL;VALUE=DURATION:PT1H
X-Robots-Tag:noindex
X-PUBLISHED-TTL:PT1H
BEGIN:VTIMEZONE
TZID:America/Argentina/Buenos_Aires
BEGIN:STANDARD
TZOFFSETFROM:-0300
TZOFFSETTO:-0300
TZNAME:-03
DTSTART:20250101T000000
END:STANDARD
END:VTIMEZONE
BEGIN:VEVENT
DTSTART;VALUE=DATE:20250530
DTEND;VALUE=DATE:20250531
DTSTAMP:20260420T015325
CREATED:20250514T152449Z
LAST-MODIFIED:20250514T152449Z
UID:82451-1748563200-1748649599@www.ucsf.edu.ar
SUMMARY:Tercer Torneo Interno de Ajedrez UCSF
DESCRIPTION:El Viernes 30 DE MAYO DE 2025 de 15 a 19 horas\, se llevará a cabo el Tercer Torneo Interno de Ajedrez en la UCSF\, sede Virgen de Guadalupe \nEl evento será  libre y gratuito pudiendo anotarse  hasta una hora antes del comienzo del torneo. \nSe llevará a cabo en el  2do. Piso\, pasillo frente a las aulas y el formato del torneo será el siguiente: 7 (SIETE) rondas Sistema Suizo. \nRitmo de juego: “Ajedréz Relámpago” o “Blitz” 5+3 (5 minutos para cada jugador\, más 3 segundos de incremento por cada movimiento). \nContacto para consultas e inscripción a la actividad: equintana@ucsf.edu.ar. \nEstá dirigido a Alumnos de grado\, posgrado\, graduados\, docentes\, personal administrativo y de servicio de la UCSF. \nContaremos con la participación de invitados especiales: jugadores federados con ranking ELO y de alumnos de otras universidades \nSe entregarán premios y diplomas para los 3 primeros puestos.
URL:https://www.ucsf.edu.ar/evento/tercer-torneo-interno-de-ajedrez-ucsf/
LOCATION:UCSF Santa Fe\, Echagüe 7151\, Santa Fe\, Santa Fe\, Argentina
CATEGORIES:Santa Fe,Deportes,Bienestar universitario
ATTACH;FMTTYPE=image/jpeg:https://www.ucsf.edu.ar/wp-content/uploads/2025/05/Tercer-torneo-interno-de-ajedez-4.jpg
ORGANIZER;CN="Bienestar%20Universitario":MAILTO:debora@furman.com.ar
GEO:-31.6069451;-60.6709418
X-APPLE-STRUCTURED-LOCATION;VALUE=URI;X-ADDRESS=UCSF Santa Fe Echagüe 7151 Santa Fe Santa Fe Argentina;X-APPLE-RADIUS=500;X-TITLE=Echagüe 7151:geo:-60.6709418,-31.6069451
END:VEVENT
END:VCALENDAR