BEGIN:VCALENDAR
VERSION:2.0
PRODID:-//UCSF - Universidad Católica de Santa Fe - ECPv5.14.2.1//NONSGML v1.0//EN
CALSCALE:GREGORIAN
METHOD:PUBLISH
X-WR-CALNAME:UCSF - Universidad Católica de Santa Fe
X-ORIGINAL-URL:https://www.ucsf.edu.ar
X-WR-CALDESC:Events for UCSF - Universidad Católica de Santa Fe
REFRESH-INTERVAL;VALUE=DURATION:PT1H
X-Robots-Tag:noindex
X-PUBLISHED-TTL:PT1H
BEGIN:VTIMEZONE
TZID:America/Argentina/Buenos_Aires
BEGIN:STANDARD
TZOFFSETFROM:-0300
TZOFFSETTO:-0300
TZNAME:-03
DTSTART:20250101T000000
END:STANDARD
END:VTIMEZONE
BEGIN:VEVENT
DTSTART;TZID=America/Argentina/Buenos_Aires:20251010T080000
DTEND;TZID=America/Argentina/Buenos_Aires:20251010T170000
DTSTAMP:20260420T015320
CREATED:20251009T223850Z
LAST-MODIFIED:20251009T224450Z
UID:88090-1760083200-1760115600@www.ucsf.edu.ar
SUMMARY:Competencias deportivas interuniversitarias en Reconquista
DESCRIPTION:inscripciones hasta el 11/10 con la Profe Lina o el Profe Maxi
URL:https://www.ucsf.edu.ar/evento/competencias-deportivas-interuniversitarias-en-reconquista/
LOCATION:UCSF Sede Reconquista\, Ludueña 612\, Reconquista\, Santa Fe\, Argentina
CATEGORIES:Deportes,Reconquista
ATTACH;FMTTYPE=image/jpeg:https://www.ucsf.edu.ar/wp-content/uploads/2025/10/WhatsApp-Image-2025-10-04-at-09.55.05.jpeg
GEO:-29.1437691;-59.641047
X-APPLE-STRUCTURED-LOCATION;VALUE=URI;X-ADDRESS=UCSF Sede Reconquista Ludueña 612 Reconquista Santa Fe Argentina;X-APPLE-RADIUS=500;X-TITLE=Ludueña 612:geo:-59.641047,-29.1437691
END:VEVENT
BEGIN:VEVENT
DTSTART;TZID=America/Argentina/Buenos_Aires:20251011T080000
DTEND;TZID=America/Argentina/Buenos_Aires:20251011T220000
DTSTAMP:20260420T015320
CREATED:20251009T224543Z
LAST-MODIFIED:20251009T224543Z
UID:88095-1760169600-1760220000@www.ucsf.edu.ar
SUMMARY:Competencias deportivas interuniversitarias en Reconquista
DESCRIPTION:inscripciones hasta el 11/10 con la Profe Lina o el Profe Maxi
URL:https://www.ucsf.edu.ar/evento/competencias-deportivas-interuniversitarias-en-reconquista-2/
LOCATION:UCSF Sede Reconquista\, Ludueña 612\, Reconquista\, Santa Fe\, Argentina
CATEGORIES:Deportes,Reconquista
ATTACH;FMTTYPE=image/jpeg:https://www.ucsf.edu.ar/wp-content/uploads/2025/10/WhatsApp-Image-2025-10-04-at-09.55.05.jpeg
GEO:-29.1437691;-59.641047
X-APPLE-STRUCTURED-LOCATION;VALUE=URI;X-ADDRESS=UCSF Sede Reconquista Ludueña 612 Reconquista Santa Fe Argentina;X-APPLE-RADIUS=500;X-TITLE=Ludueña 612:geo:-59.641047,-29.1437691
END:VEVENT
END:VCALENDAR