BEGIN:VCALENDAR
VERSION:2.0
PRODID:-//UCSF - Universidad Católica de Santa Fe - ECPv5.14.2.1//NONSGML v1.0//EN
CALSCALE:GREGORIAN
METHOD:PUBLISH
X-WR-CALNAME:UCSF - Universidad Católica de Santa Fe
X-ORIGINAL-URL:https://www.ucsf.edu.ar
X-WR-CALDESC:Events for UCSF - Universidad Católica de Santa Fe
REFRESH-INTERVAL;VALUE=DURATION:PT1H
X-Robots-Tag:noindex
X-PUBLISHED-TTL:PT1H
BEGIN:VTIMEZONE
TZID:America/Argentina/Buenos_Aires
BEGIN:STANDARD
TZOFFSETFROM:-0300
TZOFFSETTO:-0300
TZNAME:-03
DTSTART:20230101T000000
END:STANDARD
END:VTIMEZONE
BEGIN:VEVENT
DTSTART;TZID=America/Argentina/Buenos_Aires:20230523T183000
DTEND;TZID=America/Argentina/Buenos_Aires:20230523T203000
DTSTAMP:20260425T214030
CREATED:20230522T145207Z
LAST-MODIFIED:20230522T180107Z
UID:60440-1684866600-1684873800@www.ucsf.edu.ar
SUMMARY:Cátedra abierta "Gerontopsicomotricidad"
DESCRIPTION:CÁTEDRA ABIERTA ‘GERONTOPSICOMOTRICIDAD: LA INTERVENCIÓN ES TAMBIÉN CON EL ESPACIO Y LAS RUTINAS’ \n \nLa Gerontopsicomotricidad es una especialidad de la Psicomotricidad muy nueva en Argentina\, mientras en otros países cuenta con una larga trayectoria. \nEs importante difundir la especificidad de la intervención psicomotriz en un mundo con un creciente envejecimiento poblacional\, para así comenzar con acciones preventivas tendientes a potenciar un envejecimiento satisfactorio\, como también dar a conocer el aporte de la Psicomotricidad en los desafíos del envejecimiento. \nDestinatarios/as: Comunidad educativa de UCSF y público en general \nModalidad: Virtual sincrónica/grabada \nDisertantes: Ms. y Lic. Catarina Branquinho (Portugal) \nOrganiza: Lic. Marcela Carta. Cátedra: Psicomotricidad en la Tercera Edad. CCC Lic en Psicomotricidad \nInscripciones: https://www.eventbrite.com.ar/e/catedra-abierta-gerontopsicomotricidad-la-intervencion-es-tambien-con-el-tickets-640584484437?aff=Inscripciones \nContacto para consultas: patricia.turello@ucsf.edu.ar \nLink de zoom: https://zoom.us/j/94536998408 \n\nID de reunión: 945 3699 8408\nCV CATARINA BRANQUINHO \nPsicomotricista. Licenciatura en Rehabilitación Psicomotriz (2015) y Máster en Rehabilitación Psicomotriz (2018) en la Facultad de Motricidad Humana de la Universidad de Lisboa. Curso de posgrado en Formación en Psicomotricidad con adultos mayores desde una perspectiva de derecho en la Universidad Provincial de Córdoba (2021). \nÁreas de investigación y práctica psicomotriz: intervención psicomotriz con personas mayores en diferentes contextos (institucional\, comunitario y domiciliario) y con sus cuidadores\, especialmente con personas con demencia moderada y avanzada y cuidados paliativos. Materiales en Gerontopsicomotricidad. \n 
URL:https://www.ucsf.edu.ar/evento/catedra-abierta-gerontopsicomotricidad/
LOCATION:UCSF Santa Fe\, Echagüe 7151\, Santa Fe\, Santa Fe\, Argentina
CATEGORIES:Pastoral,Alumnos,Santa Fe,Docentes,Rosario,Carreras de Grado,Licenciatura en Gerontología (CCC),Farmacia,Personal UCSF,Ciclos de complementación,Reconquista,Rafaela,Comunidad,Sedes,Licenciatura en Psicomotricidad (CCC),Licenciatura en Seguridad Alimentaria (CCC),Licenciatura en Fonoaudiología,Licenciatura en Kinesiología y Fisioterapia,Licenciatura en Nutrición,Licenciatura en Obstetricia,Licenciatura en Terapia Ocupacional,IIFCS Instituto de Investigación de la Facultad de Ciencias de la Salud
ORGANIZER;CN="Facultad%20de%20Ciencias%20de%20la%20Salud":MAILTO:salud@ucsf.edu.ar
GEO:-31.6069451;-60.6709418
X-APPLE-STRUCTURED-LOCATION;VALUE=URI;X-ADDRESS=UCSF Santa Fe Echagüe 7151 Santa Fe Santa Fe Argentina;X-APPLE-RADIUS=500;X-TITLE=Echagüe 7151:geo:-60.6709418,-31.6069451
END:VEVENT
END:VCALENDAR