BEGIN:VCALENDAR
VERSION:2.0
PRODID:-//UCSF - Universidad Católica de Santa Fe - ECPv5.14.2.1//NONSGML v1.0//EN
CALSCALE:GREGORIAN
METHOD:PUBLISH
X-WR-CALNAME:UCSF - Universidad Católica de Santa Fe
X-ORIGINAL-URL:https://www.ucsf.edu.ar
X-WR-CALDESC:Events for UCSF - Universidad Católica de Santa Fe
REFRESH-INTERVAL;VALUE=DURATION:PT1H
X-Robots-Tag:noindex
X-PUBLISHED-TTL:PT1H
BEGIN:VTIMEZONE
TZID:America/Argentina/Buenos_Aires
BEGIN:STANDARD
TZOFFSETFROM:-0300
TZOFFSETTO:-0300
TZNAME:-03
DTSTART:20230101T000000
END:STANDARD
END:VTIMEZONE
BEGIN:VEVENT
DTSTART;TZID=America/Argentina/Buenos_Aires:20231021T083000
DTEND;TZID=America/Argentina/Buenos_Aires:20231125T130000
DTSTAMP:20260424T124316
CREATED:20230922T140747Z
LAST-MODIFIED:20231010T141059Z
UID:64534-1697877000-1700917200@www.ucsf.edu.ar
SUMMARY:Curso de Posgrado: “Fertilidad y Salud Reproductiva en 360°: abordaje integral”.
DESCRIPTION:Curso de Posgrado: ￼ \n“Fertilidad y Salud Reproductiva en 360°: abordaje integral”. \nDirector del Curso: Maximino Sandra. Doctoranda en Cs de Salud. Magíster en Salud Materno Infantil. Licenciada en Nutrición. MP 1306. E-mail: sandramaximino@ucsf.edu.ar \nCo-Director: María Virginia Borga. Master en Salud Global. Magister en Nutrición Humana. Licenciada en Nutrición. MP 1140. E-mail: vborga@ucsf.edu.ar \nMODALIDAD \n100% Virtual \nLas clases serán grabadas y cargadas en el aula virtual del Curso. \nDESTINATARIOS \n\nIntegrantes de equipos de Salud\nMédicos en general\, Médicos ginecólogos\nLicenciados en Psicología\nLicenciados en Nutrición\nLicenciados en Obstetricia\n\nAGENDA \nDías: sábados 21 y 28 de octubre 2023 y sábados 4\, 11\,18 y 25 de noviembre (6 encuentros) \nHorarios:  de 8:30 a 13 hs (8:30 a 9:15; 9:30 a 10:15 recreo 11:00 a 11:45\, 12 a 12:45) \nCarga horaria total: 20 hs (45 min x 4 charlas x encuentro x 6 encuentros=18 hs + evaluación 2 hs)obstetri \nFUNDAMENTACIÓN \nLos indicadores sobre la Salud Reproductiva a nivel global no son alentadores a pesar de los esfuerzos en torno a esta problemática. \nSegún indica un nuevo informe publicado por la Organización Mundial de la Salud (OMS) en abril de 2023\, muchas personas padecen esterilidad en algún momento de su vida. Cerca del 17\,5% de los adultos (es decir\, alrededor de uno de cada seis) presentan este problema\, por lo que resulta urgente aumentar el acceso a una atención de la esterilidad asequible y de calidad para quienes la necesitan. \nDe acuerdo con las nuevas estimaciones\, la prevalencia de la esterilidad varía poco de una región a otra y las tasas son similares en los países de ingresos altos\, medianos y bajos\, lo cual demuestra que se trata de un importante problema de salud pública en todos los países y todas las partes del mundo. \nA pesar de su magnitud de este problema\, las soluciones disponibles para prevenir\, diagnosticar y tratarlo continúan sin recibir suficiente financiación y resultan poco accesibles para muchas personas debido a su elevado costo\, el estigma social y su escasa disponibilidad. \nPor otra parte\, adhiriendo a los Objetivos del Milenio 2030 establecidos por la ONU\, se vislumbra nuestra competencia para sumar acciones tanto en el Objetivo 3. Salud y Bienestar como en el Objetivo 4. Educación de Calidad. Siendo nuestro principal Objetivo formar con una visión integradora de la especialidad\, de la problemática en su contexto\, que requiere del profesional los conocimientos que integren todas las aristas y los avances en esta área. \nOBJETIVOS \n\nBrindar herramientas a los distintos profesionales que intervienen en la Salud Reproductiva\, para comprender la misma de un modo más integral\, apostando a la transdisciplina.\nEncuadrar la Salud Reproductiva con la multiplicidad de aristas que conlleva la forma de vida actual.\nMotivar el desarrollo de un pensamiento crítico como profesionales de la salud respecto de la salud reproductiva.\nBrindar conocimientos de manera integral para el abordaje de salud reproductiva.\nAnalizar la relación entre el cambio climático y la fertilidad\, abordando los desafíos y oportunidades que esto plantea para la salud reproductiva.\nIdentificar los factores que puedan afectar la salud reproductiva (endocrinos\, fisiológicos\, metabólicos\, psicológicos y emocionales)\nComprender como la epigenética pueden influir en la salud reproductiva y el desarrollo fetal.\nAnalizar el impacto del manejo hormonal del estrés en la fertilidad y aprender estrategias para mejorar la respuesta al estrés en el contexto reproductivo.\nReconocer la importancia de los ritmos circadianos y biorritmos en la salud reproductiva.\nEvaluar el cambio de paradigma en la atención médica hacia una perspectiva más integral y humana\, centrada en la persona\, especialmente en el contexto de la salud reproductiva.\nDesarrollar habilidades para brindar un adecuado acompañamiento durante el embarazo de alto riesgo\, considerando las necesidades emocionales y médicas de las personas involucradas.\nDestacar la importancia del acompañamiento profesionales el nacimiento respetado como corolario de todo el proceso de Salud Reproductiva.\n\n CRONOGRAMA:\n21 DE OCTUBRE\nMÓDULO I:  \nAspectos éticos profesionales. Legislación Vigente.\nDra. Karina Elmir (Rosario) \nSalud endócrina como eje de la salud preconcepcional.\nDra. Patricia Monasterolo (Santa Fe) \nPreservación de la Fertilidad /factor masculino.\nDra. Idelma Serpa. (Rosario)\n \n28 DE OCTUBRE\nMÓDULO 2:  \nMicrobiota en la mujer y Fertilidad.\nDra Lorena Keller (Mar del Plata) \nLaboratorios del rango de referencia al rango óptimo.\nLic. Nutrición Cecilia Ponce. (Bs. As) \nAutoinmunidad y genética\nDra. Lucia Fragnoli (Santa Fe) \nHormonas y ciclo natural.\nDra. Ingrid Paul. (Santa Fe)\n \n4 DE NOVIEMBRE\nMÓDULO 3:\nAspectos Psicológicos de la Salud Reproductiva. Duelo.\nPs. Romina Cellerino. (Santa Fe) \nRol del Estrés en la fertilidad y los tratamientos desde la psicoinmunoneuroendocrinología\nPs Tatiana Lipowi. (Santa Fe) \nComo los profesionales debemos dar diagnósticos adversos. Impacto del dx adverso.\nPs Daniela Gastaldi y Lic Pamela Rosi (Bahía Blanca virtual)\n \n11 DE NOVIEMBRE\nMÓDULO 4:\nDisruptores endocrinos y Fertilidad.\nDra. Guillermina Canesini (Santa Fe) \nCuidado de la Salud Reproductiva.\nDra. Mónica Bonin. (Córdoba-virtual) \nNutrición en fertilidad y Disruptores Endocrinos.\nMg. Lic. Sandra Maximino. (Santa Fe) \nCambio Climático y Fertilidad.\nMg. Lic. Virginia Borga. (Santa Fe)\n \n18 DE NOVIEMBRE\nMÓDULO 5:\nManejo hormonal /adrenal del estrés.\nDra. Delfina Zelaschi. (Paraguay) \nActividad física en su función endocrina.\nLic. Prof. Camila Marín. (Santa Fe) \nRitmos circadianos y biorritmos.\nLic. Caren Früh. (Santa Fe) \nEpigenética. Uso de Probióticos/Suplementos.\nLic. Virginia Yodice. (Santa Fe)\n \n25 DE NOVIEMBRE\nMÓDULO 6:\nAcompañamiento del embarazo de alto riesgo.\nDra. Lucia Vazquez. (Bs. As) \nEl valor anticipatorio de las imágenes\nDra. Andrea Stechina. (Santa Fe) \nAcompañamiento de nacimiento.\nDra. Sabrina Diez. (Santa Fe) \nNacimiento. Parto respetado en Argentina.\nLic. Florencia Bustos (Santa Fe) \nNacimiento. Parto respetado en Alemania.\nLic. Karen Fried (Alemania-Virtual) \n  \nEVALUACIÓN: la misma será un cuestionario cerrado de opción múltiple que abarca contenidos principales de todas las clases. El mismo será aprobando con un 60% de las respuestas correctas. \nCERTIFICACION: la UCSF emitirá el certificado a quienes tengan el examen final aprobado con nota 6 o superior y no más de 2 inasistencias. \nINVERSION POR PARTICIPANTE: \n44.000 pesos argentinos (los 6 módulos) \nSiendo 40.000 pesos si el pago se efectúa hasta el 06/10/23 inclusive. \n*Para aquellos alumnos UCSF interesados en participar\, se dará un beneficio de 2 por 1. \nCONSULTAS E INSCRIPCIÓN: salud@ucsf.edu.ar
URL:https://www.ucsf.edu.ar/evento/curso-de-posgrado-fertilidad-y-salud-reproductiva-en-360-abordaje-integral/
LOCATION:UCSF Santa Fe\, Echagüe 7151\, Santa Fe\, Santa Fe\, Argentina
CATEGORIES:Carreras de Grado,Farmacia,Ciclos de complementación,Comunidad,Bienestar universitario,Sedes,Licenciatura en Fonoaudiología,Licenciatura en Kinesiología y Fisioterapia,Licenciatura en Nutrición,Licenciatura en Obstetricia,Licenciatura en Terapia Ocupacional
ATTACH;FMTTYPE=image/png:https://www.ucsf.edu.ar/wp-content/uploads/2023/09/Fertilidad-y-Salud-Reproductiva-en-360_Novedades.png
GEO:-31.6069451;-60.6709418
X-APPLE-STRUCTURED-LOCATION;VALUE=URI;X-ADDRESS=UCSF Santa Fe Echagüe 7151 Santa Fe Santa Fe Argentina;X-APPLE-RADIUS=500;X-TITLE=Echagüe 7151:geo:-60.6709418,-31.6069451
END:VEVENT
END:VCALENDAR