BEGIN:VCALENDAR
VERSION:2.0
PRODID:-//UCSF - Universidad Católica de Santa Fe - ECPv5.14.2.1//NONSGML v1.0//EN
CALSCALE:GREGORIAN
METHOD:PUBLISH
X-WR-CALNAME:UCSF - Universidad Católica de Santa Fe
X-ORIGINAL-URL:https://www.ucsf.edu.ar
X-WR-CALDESC:Events for UCSF - Universidad Católica de Santa Fe
REFRESH-INTERVAL;VALUE=DURATION:PT1H
X-Robots-Tag:noindex
X-PUBLISHED-TTL:PT1H
BEGIN:VTIMEZONE
TZID:America/Argentina/Buenos_Aires
BEGIN:STANDARD
TZOFFSETFROM:-0300
TZOFFSETTO:-0300
TZNAME:-03
DTSTART:20240101T000000
END:STANDARD
END:VTIMEZONE
BEGIN:VEVENT
DTSTART;TZID=America/Argentina/Buenos_Aires:20240606T190000
DTEND;TZID=America/Argentina/Buenos_Aires:20240606T210000
DTSTAMP:20260421T222321
CREATED:20240530T211039Z
LAST-MODIFIED:20240606T141227Z
UID:72391-1717700400-1717707600@www.ucsf.edu.ar
SUMMARY:Clase abierta sobre alimentación\, deglución y trastornos afines.
DESCRIPTION:Consideraciones Teórico – Prácticas con Relación a la Alimentación\, Deglución Y Trastornos Afines.\nTIPO DE ACTIVIDAD: CLASE ABIERTA \nFECHA: 6/6/24 \nHORA: 19 HS \nLUGAR: UCSF-AULA 3.7-Echagüe 7151-Santa Fe \nDISERTANTES: Lic. En Fonoaudiología Gómez Verónica\, alumnos de 5° año y ex alumnos \nDESTINATARIOS/AS: Alumnos de carreras de Nutrición\, TO\, Fonoaudiología. Público interesado. \nOBJETIVOS Y FUNDAMENTACIÓN DE LA ACTIVIDAD: Dar a conocer la fisiología de la deglución y sus alteraciones. Conocer la diferencia entre una disfagia orofaríngea y una neurogénica. Cuáles son los signos y síntomas asociados. Que aspectos tener en cuenta a la hora de alimentar a un niño. Qué maniobras compensatorias se pueden utilizar. Cuánto tiempo dura la alimentación. Importancia de postura. Alimentos adaptados. Importancia de la higiene oral. \nCONTACTO PARA CONSULTAS: vgomez@ucsf.edu.ar
URL:https://www.ucsf.edu.ar/evento/consideraciones-teorico-practicas-con-relacion-a-la-alimentacion-deglucion-y-trastornos-afines/
LOCATION:UCSF Santa Fe\, Echagüe 7151\, Santa Fe\, Santa Fe\, Argentina
CATEGORIES:Carreras de Grado,Farmacia,Comunidad,Sedes,Licenciatura en Psicomotricidad (CCC),Licenciatura en Fonoaudiología,Licenciatura en Kinesiología y Fisioterapia,Licenciatura en Nutrición,Licenciatura en Terapia Ocupacional,IIFCS Instituto de Investigación de la Facultad de Ciencias de la Salud
ATTACH;FMTTYPE=image/jpeg:https://www.ucsf.edu.ar/wp-content/uploads/2024/05/Consideraciones-Teorico-Practicas-En-Relacion-Con-La-Alimentacion-Deglucion-Y-Trastornos-Afines_web.jpg
GEO:-31.6069451;-60.6709418
X-APPLE-STRUCTURED-LOCATION;VALUE=URI;X-ADDRESS=UCSF Santa Fe Echagüe 7151 Santa Fe Santa Fe Argentina;X-APPLE-RADIUS=500;X-TITLE=Echagüe 7151:geo:-60.6709418,-31.6069451
END:VEVENT
END:VCALENDAR