BEGIN:VCALENDAR
VERSION:2.0
PRODID:-//UCSF - Universidad Católica de Santa Fe - ECPv5.14.2.1//NONSGML v1.0//EN
CALSCALE:GREGORIAN
METHOD:PUBLISH
X-WR-CALNAME:UCSF - Universidad Católica de Santa Fe
X-ORIGINAL-URL:https://www.ucsf.edu.ar
X-WR-CALDESC:Events for UCSF - Universidad Católica de Santa Fe
REFRESH-INTERVAL;VALUE=DURATION:PT1H
X-Robots-Tag:noindex
X-PUBLISHED-TTL:PT1H
BEGIN:VTIMEZONE
TZID:America/Argentina/Buenos_Aires
BEGIN:STANDARD
TZOFFSETFROM:-0300
TZOFFSETTO:-0300
TZNAME:-03
DTSTART:20250101T000000
END:STANDARD
END:VTIMEZONE
BEGIN:VEVENT
DTSTART;TZID=America/Argentina/Buenos_Aires:20251003T160000
DTEND;TZID=America/Argentina/Buenos_Aires:20251003T190000
DTSTAMP:20260419T223358
CREATED:20251002T145427Z
LAST-MODIFIED:20251002T150315Z
UID:87676-1759507200-1759518000@www.ucsf.edu.ar
SUMMARY:Defensa de Tesis: María Isabel Ramírez – Doctorado en Educación – Universidad Católica de Santa Fe-
DESCRIPTION:Link de ZOOM \n 
URL:https://www.ucsf.edu.ar/evento/defensa-de-tesis-maria-isabel-ramirez-doctorado-en-educacion-universidad-catolica-de-santa-fe/
LOCATION:Vía Zoom\, Argentina
CATEGORIES:A distancia,Alumnos,Santa Fe,Docentes,Rosario,Personal UCSF,Posadas,Reconquista,Carreras de Posgrado,Departamento de Posgrados,Comunidad,Doctorado en Educación,Posgrados,Maestría en Educación,Sedes
ATTACH;FMTTYPE=image/png:https://www.ucsf.edu.ar/wp-content/uploads/2025/10/Maria-Isabel-Ramirez-1.png
END:VEVENT
END:VCALENDAR