BEGIN:VCALENDAR
VERSION:2.0
PRODID:-//UCSF - Universidad Católica de Santa Fe - ECPv5.14.2.1//NONSGML v1.0//EN
CALSCALE:GREGORIAN
METHOD:PUBLISH
X-WR-CALNAME:UCSF - Universidad Católica de Santa Fe
X-ORIGINAL-URL:https://www.ucsf.edu.ar
X-WR-CALDESC:Events for UCSF - Universidad Católica de Santa Fe
REFRESH-INTERVAL;VALUE=DURATION:PT1H
X-Robots-Tag:noindex
X-PUBLISHED-TTL:PT1H
BEGIN:VTIMEZONE
TZID:America/Argentina/Buenos_Aires
BEGIN:STANDARD
TZOFFSETFROM:-0300
TZOFFSETTO:-0300
TZNAME:-03
DTSTART:20250101T000000
END:STANDARD
END:VTIMEZONE
BEGIN:VEVENT
DTSTART;TZID=America/Argentina/Buenos_Aires:20251119T180000
DTEND;TZID=America/Argentina/Buenos_Aires:20251119T193000
DTSTAMP:20260419T181314
CREATED:20251106T121104Z
LAST-MODIFIED:20251106T121104Z
UID:89273-1763575200-1763580600@www.ucsf.edu.ar
SUMMARY:Ciclo de charlas: Ejercicios filosóficos – Edición Noviembre
DESCRIPTION:“Ejercicios Filosóficos” surge como una iniciativa del Instituto de Filosofía de la Facultad de Filosofía y Humanidades de la UCSF con el propósito de recuperar una forma de filosofar que trascienda los formatos académicos tradicionales y fomente el pensamiento en acto. \nA diferencia de la lógica de la conferencia magistral o del saber cerrado\, esta propuesta se orienta hacia una práctica filosófica viva\, en la que el diálogo\, la espontaneidad y la apertura a la incertidumbre sean los ejes fundamentales. Se ofrece un ámbito para el desarrollo del pensamiento crítico y la participación activa de docentes\, estudiantes y miembros de la comunidad académica\, ampliando el horizonte de discusión y reflexión. \nUna vez al mes se presenta el ciclo a cargo de diversos referentes del área.  Este 19 de noviembre a las 18 horas Gabriel Calligaro  presentará “El Ascenso transmoderno de China: una interpretación de la geopolítica contemporánea desde la crítica histórica de Enrique Dussel”.  \nAula 3.14 \nActividad no arancelada y sin inscripción previa.
URL:https://www.ucsf.edu.ar/evento/ciclo-de-charlas-ejercicios-filosoficos-edicion-noviembre/
LOCATION:UCSF Santa Fe\, Echagüe 7151\, Santa Fe\, Santa Fe\, Argentina
CATEGORIES:Licenciatura en Filosofía (CCC),Licenciatura en Filosofía,Profesorado de Filosofía (CCC)
ATTACH;FMTTYPE=image/png:https://www.ucsf.edu.ar/wp-content/uploads/2025/04/Ciclo-de-charlas_web.png
GEO:-31.6069451;-60.6709418
X-APPLE-STRUCTURED-LOCATION;VALUE=URI;X-ADDRESS=UCSF Santa Fe Echagüe 7151 Santa Fe Santa Fe Argentina;X-APPLE-RADIUS=500;X-TITLE=Echagüe 7151:geo:-60.6709418,-31.6069451
END:VEVENT
BEGIN:VEVENT
DTSTART;TZID=America/Argentina/Buenos_Aires:20251125T100000
DTEND;TZID=America/Argentina/Buenos_Aires:20251125T170000
DTSTAMP:20260419T181314
CREATED:20251113T175558Z
LAST-MODIFIED:20251120T182824Z
UID:89463-1764064800-1764090000@www.ucsf.edu.ar
SUMMARY:Jornada "Entre el pasado y el futuro: Hannah Arendt\, 50 años después"
DESCRIPTION:Jornada: “Entre el pasado y el futuro: Hannah Arendt\, 50 años después” \n📍 Modalidad híbrida – Aula 3:51 \n🕙 25 de noviembre | 10 a 17 h \nA medio siglo de su fallecimiento\, Hannah Arendt sigue siendo una pensadora clave para comprender los desafíos del presente. En esta jornada\, reflexionaremos sobre su legado y su vigencia en temas como educación\, política\, moral\, religión y libertad en la esfera pública. \n🎙 Exponen: \n\nProf. Federico Aldao (UCSF – UNL): ¿Y si la novedad no nos educa? Hannah Arendt y el sentido de educar entre el pasado y el futuro.\nDr. Federico Viola (CONICET – UCSF): La desaparición del actuar: política\, moral y religión en la era de la fe política.\nProf. Julio Sales (UCSF – UNL): El pensamiento republicano en Hannah Arendt: Libertad y participación ciudadana en la esfera pública.\nDr. Gerardo Galetto (UNL – UNR): La secularización\, ¿Un proyecto incompleto? Reflexiones desde el pensamiento de Hannah Arendt.\n\n✅ Actividad no arancelada y sin inscripción previa. \nOrganiza: Instituto de Filosofía – FFH UCSF \n📩 Más info: institutofilosofia@ucsf.edu.ar \nLink de zoom: https://zoom.us/j/97826401938 \n¡Te esperamos para cerrar el año con una jornada de reflexión y diálogo sobre una de las grandes pensadoras del siglo XX!
URL:https://www.ucsf.edu.ar/evento/jornada-entre-el-pasado-y-el-futuro-hannah-arendt-50-anos-despues/
LOCATION:UCSF Santa Fe\, Echagüe 7151\, Santa Fe\, Santa Fe\, Argentina
CATEGORIES:A distancia,Santa Fe,Licenciatura en Filosofía (CCC),Rosario,Reconquista,Filosofía y Humanidades,Concordia,Licenciatura en Filosofía,Profesorado de Filosofía (CCC)
ATTACH;FMTTYPE=image/jpeg:https://www.ucsf.edu.ar/wp-content/uploads/2025/11/Hannah-Arendt_web.jpg
GEO:-31.6069451;-60.6709418
X-APPLE-STRUCTURED-LOCATION;VALUE=URI;X-ADDRESS=UCSF Santa Fe Echagüe 7151 Santa Fe Santa Fe Argentina;X-APPLE-RADIUS=500;X-TITLE=Echagüe 7151:geo:-60.6709418,-31.6069451
END:VEVENT
BEGIN:VEVENT
DTSTART;TZID=America/Argentina/Buenos_Aires:20260312T190000
DTEND;TZID=America/Argentina/Buenos_Aires:20260317T200000
DTSTAMP:20260419T181314
CREATED:20260223T172324Z
LAST-MODIFIED:20260223T172324Z
UID:91768-1773342000-1773777600@www.ucsf.edu.ar
SUMMARY:Ciclo de Conversaciones en torno al Pacto Educativo Global
DESCRIPTION:En el marco del “Ciclo de Conversaciones entorno al Pacto Educativo Global” invitamos al 2do encuentro\, titulado “El ritmo de lo posible: mujeres y niñas creando nuevas formas de participar”\, a cargo de la Dra. Graciela Dibo e Itatí Barrionuevo. \nLa actividad es organizada por el equipo de investigación y extensión sobre el Pacto Educativo Global\, de la Facultad de Filosofía y Humanidades de la Universidad Católica de Santa Fe. \nEste encuentro se realiza de forma gratuita y virtual el día jueves 12 de marzo de 19 a 20 horas. \nEn los diversos encuentros del ciclo se aborda el Pacto Educativo en relación al rol de la mujer\, la justicia social\, la política\, la economía\, lo lúdico y el arte. \nPara inscribirte y recibir el enlace del encuentro\, escribir a ssangoi@ucsf.edu.ar  \n¡Te esperamos!
URL:https://www.ucsf.edu.ar/evento/ciclo-de-conversaciones-en-torno-al-pacto-educativo-global-2/
LOCATION:UCSF Santa Fe\, Echagüe 7151\, Santa Fe\, Santa Fe\, Argentina
CATEGORIES:Pastoral,Licenciatura en Ciencias Sociales (CCC),A distancia,Alumnos,Cultura: coros y teatro,Licenciatura en Filosofía (CCC),Docentes,Carreras de Grado,Personal UCSF,Licenciatura en Gestión de la Educación (CCC),Filosofía y Humanidades,Licenciatura en Ciencias de la Comunicación,Bienestar universitario,Licenciatura en Medios Digitales (CCC),Licenciatura en Ciencias de la Educación,Licenciatura en Filosofía,Profesorado de Filosofía (CCC),Profesorado en Ciencias de la Educación,Profesorado en Enseñanza Superior
ATTACH;FMTTYPE=image/jpeg:https://www.ucsf.edu.ar/wp-content/uploads/2026/02/Pacto-educativo-global_AGENDA.jpg
GEO:-31.6069451;-60.6709418
X-APPLE-STRUCTURED-LOCATION;VALUE=URI;X-ADDRESS=UCSF Santa Fe Echagüe 7151 Santa Fe Santa Fe Argentina;X-APPLE-RADIUS=500;X-TITLE=Echagüe 7151:geo:-60.6709418,-31.6069451
END:VEVENT
BEGIN:VEVENT
DTSTART;TZID=America/Argentina/Buenos_Aires:20260409T183000
DTEND;TZID=America/Argentina/Buenos_Aires:20260409T203000
DTSTAMP:20260419T181314
CREATED:20260318T170655Z
LAST-MODIFIED:20260409T145515Z
UID:92499-1775759400-1775766600@www.ucsf.edu.ar
SUMMARY:Ciclo de Conversaciones en torno al Pacto Educativo Global - Abril 2026
DESCRIPTION:En el marco del “Ciclo de Conversaciones entorno al Pacto Educativo Global” invitamos al 3er encuentro titulado “La educación como gesto de justicia: caminos posibles para construir lo común” a cargo del Dr. Carlos Cantero y el Prof. Dario Ravea. \nLa actividad es organizada por el equipo de investigación y extensión sobre el Pacto Educativo Global\, de la Facultad de Filosofía y Humanidades de la Universidad Católica de Santa Fe. \nEste encuentro se realiza de forma gratuita y presencial en el Multiespacio UCSF (Moreno 2906) el día jueves 9 de abril de 18:30 a 20:30 horas. \nEn los diversos encuentros del ciclo se aborda el Pacto Educativo en relación al rol de la mujer\, la justicia social\, la política\, la economía\, lo lúdico y el arte. \nPara inscribirte y recibir el enlace del encuentro\, escribir a ssangoi@ucsf.edu.ar  \n¡Te esperamos!
URL:https://www.ucsf.edu.ar/evento/ciclo-de-conversaciones-en-torno-al-pacto-educativo-global-abril-2026/
LOCATION:Multiespacio UCSF\, Moreno 2906\, Santa Fe\, Santa Fe\, 3000\, Argentina
CATEGORIES:Pastoral,Licenciatura en Ciencias Sociales (CCC),A distancia,Alumnos,Cultura: coros y teatro,Licenciatura en Filosofía (CCC),Docentes,Carreras de Grado,Personal UCSF,Licenciatura en Gestión de la Educación (CCC),Filosofía y Humanidades,Licenciatura en Ciencias de la Comunicación,Bienestar universitario,Licenciatura en Medios Digitales (CCC),Licenciatura en Ciencias de la Educación,Licenciatura en Filosofía,Profesorado de Filosofía (CCC),Profesorado en Ciencias de la Educación,Profesorado en Enseñanza Superior
ATTACH;FMTTYPE=image/jpeg:https://www.ucsf.edu.ar/wp-content/uploads/2026/02/Pacto-educativo-global_AGENDA.jpg
END:VEVENT
BEGIN:VEVENT
DTSTART;TZID=America/Argentina/Buenos_Aires:20260423T180000
DTEND;TZID=America/Argentina/Buenos_Aires:20260423T190000
DTSTAMP:20260419T181314
CREATED:20260408T202827Z
LAST-MODIFIED:20260408T202827Z
UID:93095-1776967200-1776970800@www.ucsf.edu.ar
SUMMARY:Ciclo Ejercicios Filosóficos Abril 2026 - "Sesgo ontológico y crisis del mundo común..."
DESCRIPTION:Damos inicio a un nuevo año del ciclo Ejercicios Filosóficos\, una propuesta del Instituto de Filosofía de la Facultad de Filosofía y Humanidades de la UCSF\, que busca sostener espacios de encuentro donde la filosofía se despliegue como una práctica viva\, abierta al diálogo y al pensamiento compartido. \nEl ciclo invita a la comunidad académica y al público en general a participar de instancias en las que el ejercicio filosófico se entiende no solo como reflexión teórica\, sino como una forma de interrogar críticamente nuestra experiencia del presente y los modos en que habitamos el mundo. \nLa propuesta busca ofrecer preguntas y promover una práctica filosófica entendida como ejercicio colectivo. En el encuentro  de abril 2026 contaremos con la participación del Dr. Federico Viola\, quien compartirá su trabajo en el marco de este espacio de intercambio\, reflexión y apertura al pensamiento\, con la ponencia titulada “Sesgo ontológico y crisis del mundo común: narración\, identidad y patología política”. \nLos esperamos en el aula 1.12 (Echagüe 7151\, Santa Fe) el jueves 23 de abril  a las 18 horas.  \n¡Nos vemos!
URL:https://www.ucsf.edu.ar/evento/ciclo-ejercicios-filosoficos-abril-2026-sesgo-ontologico-y-crisis-del-mundo-comun/
LOCATION:UCSF Santa Fe\, Echagüe 7151\, Santa Fe\, Santa Fe\, Argentina
CATEGORIES:Licenciatura en Filosofía (CCC),Licenciatura en Filosofía
ATTACH;FMTTYPE=image/png:https://www.ucsf.edu.ar/wp-content/uploads/2025/04/Ciclo-de-charlas_web.png
GEO:-31.6069451;-60.6709418
X-APPLE-STRUCTURED-LOCATION;VALUE=URI;X-ADDRESS=UCSF Santa Fe Echagüe 7151 Santa Fe Santa Fe Argentina;X-APPLE-RADIUS=500;X-TITLE=Echagüe 7151:geo:-60.6709418,-31.6069451
END:VEVENT
END:VCALENDAR