BEGIN:VCALENDAR
VERSION:2.0
PRODID:-//UCSF - Universidad Católica de Santa Fe - ECPv5.14.2.1//NONSGML v1.0//EN
CALSCALE:GREGORIAN
METHOD:PUBLISH
X-WR-CALNAME:UCSF - Universidad Católica de Santa Fe
X-ORIGINAL-URL:https://www.ucsf.edu.ar
X-WR-CALDESC:Events for UCSF - Universidad Católica de Santa Fe
REFRESH-INTERVAL;VALUE=DURATION:PT1H
X-Robots-Tag:noindex
X-PUBLISHED-TTL:PT1H
BEGIN:VTIMEZONE
TZID:America/Argentina/Buenos_Aires
BEGIN:STANDARD
TZOFFSETFROM:-0300
TZOFFSETTO:-0300
TZNAME:-03
DTSTART:20250101T000000
END:STANDARD
END:VTIMEZONE
BEGIN:VEVENT
DTSTART;TZID=America/Argentina/Buenos_Aires:20250315T100000
DTEND;TZID=America/Argentina/Buenos_Aires:20250315T120000
DTSTAMP:20260421T002725
CREATED:20250311T134000Z
LAST-MODIFIED:20250312T152447Z
UID:80872-1742032800-1742040000@www.ucsf.edu.ar
SUMMARY:Workshop. Herramientas básicas de IA para la escritura académica
DESCRIPTION:                                                                Escuela de verano \nLa Secretaría de Ciencia y Técnica\, y Extensión; el Programa Universidad Abierta y la Facultad de Ciencia de la Salud de la UCSF\, comunican que se encuentra abierta la inscripción al: “Workshop. Herramientas básicas de IA para la escritura académica” \nFundamentación\nEste workshop tiene como objetivo explorar el uso de herramientas de inteligencia artificial en la escritura académica. A través del análisis y la práctica con herramientas como Copilot\, ChatPDF y Jenni\, los participantes podrán evaluar su eficacia y utilidad en distintas etapas del proceso de redacción. Se promoverá un enfoque crítico y reflexivo sobre el impacto de estas tecnologías en la producción de textos académicos. \nObjetivos\n• Conocer y explorar el funcionamiento de Copilot\, ChatPDF y Jenni en el contexto de la escritura académica.\n• Aplicar cada herramienta en ejercicios prácticos para evaluar sus capacidades y limitaciones.\n• Comparar los resultados generados por la IA con el trabajo realizado manualmente por los participantes.\n• Reflexionar sobre los beneficios y desafíos del uso de IA en la escritura académica. \nContenidos\nEl workshop estará estructurado en tres bloques:\n1. Introducción a las herramientas: breve presentación de Copilot\, ChatPDF y Jenni\, con ejemplos de aplicación en textos académicos.\n2. Ejercicios prácticos: cada participante utilizará las herramientas en la generación\, síntesis o mejora de textos académicos y comparará los resultados con su propio trabajo.\n3. Discusión y conclusiones: espacio de debate para compartir experiencias\, reflexionar sobre los resultados y discutir el impacto de la IA en la escritura académica. \nDisertante: Dr. En Ciencias Biológicas – Lic. en Biotecnología: Federico Adrián Fookes \nDía y horario: Sábado 15 de marzo\, de 10 a 12 horas \nDestinatarios: Personal docente y alumnos de la UCSF. Público en general. \n¡Importante! el link de Zoom se enviará de forma automática para quienes se inscriban a través de este link. \n    ⇓ \nInscripciones: https://www.eventbrite.com.ar/e/workshop-herramientas-basicas-de-ia-para-la-escritura-academica-tickets-1279165421209?aff=Inscripciones \nRequisitos para el desarrollo de curso: \nTener una cuenta en un chat de LLM (Copilot o ChatGPT).\nTener una cuenta en ChatPDF.com.\nTener una cuenta en Jenni.ai.\nAdemás\, es deseable que cada participante seleccione un artículo (científico\, académico\, apunte de cátedra de su área de conocimiento\, o similar) y escriba un párrafo breve resumiendo su contenido. \nInformes: Dra. Vanina Sturla: Coordinadora PUA. nsturla@ucsf.edu.ar
URL:https://www.ucsf.edu.ar/evento/workshop-herramientas-basicas-de-ia-para-la-escritura-academica/
LOCATION:UCSF Santa Fe\, Echagüe 7151\, Santa Fe\, Santa Fe\, Argentina
CATEGORIES:Editorial,Alumnos,Santa Fe,Docentes,Rosario,Posadas,Reconquista,Rafaela,Gualeguaychú,Comunidad,Sedes,Extensión,Investigación
ATTACH;FMTTYPE=image/png:https://www.ucsf.edu.ar/wp-content/uploads/2024/11/Escritura-Academica-Cientifica-IA-Y-CITAVI.png
ORGANIZER;CN="Vicerrectorado%20Acad%C3%A9mico":MAILTO:vrecacad@ucsf.edu.ar
GEO:-31.6069451;-60.6709418
X-APPLE-STRUCTURED-LOCATION;VALUE=URI;X-ADDRESS=UCSF Santa Fe Echagüe 7151 Santa Fe Santa Fe Argentina;X-APPLE-RADIUS=500;X-TITLE=Echagüe 7151:geo:-60.6709418,-31.6069451
END:VEVENT
END:VCALENDAR