BEGIN:VCALENDAR
VERSION:2.0
PRODID:-//UCSF - Universidad Católica de Santa Fe - ECPv5.14.2.1//NONSGML v1.0//EN
CALSCALE:GREGORIAN
METHOD:PUBLISH
X-WR-CALNAME:UCSF - Universidad Católica de Santa Fe
X-ORIGINAL-URL:https://www.ucsf.edu.ar
X-WR-CALDESC:Events for UCSF - Universidad Católica de Santa Fe
REFRESH-INTERVAL;VALUE=DURATION:PT1H
X-Robots-Tag:noindex
X-PUBLISHED-TTL:PT1H
BEGIN:VTIMEZONE
TZID:America/Argentina/Buenos_Aires
BEGIN:STANDARD
TZOFFSETFROM:-0300
TZOFFSETTO:-0300
TZNAME:-03
DTSTART:20250101T000000
END:STANDARD
END:VTIMEZONE
BEGIN:VEVENT
DTSTART;TZID=America/Argentina/Buenos_Aires:20250805T183000
DTEND;TZID=America/Argentina/Buenos_Aires:20251028T203000
DTSTAMP:20260419T231655
CREATED:20250704T194853Z
LAST-MODIFIED:20250704T195205Z
UID:84105-1754418600-1761683400@www.ucsf.edu.ar
SUMMARY:Seminario Abierto de Posgrado. "Perspectivas Filosóficas del Quehacer Educativo"- MAE UCSF-
DESCRIPTION:
URL:https://www.ucsf.edu.ar/evento/seminario-abierto-de-posgrado-perspectivas-filosoficas-del-quehacer-educativo-mae-ucsf/
LOCATION:Virtual\, Argentina
CATEGORIES:A distancia,Santa Fe,Alumnos,Rosario,Docentes,Posadas,Personal UCSF,Reconquista,Carreras de Posgrado,Comunidad,Posgrados,Sedes,Maestría en Educación
ATTACH;FMTTYPE=image/png:https://www.ucsf.edu.ar/wp-content/uploads/2025/07/PERSPECTIVAS-FILOSOFICAS-DEL-QUEHACER-FILOSOFICO_feed-scaled.png
ORGANIZER;CN="Posgrado":MAILTO:posgrado@ucsf.edu.ar
END:VEVENT
BEGIN:VEVENT
DTSTART;VALUE=DATE:20250806
DTEND;VALUE=DATE:20250901
DTSTAMP:20260419T231655
CREATED:20250806T131221Z
LAST-MODIFIED:20250807T174946Z
UID:84935-1754438400-1756684799@www.ucsf.edu.ar
SUMMARY:CONCURSOS ANUALES DE LITERATURA Y FOTOGRAFIA UCSF 2025
DESCRIPTION:Hasta el 31 de agosto tenes tiempo de enviar tu obra literaria y/o fotografía al mail de cultura@ucsf.edu.ar \nTe dejo el link bases y animate a participar. \nEl primer premio de cada concurso recibirá una suma estímulo de $50.000.- \nwww.ucsf.edu.ar/concurso
URL:https://www.ucsf.edu.ar/evento/concursos-anuales-de-literatura-y-fotografia-ucsf-2025/
LOCATION:UCSF Santa Fe\, Echagüe 7151\, Santa Fe\, Santa Fe\, Argentina
CATEGORIES:Santa Fe,Alumnos,Docentes,Posadas,Personal UCSF,Reconquista,Comunidad,Sedes
ATTACH;FMTTYPE=image/jpeg:https://www.ucsf.edu.ar/wp-content/uploads/2025/08/conucurso-anual-cultural-2026.jpg
ORGANIZER;CN="Bienestar%20Universitario":MAILTO:debora@furman.com.ar
GEO:-31.6069451;-60.6709418
X-APPLE-STRUCTURED-LOCATION;VALUE=URI;X-ADDRESS=UCSF Santa Fe Echagüe 7151 Santa Fe Santa Fe Argentina;X-APPLE-RADIUS=500;X-TITLE=Echagüe 7151:geo:-60.6709418,-31.6069451
END:VEVENT
BEGIN:VEVENT
DTSTART;TZID=America/Argentina/Buenos_Aires:20250813T160000
DTEND;TZID=America/Argentina/Buenos_Aires:20250813T170000
DTSTAMP:20260419T231655
CREATED:20250721T164639Z
LAST-MODIFIED:20250721T164639Z
UID:84325-1755100800-1755104400@www.ucsf.edu.ar
SUMMARY:Presentación la tercera edición del libro “Tratado de derecho civil: parte general”
DESCRIPTION:El  Dr. Guillermo Borda y el Dr. Juan Manuel Lezcano\, docente de la UCSF\, presentarán la tercera edición de su libro “Tratado de derecho civil: parte general” \nLa obra cuenta con las nuevas modificaciones hechas en la reforma constitucional de 1994 y la reforma del Código Civil y Comercial de la Nación. \nBorda y Lezcano explicaron que su obra se estructura en tres partes fundamentales: el sujeto\, el objeto y la causa. En lo que respecta al sujeto\, subrayaron la importancia crucial de los derechos de las personas\, haciendo especial hincapié en el principio de capacidad o autonomía progresiva de los menores y el derecho a la intimidad. “El derecho del niño\, el ser oído y que su opinión sea valorada y tenida en cuenta según su edad y grado de madurez son paradigmas del nuevo poder”\, destacó Borda. \nEl libro mantiene la línea coherente de ediciones anteriores\, adaptándose a las tendencias actuales en el ámbito del derecho. Esta tercera edición cuenta con un prólogo dedicado al Dr. Borda\, padre del autor y reconocido juez civil\, ministro de la Corte Suprema de Justicia y ministro de Interior.
URL:https://www.ucsf.edu.ar/evento/presentacion-la-tercera-edicion-del-libro-tratado-de-derecho-civil-parte-general/
LOCATION:UCSF Sede Santos Mártires – Posadas\, Rademacher 3943\, Posadas\, Misiones\, Argentina
CATEGORIES:Abogacía,Facultades,Alumnos,Carreras de Grado,Docentes,Posadas,Derecho y Ciencia Política,Comunidad,IDPI Instituto de Derecho Público y de la Investigación,Sedes,Institutos,Notariado
ATTACH;FMTTYPE=image/jpeg:https://www.ucsf.edu.ar/wp-content/uploads/2025/07/presentacion-libro_web.jpg
GEO:-27.3859693;-55.896416
X-APPLE-STRUCTURED-LOCATION;VALUE=URI;X-ADDRESS=UCSF Sede Santos Mártires – Posadas Rademacher 3943 Posadas Misiones Argentina;X-APPLE-RADIUS=500;X-TITLE=Rademacher 3943:geo:-55.896416,-27.3859693
END:VEVENT
END:VCALENDAR