BEGIN:VCALENDAR
VERSION:2.0
PRODID:-//UCSF - Universidad Católica de Santa Fe - ECPv5.14.2.1//NONSGML v1.0//EN
CALSCALE:GREGORIAN
METHOD:PUBLISH
X-WR-CALNAME:UCSF - Universidad Católica de Santa Fe
X-ORIGINAL-URL:https://www.ucsf.edu.ar
X-WR-CALDESC:Events for UCSF - Universidad Católica de Santa Fe
REFRESH-INTERVAL;VALUE=DURATION:PT1H
X-Robots-Tag:noindex
X-PUBLISHED-TTL:PT1H
BEGIN:VTIMEZONE
TZID:America/Argentina/Buenos_Aires
BEGIN:STANDARD
TZOFFSETFROM:-0300
TZOFFSETTO:-0300
TZNAME:-03
DTSTART:20250101T000000
END:STANDARD
END:VTIMEZONE
BEGIN:VEVENT
DTSTART;TZID=America/Argentina/Buenos_Aires:20250805T183000
DTEND;TZID=America/Argentina/Buenos_Aires:20251028T203000
DTSTAMP:20260419T120926
CREATED:20250704T194853Z
LAST-MODIFIED:20250704T195205Z
UID:84105-1754418600-1761683400@www.ucsf.edu.ar
SUMMARY:Seminario Abierto de Posgrado. "Perspectivas Filosóficas del Quehacer Educativo"- MAE UCSF-
DESCRIPTION:
URL:https://www.ucsf.edu.ar/evento/seminario-abierto-de-posgrado-perspectivas-filosoficas-del-quehacer-educativo-mae-ucsf/
LOCATION:Virtual\, Argentina
CATEGORIES:A distancia,Santa Fe,Alumnos,Rosario,Docentes,Posadas,Personal UCSF,Reconquista,Carreras de Posgrado,Comunidad,Posgrados,Sedes,Maestría en Educación
ATTACH;FMTTYPE=image/png:https://www.ucsf.edu.ar/wp-content/uploads/2025/07/PERSPECTIVAS-FILOSOFICAS-DEL-QUEHACER-FILOSOFICO_feed-scaled.png
ORGANIZER;CN="Posgrado":MAILTO:posgrado@ucsf.edu.ar
END:VEVENT
BEGIN:VEVENT
DTSTART;VALUE=DATE:20251004
DTEND;VALUE=DATE:20261006
DTSTAMP:20260419T120926
CREATED:20251002T203627Z
LAST-MODIFIED:20251002T204554Z
UID:87688-1759536000-1791244799@www.ucsf.edu.ar
SUMMARY:Convocatoria para publicación de artículos en Krínein Revista de Educación - Edición Especial-
DESCRIPTION:
URL:https://www.ucsf.edu.ar/evento/convocatoria-para-publicacion-de-articulos-en-krinein-revista-de-educacion-edicion-especila/
LOCATION:UCSF Santa Fe\, Echagüe 7151\, Santa Fe\, Santa Fe\, Argentina
CATEGORIES:A distancia,Santa Fe,Especialización en Gestión de la Transformación Digital,Maestría en Evaluación de Impacto y Gestión Ambiental,Alumnos,Docentes,Rosario,Especialización en Análisis Económico y Gestión en las Cadenas de Valor Agroalimentarias,Posadas,Especialización en Derecho Procesal,Personal UCSF,Reconquista,Carreras de Posgrado,Especialización en Gestión Integral del Hábitat,Departamento de Posgrados,Doctorado en Ciencias Jurídicas,Comunidad,Doctorado en Educación,Posgrados,Maestría en Sustentabilidad Ambiental,Sedes,Maestría en Educación,Maestría en Proyecto Arquitectónico y Urbano,Maestría en Relaciones Internacionales
ATTACH;FMTTYPE=image/jpeg:https://www.ucsf.edu.ar/wp-content/uploads/2025/10/Convocatoria-Krinein-25_generica-con-espacio-para-link-1.jpg
ORGANIZER;CN="Posgrado":MAILTO:posgrado@ucsf.edu.ar
GEO:-31.6069451;-60.6709418
X-APPLE-STRUCTURED-LOCATION;VALUE=URI;X-ADDRESS=UCSF Santa Fe Echagüe 7151 Santa Fe Santa Fe Argentina;X-APPLE-RADIUS=500;X-TITLE=Echagüe 7151:geo:-60.6709418,-31.6069451
END:VEVENT
BEGIN:VEVENT
DTSTART;TZID=America/Argentina/Buenos_Aires:20251004T080000
DTEND;TZID=America/Argentina/Buenos_Aires:20251017T130000
DTSTAMP:20260419T120926
CREATED:20251013T014239Z
LAST-MODIFIED:20251013T014240Z
UID:88100-1759564800-1760706000@www.ucsf.edu.ar
SUMMARY:Ponele Voz a la Salud Mental
DESCRIPTION:Ciclo de Encuentros para la formación\, el diálogo y la construcción colectiva en torno a la Salud Mental\nCronograma \nSábado 04/10 de 09 a 14hs: “Desafíos actuales en Salud Mental” Colegio de Profesionales  de la Psicología de Santa Fe; Centro de Estudiantes Facultad de Psicología UCSF y Facultad de Psicología UCSF Aula 1.27 \nMiércoles 08/10  de 11 a 14hs: Stand de Promoción de la Salud Mental y Prevención de los consumos problemáticos. Dirección de Abordajes de Consumos problemáticos. Subsecretaría de Salud. Secretaria de Políticas Sociales. Municipalidad de Santa Fe. Hall de la UCSF. \n Jueves 09/10 de 16 a 18hs: “La Dimensión Relacional de la Salud Mental” Esp. Ana Luisa Natta y Lic. Daniela Mendieta. Aula 3.7 \nLunes 13/10 de 9 a 11hs: “Conversatorio: a 15 años de la Ley de Salud Mental 26657. Crisis y oportunidades” Órgano de Revisión y Promoción de de Salud Mental. Secretaria Ejecutiva Lucrecia Faccioli y Equipo Técnico Interdisciplinario (ETI). Aula 3.7 \nMartes 14/10 de 9 a 11hs: “Más allá del PESO: Reflexiones actuales sobre los desórdenes alimentarios en el campo de la salud mental” Lic. Merlina Luciani y Lic. Brenda Vanney. Aula 3.7 \nMiércoles 15/10 de 9.30 a 11hs: “Problemática Actuales de salud mental. Abordaje integral de autolesiones\, intentos de suicidio y suicidios consumados” Lic. Cristina Gentile\, Programa Provincial de Abordaje de Suicidio. Ministerio de Salud de la Provincia. Aula 3.7 \nJueves 16/10 de 10 a 13hs: “Taller de Promoción de la Salud Mental y Prevención de los Consumos Problemáticos” Dirección de Abordajes de Consumos problemáticos. Subsecretaría de Salud. Secretaria de Políticas Sociales. Municipalidad de Santa Fe. Aula 3.7 \nViernes 17/10 de 10 a 13hs: Debate “Voces Visibles: Salud Mental a Través de Cortometrajes y Testimonios” Equipo de Conducción Facultad de Psicología UCSF. Aula 3.7 \n  \nDestinatarios: docentes\, profesionales\, alumnos/as de carreras a fines y publico interesado en las temáticas propuestas. \nTodas las actividades son presenciales\, gratuitas y abiertas a la comunidad. \nContacto para más info: danielamendieta@ucsf.edu.ar
URL:https://www.ucsf.edu.ar/evento/ponele-voz-a-la-salud-mental-2/
LOCATION:UCSF Santa Fe\, Echagüe 7151\, Santa Fe\, Santa Fe\, Argentina
CATEGORIES:Pastoral,Santa Fe,Facultades,Alumnos,Carreras de Grado,Docentes,Personal UCSF,Psicología,Comunidad,Bienestar universitario,Sedes,Licenciatura en Psicología,IIEP Instituto de Investigaciones y Extensión en Psicología,Licenciatura en Psicopedagogía
ATTACH;FMTTYPE=image/jpeg:https://www.ucsf.edu.ar/wp-content/uploads/2025/10/WhatsApp-Image-2025-10-12-at-9.17.42-PM.jpeg
ORGANIZER;CN="Facultad%20de%20Psicolog%C3%ADa":MAILTO:ralarcon@ucsf.edu.ar
GEO:-31.6069451;-60.6709418
X-APPLE-STRUCTURED-LOCATION;VALUE=URI;X-ADDRESS=UCSF Santa Fe Echagüe 7151 Santa Fe Santa Fe Argentina;X-APPLE-RADIUS=500;X-TITLE=Echagüe 7151:geo:-60.6709418,-31.6069451
END:VEVENT
BEGIN:VEVENT
DTSTART;TZID=America/Argentina/Buenos_Aires:20251013T080000
DTEND;TZID=America/Argentina/Buenos_Aires:20251013T170000
DTSTAMP:20260419T120926
CREATED:20251013T164519Z
LAST-MODIFIED:20251013T164519Z
UID:88204-1760342400-1760374800@www.ucsf.edu.ar
SUMMARY:Presentación de Proyecto de Extensión sobre innovación y acompañamiento  curricular en secundarias
DESCRIPTION:El próximo 7 de noviembre\, el equipo que lleva a cabo del Proyecto de Extensión:  “Innovación y acompañamiento de la gestión curricular en escuelas secundarias de la provincia de Santa Fe” (RCS 7689/25) presentará de manera virtual las principales líneas del proyecto y los pasos a seguir para su puesta en marcha. \nSe convoca a docentes\, directivos y supervisores de escuelas secundarias pertenecientes a la Junta Arquidiocesana de Educación para que puedan conocer y participar activamente de esta iniciativa desarrollada por docentes de carreras de educación y por el Instituto de Investigación de Educación Argentina de la Facultad de Filosofía y Humanidades de la UCSF. \nSe compartirá una propuesta centrada en capacidades básicas transversales y en el desarrollo de un plan de lectura para cada escuela secundaria. \nPara solicitar link de inscripción y liga de zoom\, escribir a iiea@ucsf.edu.ar
URL:https://www.ucsf.edu.ar/evento/presentacion-de-proyecto-de-extension-sobre-innovacion-y-acompanamiento-curricular-en-secundarias/
LOCATION:UCSF Santa Fe\, Echagüe 7151\, Santa Fe\, Santa Fe\, Argentina
CATEGORIES:Licenciatura en Ciencias Sociales (CCC),A distancia,Santa Fe,Alumnos,Rosario,Docentes,Licenciatura en Gestión de la Educación (CCC),Reconquista,Filosofía y Humanidades,Concordia,Profesorado en Historia (CCC),Profesorado en Lengua y Literatura (CCC),Profesorado en Educación Primaria
ATTACH;FMTTYPE=image/jpeg:https://www.ucsf.edu.ar/wp-content/uploads/2025/10/Innovacion-y-acompanamiento-de-la-gestion-curricular-en-escuelas-secundarias-de-la-provincia-de-Santa-Fe_web.jpg
GEO:-31.6069451;-60.6709418
X-APPLE-STRUCTURED-LOCATION;VALUE=URI;X-ADDRESS=UCSF Santa Fe Echagüe 7151 Santa Fe Santa Fe Argentina;X-APPLE-RADIUS=500;X-TITLE=Echagüe 7151:geo:-60.6709418,-31.6069451
END:VEVENT
BEGIN:VEVENT
DTSTART;TZID=America/Argentina/Buenos_Aires:20251013T090000
DTEND;TZID=America/Argentina/Buenos_Aires:20251013T110000
DTSTAMP:20260419T120926
CREATED:20251013T022111Z
LAST-MODIFIED:20251013T022112Z
UID:88105-1760346000-1760353200@www.ucsf.edu.ar
SUMMARY:Conversatorio: a 15 años de la Ley de Salud Mental 26.657. Crisis y Oportunidades
DESCRIPTION:Lunes 13/10 de 9 a 11hs: “Conversatorio: a 15 años de la Ley de Salud Mental 26657. Crisis y oportunidades” \nÓrgano de Revisión y Promoción de de Salud Mental. Secretaria Ejecutiva Lucrecia Faccioli y Equipo Técnico Interdisciplinario (ETI). Aula 3.7
URL:https://www.ucsf.edu.ar/evento/conversatorio-a-15-anos-de-la-ley-de-salud-mental-26-657-crisis-y-oportunidades/
LOCATION:UCSF Santa Fe\, Echagüe 7151\, Santa Fe\, Santa Fe\, Argentina
CATEGORIES:Pastoral,Santa Fe,Facultades,Alumnos,Carreras de Grado,Docentes,Personal UCSF,Ciclos de complementación,Psicología,Comunidad,Bienestar universitario,Sedes,Licenciatura en Psicología,IIEP Instituto de Investigaciones y Extensión en Psicología,Licenciatura en Psicopedagogía
ATTACH;FMTTYPE=image/jpeg:https://www.ucsf.edu.ar/wp-content/uploads/2025/10/Ponele-Voz_feed-4-1.jpg
ORGANIZER;CN="Facultad%20de%20Psicolog%C3%ADa":MAILTO:ralarcon@ucsf.edu.ar
GEO:-31.6069451;-60.6709418
X-APPLE-STRUCTURED-LOCATION;VALUE=URI;X-ADDRESS=UCSF Santa Fe Echagüe 7151 Santa Fe Santa Fe Argentina;X-APPLE-RADIUS=500;X-TITLE=Echagüe 7151:geo:-60.6709418,-31.6069451
END:VEVENT
BEGIN:VEVENT
DTSTART;TZID=America/Argentina/Buenos_Aires:20251013T170000
DTEND;TZID=America/Argentina/Buenos_Aires:20251013T190000
DTSTAMP:20260419T120926
CREATED:20250523T190710Z
LAST-MODIFIED:20250918T113450Z
UID:82680-1760374800-1760382000@www.ucsf.edu.ar
SUMMARY:Clase Preuniversitaria de Prof. en Ciencias de la Educación en Sede Santa Fe
DESCRIPTION:Te invitamos a participar de las clases preuniversitarias. Las mismas son dictadas por profesores de cada carrera de nuestra Universidad. En cada clase te brindarán información acerca del campo ocupacional  y el perfil profesional de la carrera. Además\, dispondremos de un espacio destinado a despejar dudas y realizar todas las consultas.   \nEstán dirigidas a alumnos de los últimos años del nivel medio en su proceso de decisión vocacional\, y a todos aquellos quienes quieran conocer más acerca de una carrera. Las clases se desarrollarán durante el mes de octubre\, presencialmente\, en sede Santa Fe (Echagüe 7151) En el siguiente link podrás inscribirte\, son abiertas y gratuitas: https://forms.office.com/r/geUQ3XXpU7
URL:https://www.ucsf.edu.ar/evento/clase-preuniversitaria-de-prof-en-ciencias-de-la-educacion-en-sede-santa-fe/
LOCATION:UCSF Santa Fe\, Echagüe 7151\, Santa Fe\, Santa Fe\, Argentina
CATEGORIES:Ingreso,Santa Fe
ORGANIZER;CN="Ingreso":MAILTO:promocion@ucsf.edu.ar
GEO:-31.6069451;-60.6709418
X-APPLE-STRUCTURED-LOCATION;VALUE=URI;X-ADDRESS=UCSF Santa Fe Echagüe 7151 Santa Fe Santa Fe Argentina;X-APPLE-RADIUS=500;X-TITLE=Echagüe 7151:geo:-60.6709418,-31.6069451
END:VEVENT
BEGIN:VEVENT
DTSTART;TZID=America/Argentina/Buenos_Aires:20251013T170000
DTEND;TZID=America/Argentina/Buenos_Aires:20251013T190000
DTSTAMP:20260419T120926
CREATED:20250822T140806Z
LAST-MODIFIED:20251013T023203Z
UID:85716-1760374800-1760382000@www.ucsf.edu.ar
SUMMARY:Trayectorias que se bifurcan. Un análisis sobre el riesgo de desafiliación en estudiantes de la UCU
DESCRIPTION:Modalidad de participación Hibrida.\nLos interesados en participar de este Ciclo de Conferencias pueden hacerlo en Modalidad presencial en el  Aula 3.51-Sede Virgen de Guadalupe o  virtual\, mediante inscripción aquí: https://forms.gle/9cvuTj39VQhHAxxv9\n\nPor consultas comunicarse con Carolina Basilio al email: carolinabasilio@ucsf.edu.ar
URL:https://www.ucsf.edu.ar/evento/trayectorias-que-se-bifurcan/
LOCATION:UCSF Santa Fe\, Echagüe 7151\, Santa Fe\, Santa Fe\, Argentina
CATEGORIES:Santa Fe,Facultades,Alumnos,Rosario,Carreras de Grado,Docentes,Personal UCSF,Reconquista,Psicología,Comunidad,Bienestar universitario,Sedes,IIEP Instituto de Investigaciones y Extensión en Psicología,Licenciatura en Psicología,Licenciatura en Psicopedagogía,IIEP Instituto de Investigaciones y Extensión en Psicología
ATTACH;FMTTYPE=image/jpeg:https://www.ucsf.edu.ar/wp-content/uploads/2025/08/WhatsApp-Image-2025-07-31-at-11.20.56-3-e1755871583893.jpeg
ORGANIZER;CN="Facultad%20de%20Psicolog%C3%ADa":MAILTO:ralarcon@ucsf.edu.ar
GEO:-31.6069451;-60.6709418
X-APPLE-STRUCTURED-LOCATION;VALUE=URI;X-ADDRESS=UCSF Santa Fe Echagüe 7151 Santa Fe Santa Fe Argentina;X-APPLE-RADIUS=500;X-TITLE=Echagüe 7151:geo:-60.6709418,-31.6069451
END:VEVENT
END:VCALENDAR