BEGIN:VCALENDAR
VERSION:2.0
PRODID:-//UCSF - Universidad Católica de Santa Fe - ECPv5.14.2.1//NONSGML v1.0//EN
CALSCALE:GREGORIAN
METHOD:PUBLISH
X-WR-CALNAME:UCSF - Universidad Católica de Santa Fe
X-ORIGINAL-URL:https://www.ucsf.edu.ar
X-WR-CALDESC:Events for UCSF - Universidad Católica de Santa Fe
REFRESH-INTERVAL;VALUE=DURATION:PT1H
X-Robots-Tag:noindex
X-PUBLISHED-TTL:PT1H
BEGIN:VTIMEZONE
TZID:America/Argentina/Buenos_Aires
BEGIN:STANDARD
TZOFFSETFROM:-0300
TZOFFSETTO:-0300
TZNAME:-03
DTSTART:20240101T000000
END:STANDARD
END:VTIMEZONE
BEGIN:VEVENT
DTSTART;TZID=America/Argentina/Buenos_Aires:20240827T190000
DTEND;TZID=America/Argentina/Buenos_Aires:20241112T210000
DTSTAMP:20260421T105345
CREATED:20240814T190319Z
LAST-MODIFIED:20240814T190751Z
UID:75171-1724785200-1731445200@www.ucsf.edu.ar
SUMMARY:Seminarios Abiertos de Posgrado Acreditables a la Espec. en Gestión de la Transformación Digital
DESCRIPTION:
URL:https://www.ucsf.edu.ar/evento/seminarios-abiertos-de-posgrado-acreditables-a-la-esp-en-gestion-de-la-transformacion-digital/
LOCATION:Vía Zoom\, Argentina
CATEGORIES:A distancia,Alumnos,Especialización en Gestión de la Transformación Digital,Santa Fe,Docentes,Rosario,Posadas,Personal UCSF,Reconquista,Carreras de Posgrado,Departamento de Posgrados,Comunidad,Posgrados,Sedes
ATTACH;FMTTYPE=image/jpeg:https://www.ucsf.edu.ar/wp-content/uploads/2024/08/Seminarios-abiertos-de-posgrado_feed.jpg
ORGANIZER;CN="Posgrado":MAILTO:posgrado@ucsf.edu.ar
END:VEVENT
BEGIN:VEVENT
DTSTART;TZID=America/Argentina/Buenos_Aires:20240930T100000
DTEND;TZID=America/Argentina/Buenos_Aires:20240930T103000
DTSTAMP:20260421T105345
CREATED:20240925T223735Z
LAST-MODIFIED:20240927T124527Z
UID:76682-1727690400-1727692200@www.ucsf.edu.ar
SUMMARY:Reconquista. Celebración día de San Jerónimo
DESCRIPTION: 
URL:https://www.ucsf.edu.ar/evento/reconquista-celebracion-dia-de-san-jeronimo/
LOCATION:UCSF Sede Reconquista\, Ludueña 612\, Reconquista\, Santa Fe\, Argentina
CATEGORIES:Alumnos,Docentes,Personal UCSF,Reconquista,Comunidad,Sedes
ATTACH;FMTTYPE=image/png:https://www.ucsf.edu.ar/wp-content/uploads/2024/09/San-jeronimo_Mesa-de-trabajo-1.png
GEO:-29.1437691;-59.641047
X-APPLE-STRUCTURED-LOCATION;VALUE=URI;X-ADDRESS=UCSF Sede Reconquista Ludueña 612 Reconquista Santa Fe Argentina;X-APPLE-RADIUS=500;X-TITLE=Ludueña 612:geo:-59.641047,-29.1437691
END:VEVENT
BEGIN:VEVENT
DTSTART;TZID=America/Argentina/Buenos_Aires:20240930T180000
DTEND;TZID=America/Argentina/Buenos_Aires:20240930T183000
DTSTAMP:20260421T105345
CREATED:20240925T224039Z
LAST-MODIFIED:20240925T224154Z
UID:76688-1727719200-1727721000@www.ucsf.edu.ar
SUMMARY:Reconquista.Celebracion dia de San Jeronimo
DESCRIPTION: 
URL:https://www.ucsf.edu.ar/evento/reconquista-celebracion-dia-de-san-jeronimo-2/
LOCATION:UCSF Sede Reconquista\, Ludueña 612\, Reconquista\, Santa Fe\, Argentina
CATEGORIES:Alumnos,Docentes,Personal UCSF,Reconquista,Comunidad,Sedes
ATTACH;FMTTYPE=image/png:https://www.ucsf.edu.ar/wp-content/uploads/2024/09/San-jeronimo_Mesa-de-trabajo-1.png
GEO:-29.1437691;-59.641047
X-APPLE-STRUCTURED-LOCATION;VALUE=URI;X-ADDRESS=UCSF Sede Reconquista Ludueña 612 Reconquista Santa Fe Argentina;X-APPLE-RADIUS=500;X-TITLE=Ludueña 612:geo:-59.641047,-29.1437691
END:VEVENT
BEGIN:VEVENT
DTSTART;TZID=America/Argentina/Buenos_Aires:20241001T180000
DTEND;TZID=America/Argentina/Buenos_Aires:20241001T200000
DTSTAMP:20260421T105345
CREATED:20240528T174346Z
LAST-MODIFIED:20240925T181754Z
UID:72243-1727805600-1727812800@www.ucsf.edu.ar
SUMMARY:Clase Preuniversitaria de Farmacia en Sede Santa Fe
DESCRIPTION:Te invitamos a participar de las clases preuniversitarias. Las mismas son dictadas por profesores de cada carrera de nuestra Universidad. En cada clase te brindarán información acerca del campo ocupacional  y el perfil profesional de la carrera. Además\, dispondremos de un espacio destinado a despejar dudas y realizar todas las consultas.   \nEstán dirigidas a alumnos de los últimos años del nivel medio en su proceso de decisión vocacional\, y a todos aquellos quienes quieran conocer más acerca de una carrera. Las clases se desarrollarán durante el mes de octubre\, presencialmente\, en sede Santa Fe (Echagüe 7151) En el siguiente link podrás inscribirte\, son abiertas y gratuitas: https://forms.office.com/r/kitpk5Lh1j
URL:https://www.ucsf.edu.ar/evento/clase-preuniversitaria-de-farmacia-en-sede-santa-fe-4/
LOCATION:UCSF Santa Fe\, Echagüe 7151\, Santa Fe\, Santa Fe\, Argentina
CATEGORIES:Ingreso,Santa Fe
ATTACH;FMTTYPE=image/png:https://www.ucsf.edu.ar/wp-content/uploads/2024/05/CLASES-SANTA-FE-2024_FARMACIA-1.png
ORGANIZER;CN="Ingreso":MAILTO:promocion@ucsf.edu.ar
GEO:-31.6069451;-60.6709418
X-APPLE-STRUCTURED-LOCATION;VALUE=URI;X-ADDRESS=UCSF Santa Fe Echagüe 7151 Santa Fe Santa Fe Argentina;X-APPLE-RADIUS=500;X-TITLE=Echagüe 7151:geo:-60.6709418,-31.6069451
END:VEVENT
BEGIN:VEVENT
DTSTART;TZID=America/Argentina/Buenos_Aires:20241002T170000
DTEND;TZID=America/Argentina/Buenos_Aires:20241002T193000
DTSTAMP:20260421T105345
CREATED:20240927T175306Z
LAST-MODIFIED:20241001T212141Z
UID:76790-1727888400-1727897400@www.ucsf.edu.ar
SUMMARY:Defensa de Tesis - Abog. Guido Gabriel Prieto - Doctorado en Ciencia Jurídica UCSF
DESCRIPTION:Link de ZOOM \n  \n  \n 
URL:https://www.ucsf.edu.ar/evento/defensa-de-tesis-abog-guido-gabriel-prieto-doctorado-en-ciencia-juridica-ucsf/
LOCATION:Vía Zoom\, Argentina
CATEGORIES:A distancia,Alumnos,Santa Fe,Docentes,Rosario,Posadas,Personal UCSF,Reconquista,Carreras de Posgrado,Departamento de Posgrados,Doctorado en Ciencias Jurídicas,Comunidad,Posgrados,Sedes
ATTACH;FMTTYPE=image/png:https://www.ucsf.edu.ar/wp-content/uploads/2024/09/PR.png
ORGANIZER;CN="Posgrado":MAILTO:posgrado@ucsf.edu.ar
END:VEVENT
BEGIN:VEVENT
DTSTART;TZID=America/Argentina/Buenos_Aires:20241003T180000
DTEND;TZID=America/Argentina/Buenos_Aires:20241003T200000
DTSTAMP:20260421T105345
CREATED:20240528T173346Z
LAST-MODIFIED:20240925T182243Z
UID:72231-1727978400-1727985600@www.ucsf.edu.ar
SUMMARY:Clase Preuniversitaria de Contador Público en Sede Santa Fe
DESCRIPTION:Te invitamos a participar de las clases preuniversitarias. Las mismas son dictadas por profesores de cada carrera de nuestra Universidad. En cada clase te brindarán información acerca del campo ocupacional  y el perfil profesional de la carrera. Además\, dispondremos de un espacio destinado a despejar dudas y realizar todas las consultas.   \nEstán dirigidas a alumnos de los últimos años del nivel medio en su proceso de decisión vocacional\, y a todos aquellos quienes quieran conocer más acerca de una carrera. Las clases se desarrollarán durante el mes de octubre\, presencialmente\, en sede Santa Fe (Echagüe 7151) En el siguiente link podrás inscribirte\, son abiertas y gratuitas: https://forms.office.com/r/kitpk5Lh1j
URL:https://www.ucsf.edu.ar/evento/clase-preuniversitaria-de-contador-en-sede-santa-fe-3/
LOCATION:UCSF Santa Fe\, Echagüe 7151\, Santa Fe\, Santa Fe\, Argentina
CATEGORIES:Ingreso,Santa Fe
ATTACH;FMTTYPE=image/png:https://www.ucsf.edu.ar/wp-content/uploads/2024/05/CLASES-SANTA-FE-2024_CONTADOR.png
ORGANIZER;CN="Ingreso":MAILTO:promocion@ucsf.edu.ar
GEO:-31.6069451;-60.6709418
X-APPLE-STRUCTURED-LOCATION;VALUE=URI;X-ADDRESS=UCSF Santa Fe Echagüe 7151 Santa Fe Santa Fe Argentina;X-APPLE-RADIUS=500;X-TITLE=Echagüe 7151:geo:-60.6709418,-31.6069451
END:VEVENT
END:VCALENDAR