BEGIN:VCALENDAR
VERSION:2.0
PRODID:-//UCSF - Universidad Católica de Santa Fe - ECPv5.14.2.1//NONSGML v1.0//EN
CALSCALE:GREGORIAN
METHOD:PUBLISH
X-WR-CALNAME:UCSF - Universidad Católica de Santa Fe
X-ORIGINAL-URL:https://www.ucsf.edu.ar
X-WR-CALDESC:Events for UCSF - Universidad Católica de Santa Fe
REFRESH-INTERVAL;VALUE=DURATION:PT1H
X-Robots-Tag:noindex
X-PUBLISHED-TTL:PT1H
BEGIN:VTIMEZONE
TZID:America/Argentina/Buenos_Aires
BEGIN:STANDARD
TZOFFSETFROM:-0300
TZOFFSETTO:-0300
TZNAME:-03
DTSTART:20240101T000000
END:STANDARD
END:VTIMEZONE
BEGIN:VEVENT
DTSTART;TZID=America/Argentina/Buenos_Aires:20240827T190000
DTEND;TZID=America/Argentina/Buenos_Aires:20241112T210000
DTSTAMP:20260421T092952
CREATED:20240814T190319Z
LAST-MODIFIED:20240814T190751Z
UID:75171-1724785200-1731445200@www.ucsf.edu.ar
SUMMARY:Seminarios Abiertos de Posgrado Acreditables a la Espec. en Gestión de la Transformación Digital
DESCRIPTION:
URL:https://www.ucsf.edu.ar/evento/seminarios-abiertos-de-posgrado-acreditables-a-la-esp-en-gestion-de-la-transformacion-digital/
LOCATION:Vía Zoom\, Argentina
CATEGORIES:A distancia,Santa Fe,Alumnos,Especialización en Gestión de la Transformación Digital,Rosario,Docentes,Posadas,Personal UCSF,Reconquista,Carreras de Posgrado,Departamento de Posgrados,Comunidad,Posgrados,Sedes
ATTACH;FMTTYPE=image/jpeg:https://www.ucsf.edu.ar/wp-content/uploads/2024/08/Seminarios-abiertos-de-posgrado_feed.jpg
ORGANIZER;CN="Posgrado":MAILTO:posgrado@ucsf.edu.ar
END:VEVENT
BEGIN:VEVENT
DTSTART;TZID=America/Argentina/Buenos_Aires:20241014T173000
DTEND;TZID=America/Argentina/Buenos_Aires:20241014T193000
DTSTAMP:20260421T092952
CREATED:20240605T160806Z
LAST-MODIFIED:20250918T121909Z
UID:72636-1728927000-1728934200@www.ucsf.edu.ar
SUMMARY:Clase Preuniversitaria de Abogacía en Sede Posadas
DESCRIPTION:Te invitamos a participar de las clases preuniversitarias. Las mismas son dictadas por profesores de cada carrera de nuestra Universidad. En cada clase te brindarán información acerca del campo ocupacional  y el perfil profesional de la carrera. Además\, dispondremos de un espacio destinado a despejar dudas y realizar todas las consultas.   \nEstán dirigidas a alumnos de los últimos años del nivel medio en su proceso de decisión vocacional\, y a todos aquellos quienes quieran conocer más acerca de una carrera. Las clases se desarrollarán durante el mes de octubre y noviembre\, presencialmente\, en sede Posadas (Rademacher 3943) En el siguiente link podrás inscribirte\, son abiertas y gratuitas: https://forms.office.com/r/KAtkzvfcbQ
URL:https://www.ucsf.edu.ar/evento/clase-preuniversitaria-de-abogacia-en-sede-posadas-3/
LOCATION:UCSF Sede Santos Mártires – Posadas\, Rademacher 3943\, Posadas\, Misiones\, Argentina
CATEGORIES:Ingreso,Santa Fe
ATTACH;FMTTYPE=image/jpeg:https://www.ucsf.edu.ar/wp-content/uploads/2024/06/Clases-preuniversitarias-POSADAS-OCTUBRE_Abogcia.jpg
GEO:-27.3859693;-55.896416
X-APPLE-STRUCTURED-LOCATION;VALUE=URI;X-ADDRESS=UCSF Sede Santos Mártires – Posadas Rademacher 3943 Posadas Misiones Argentina;X-APPLE-RADIUS=500;X-TITLE=Rademacher 3943:geo:-55.896416,-27.3859693
END:VEVENT
BEGIN:VEVENT
DTSTART;TZID=America/Argentina/Buenos_Aires:20241014T180000
DTEND;TZID=America/Argentina/Buenos_Aires:20241014T200000
DTSTAMP:20260421T092952
CREATED:20231017T121420Z
LAST-MODIFIED:20240924T222727Z
UID:65451-1728928800-1728936000@www.ucsf.edu.ar
SUMMARY:Clase Preuniversitaria de Lic. en Diseño Industrial en Sede Santa Fe
DESCRIPTION:Te invitamos a participar de las clases preuniversitarias. Las mismas son dictadas por profesores de cada carrera de nuestra Universidad. En cada clase te brindarán información acerca del campo ocupacional  y el perfil profesional de la carrera. Además\, dispondremos de un espacio destinado a despejar dudas y realizar todas las consultas.   \nEstán dirigidas a alumnos de los últimos años del nivel medio en su proceso de decisión vocacional\, y a todos aquellos quienes quieran conocer más acerca de una carrera. Las clases se desarrollarán durante el mes de octubre\, presencialmente\, en sede Santa Fe (Echagüe 7151) En el siguiente link podrás inscribirte\, son abiertas y gratuitas: https://forms.office.com/r/kitpk5Lh1j
URL:https://www.ucsf.edu.ar/evento/clase-preuniversitaria-de-lic-en-diseno-industrial-en-sede-santa-fe-2/
LOCATION:UCSF Santa Fe\, Echagüe 7151\, Santa Fe\, Santa Fe\, Argentina
CATEGORIES:Ingreso,Santa Fe
ATTACH;FMTTYPE=image/png:https://www.ucsf.edu.ar/wp-content/uploads/2023/10/CLASES-SANTA-FE-2024_DISENO-INDUSTRIAL.png
GEO:-31.6069451;-60.6709418
X-APPLE-STRUCTURED-LOCATION;VALUE=URI;X-ADDRESS=UCSF Santa Fe Echagüe 7151 Santa Fe Santa Fe Argentina;X-APPLE-RADIUS=500;X-TITLE=Echagüe 7151:geo:-60.6709418,-31.6069451
END:VEVENT
BEGIN:VEVENT
DTSTART;TZID=America/Argentina/Buenos_Aires:20241015T173000
DTEND;TZID=America/Argentina/Buenos_Aires:20241015T193000
DTSTAMP:20260421T092952
CREATED:20240605T161834Z
LAST-MODIFIED:20250918T121655Z
UID:72639-1729013400-1729020600@www.ucsf.edu.ar
SUMMARY:Clase Preuniversitaria de Arquitectura en Sede Posadas
DESCRIPTION:Te invitamos a participar de las clases preuniversitarias. Las mismas son dictadas por profesores de cada carrera de nuestra Universidad. En cada clase te brindarán información acerca del campo ocupacional  y el perfil profesional de la carrera. Además\, dispondremos de un espacio destinado a despejar dudas y realizar todas las consultas.   \nEstán dirigidas a alumnos de los últimos años del nivel medio en su proceso de decisión vocacional\, y a todos aquellos quienes quieran conocer más acerca de una carrera. Las clases se desarrollarán durante el mes de octubre y noviembre\, presencialmente\, en sede Posadas (Rademacher 3943) En el siguiente link podrás inscribirte\, son abiertas y gratuitas: https://forms.office.com/r/KAtkzvfcbQ
URL:https://www.ucsf.edu.ar/evento/clase-preuniversitaria-de-arquitectura-en-sede-posadas-3/
LOCATION:UCSF Sede Santos Mártires – Posadas\, Rademacher 3943\, Posadas\, Misiones\, Argentina
CATEGORIES:Ingreso,Santa Fe
ATTACH;FMTTYPE=image/jpeg:https://www.ucsf.edu.ar/wp-content/uploads/2024/06/Clases-preuniversitarias-POSADAS-OCTUBRE_arq-.jpg
GEO:-27.3859693;-55.896416
X-APPLE-STRUCTURED-LOCATION;VALUE=URI;X-ADDRESS=UCSF Sede Santos Mártires – Posadas Rademacher 3943 Posadas Misiones Argentina;X-APPLE-RADIUS=500;X-TITLE=Rademacher 3943:geo:-55.896416,-27.3859693
END:VEVENT
BEGIN:VEVENT
DTSTART;TZID=America/Argentina/Buenos_Aires:20241015T180000
DTEND;TZID=America/Argentina/Buenos_Aires:20241015T200000
DTSTAMP:20260421T092952
CREATED:20240528T180032Z
LAST-MODIFIED:20240924T223106Z
UID:72258-1729015200-1729022400@www.ucsf.edu.ar
SUMMARY:Clase Preuniversitaria de Lic. en Psicopedagogía en Sede Santa Fe
DESCRIPTION:Te invitamos a participar de las clases preuniversitarias. Las mismas son dictadas por profesores de cada carrera de nuestra Universidad. En cada clase te brindarán información acerca del campo ocupacional  y el perfil profesional de la carrera. Además\, dispondremos de un espacio destinado a despejar dudas y realizar todas las consultas.   \nEstán dirigidas a alumnos de los últimos años del nivel medio en su proceso de decisión vocacional\, y a todos aquellos quienes quieran conocer más acerca de una carrera. Las clases se desarrollarán durante el mes de octubre\, presencialmente\, en sede Santa Fe (Echagüe 7151) En el siguiente link podrás inscribirte\, son abiertas y gratuitas: https://forms.office.com/r/kitpk5Lh1j
URL:https://www.ucsf.edu.ar/evento/clase-preuniversitaria-de-psicopedagogia-en-sede-santa-fe/
LOCATION:UCSF Santa Fe\, Echagüe 7151\, Santa Fe\, Santa Fe\, Argentina
CATEGORIES:Ingreso,Santa Fe
ATTACH;FMTTYPE=image/png:https://www.ucsf.edu.ar/wp-content/uploads/2024/05/CLASES-SANTA-FE-2024_PAICOPEDAGOGIA.png
ORGANIZER;CN="Ingreso":MAILTO:promocion@ucsf.edu.ar
GEO:-31.6069451;-60.6709418
X-APPLE-STRUCTURED-LOCATION;VALUE=URI;X-ADDRESS=UCSF Santa Fe Echagüe 7151 Santa Fe Santa Fe Argentina;X-APPLE-RADIUS=500;X-TITLE=Echagüe 7151:geo:-60.6709418,-31.6069451
END:VEVENT
BEGIN:VEVENT
DTSTART;TZID=America/Argentina/Buenos_Aires:20241016T180000
DTEND;TZID=America/Argentina/Buenos_Aires:20241016T200000
DTSTAMP:20260421T092952
CREATED:20240528T181527Z
LAST-MODIFIED:20240924T223443Z
UID:72274-1729101600-1729108800@www.ucsf.edu.ar
SUMMARY:Clase Preuniversitaria de Lic. en Cs. de la Comunicación en Sede Santa Fe
DESCRIPTION:Te invitamos a participar de las clases preuniversitarias. Las mismas son dictadas por profesores de cada carrera de nuestra Universidad. En cada clase te brindarán información acerca del campo ocupacional  y el perfil profesional de la carrera. Además\, dispondremos de un espacio destinado a despejar dudas y realizar todas las consulta \nEstán dirigidas a alumnos de los últimos años del nivel medio en su proceso de decisión vocacional\, y a todos aquellos quienes quieran conocer más acerca de una carrera. Las clases se desarrollarán durante el mes de octubre\, presencialmente\, en sede Santa Fe (Echagüe 7151) En el siguiente link podrás inscribirte\, son abiertas y gratuitas: https://forms.office.com/r/kitpk5Lh1j
URL:https://www.ucsf.edu.ar/evento/clase-preuniversitaria-de-comunicacion-en-sede-santa-fe/
LOCATION:UCSF Santa Fe\, Echagüe 7151\, Santa Fe\, Santa Fe\, Argentina
CATEGORIES:Ingreso,Santa Fe
ATTACH;FMTTYPE=image/png:https://www.ucsf.edu.ar/wp-content/uploads/2024/05/CLASES-SANTA-FE-2024_COMUNICACION-1.png
ORGANIZER;CN="Ingreso":MAILTO:promocion@ucsf.edu.ar
GEO:-31.6069451;-60.6709418
X-APPLE-STRUCTURED-LOCATION;VALUE=URI;X-ADDRESS=UCSF Santa Fe Echagüe 7151 Santa Fe Santa Fe Argentina;X-APPLE-RADIUS=500;X-TITLE=Echagüe 7151:geo:-60.6709418,-31.6069451
END:VEVENT
BEGIN:VEVENT
DTSTART;TZID=America/Argentina/Buenos_Aires:20241017T173000
DTEND;TZID=America/Argentina/Buenos_Aires:20241017T193000
DTSTAMP:20260421T092952
CREATED:20240605T160546Z
LAST-MODIFIED:20250918T122145Z
UID:72632-1729186200-1729193400@www.ucsf.edu.ar
SUMMARY:Clase Preuniversitaria de Relaciones Internacionales en Sede Posadas
DESCRIPTION:Te invitamos a participar de las clases preuniversitarias. Las mismas son dictadas por profesores de cada carrera de nuestra Universidad. En cada clase te brindarán información acerca del campo ocupacional  y el perfil profesional de la carrera. Además\, dispondremos de un espacio destinado a despejar dudas y realizar todas las consultas.   \nEstán dirigidas a alumnos de los últimos años del nivel medio en su proceso de decisión vocacional\, y a todos aquellos quienes quieran conocer más acerca de una carrera. Las clases se desarrollarán durante el mes de octubre y noviembre\, presencialmente\, en sede Posadas (Rademacher 3943) En el siguiente link podrás inscribirte\, son abiertas y gratuitas: https://forms.office.com/r/KAtkzvfcbQ
URL:https://www.ucsf.edu.ar/evento/clase-preuniversitaria-de-relaciones-internacionales-en-sede-posadas/
LOCATION:UCSF Sede Santos Mártires – Posadas\, Rademacher 3943\, Posadas\, Misiones\, Argentina
CATEGORIES:Ingreso,Santa Fe
ATTACH;FMTTYPE=image/jpeg:https://www.ucsf.edu.ar/wp-content/uploads/2024/06/Clases-preuniversitarias-POSADAS-OCTUBRE_Relacione-interncionales.jpg
GEO:-27.3859693;-55.896416
X-APPLE-STRUCTURED-LOCATION;VALUE=URI;X-ADDRESS=UCSF Sede Santos Mártires – Posadas Rademacher 3943 Posadas Misiones Argentina;X-APPLE-RADIUS=500;X-TITLE=Rademacher 3943:geo:-55.896416,-27.3859693
END:VEVENT
BEGIN:VEVENT
DTSTART;TZID=America/Argentina/Buenos_Aires:20241017T180000
DTEND;TZID=America/Argentina/Buenos_Aires:20241017T190000
DTSTAMP:20260421T092952
CREATED:20240508T141803Z
LAST-MODIFIED:20240508T141803Z
UID:71574-1729188000-1729191600@www.ucsf.edu.ar
SUMMARY:Webinar: Transformación digital como clave del desarrollo sostenible
DESCRIPTION:La Facultad de Ciencias Económicas invita a participar del webinar: Transformación digital como clave del desarrollo sostenible. \nEl mismo se realizará el jueves 17 de otubre a las 18 hs vía Zoom\, en el marco del Ciclo de Seminarios Virtuales que organiza la unidad académica para 2024\, y estará a cargo de la Mgtr. Mileva Chialvo\, docente de Contador Público. \nLos interesados puede inscribirse a través de este formulario: https://forms.office.com/r/P1CFvsGyf8 \nPara conocer el resto de los webinars: https://www.ucsf.edu.ar/ciclo-de-seminarios-virtuales-sobre-empresa-negocios-y-transformacion-digital/ \nPor consultas\, dirigirse a: airigoitia@ucsf.edu.ar
URL:https://www.ucsf.edu.ar/evento/webinar-transformacion-digital-como-clave-del-desarrollo-sostenible/
LOCATION:UCSF Santa Fe\, Echagüe 7151\, Santa Fe\, Santa Fe\, Argentina
CATEGORIES:Santa Fe,Alumnos,Rosario,Docentes,Posadas,Personal UCSF,Reconquista,Rafaela,Gualeguaychú,Comunidad,Sedes
ATTACH;FMTTYPE=image/jpeg:https://www.ucsf.edu.ar/wp-content/uploads/2024/05/seminarios-virtuales-imagen-web_Transformacion-digital.jpg
GEO:-31.6069451;-60.6709418
X-APPLE-STRUCTURED-LOCATION;VALUE=URI;X-ADDRESS=UCSF Santa Fe Echagüe 7151 Santa Fe Santa Fe Argentina;X-APPLE-RADIUS=500;X-TITLE=Echagüe 7151:geo:-60.6709418,-31.6069451
END:VEVENT
END:VCALENDAR