BEGIN:VCALENDAR
VERSION:2.0
PRODID:-//UCSF - Universidad Católica de Santa Fe - ECPv5.14.2.1//NONSGML v1.0//EN
CALSCALE:GREGORIAN
METHOD:PUBLISH
X-WR-CALNAME:UCSF - Universidad Católica de Santa Fe
X-ORIGINAL-URL:https://www.ucsf.edu.ar
X-WR-CALDESC:Events for UCSF - Universidad Católica de Santa Fe
REFRESH-INTERVAL;VALUE=DURATION:PT1H
X-Robots-Tag:noindex
X-PUBLISHED-TTL:PT1H
BEGIN:VTIMEZONE
TZID:America/Argentina/Buenos_Aires
BEGIN:STANDARD
TZOFFSETFROM:-0300
TZOFFSETTO:-0300
TZNAME:-03
DTSTART:20250101T000000
END:STANDARD
END:VTIMEZONE
BEGIN:VEVENT
DTSTART;TZID=America/Argentina/Buenos_Aires:20250805T183000
DTEND;TZID=America/Argentina/Buenos_Aires:20251028T203000
DTSTAMP:20260419T231654
CREATED:20250704T194853Z
LAST-MODIFIED:20250704T195205Z
UID:84105-1754418600-1761683400@www.ucsf.edu.ar
SUMMARY:Seminario Abierto de Posgrado. "Perspectivas Filosóficas del Quehacer Educativo"- MAE UCSF-
DESCRIPTION:
URL:https://www.ucsf.edu.ar/evento/seminario-abierto-de-posgrado-perspectivas-filosoficas-del-quehacer-educativo-mae-ucsf/
LOCATION:Virtual\, Argentina
CATEGORIES:A distancia,Santa Fe,Alumnos,Rosario,Docentes,Posadas,Personal UCSF,Reconquista,Carreras de Posgrado,Comunidad,Posgrados,Maestría en Educación,Sedes
ATTACH;FMTTYPE=image/png:https://www.ucsf.edu.ar/wp-content/uploads/2025/07/PERSPECTIVAS-FILOSOFICAS-DEL-QUEHACER-FILOSOFICO_feed-scaled.png
ORGANIZER;CN="Posgrado":MAILTO:posgrado@ucsf.edu.ar
END:VEVENT
BEGIN:VEVENT
DTSTART;VALUE=DATE:20250806
DTEND;VALUE=DATE:20250901
DTSTAMP:20260419T231654
CREATED:20250806T131221Z
LAST-MODIFIED:20250807T174946Z
UID:84935-1754438400-1756684799@www.ucsf.edu.ar
SUMMARY:CONCURSOS ANUALES DE LITERATURA Y FOTOGRAFIA UCSF 2025
DESCRIPTION:Hasta el 31 de agosto tenes tiempo de enviar tu obra literaria y/o fotografía al mail de cultura@ucsf.edu.ar \nTe dejo el link bases y animate a participar. \nEl primer premio de cada concurso recibirá una suma estímulo de $50.000.- \nwww.ucsf.edu.ar/concurso
URL:https://www.ucsf.edu.ar/evento/concursos-anuales-de-literatura-y-fotografia-ucsf-2025/
LOCATION:UCSF Santa Fe\, Echagüe 7151\, Santa Fe\, Santa Fe\, Argentina
CATEGORIES:Santa Fe,Alumnos,Docentes,Posadas,Personal UCSF,Reconquista,Comunidad,Sedes
ATTACH;FMTTYPE=image/jpeg:https://www.ucsf.edu.ar/wp-content/uploads/2025/08/conucurso-anual-cultural-2026.jpg
ORGANIZER;CN="Bienestar%20Universitario":MAILTO:debora@furman.com.ar
GEO:-31.6069451;-60.6709418
X-APPLE-STRUCTURED-LOCATION;VALUE=URI;X-ADDRESS=UCSF Santa Fe Echagüe 7151 Santa Fe Santa Fe Argentina;X-APPLE-RADIUS=500;X-TITLE=Echagüe 7151:geo:-60.6709418,-31.6069451
END:VEVENT
BEGIN:VEVENT
DTSTART;TZID=America/Argentina/Buenos_Aires:20250806T140000
DTEND;TZID=America/Argentina/Buenos_Aires:20250806T160000
DTSTAMP:20260419T231654
CREATED:20250702T133314Z
LAST-MODIFIED:20250702T133443Z
UID:84011-1754488800-1754496000@www.ucsf.edu.ar
SUMMARY:Encuentro de Investigadores y Extensionistas UCSF - EIE 2025
DESCRIPTION:El miércoles 6 de agosto se realizará el segundo encuentro\, a las 14 hs en las sedes Virgen de Guadalupe (Santa Fe)\, San Jerónimo (Reconquista) y Santos Mártires (Posadas). \nAnte consultas\, comunicarse al correo electrónico eie@ucsf.edu.ar
URL:https://www.ucsf.edu.ar/evento/encuentro-de-investigadores-y-extensionistas-ucsf-eie-2025/
LOCATION:UCSF\, Echagüe 7151\, Santa Fe Capital\, Santa Fe\, 3000\, Argentina
CATEGORIES:Arquitectura y Diseño,Graduados,Home principal,Santa Fe,Alumnos,Facultades,Ciencias Agropecuarias,Docentes,Ciencias de la Salud,Carreras de Grado,Posadas,Ciencias Económicas,Reconquista,Derecho y Ciencia Política,Filosofía y Humanidades,Psicología,Posgrados,Extensión,Investigación,Institutos
ATTACH;FMTTYPE=image/jpeg:https://www.ucsf.edu.ar/wp-content/uploads/2025/07/WhatsApp-Image-2025-06-13-at-10.37.32-768x960-1.jpeg
END:VEVENT
BEGIN:VEVENT
DTSTART;TZID=America/Argentina/Buenos_Aires:20250808T170000
DTEND;TZID=America/Argentina/Buenos_Aires:20250808T193000
DTSTAMP:20260419T231654
CREATED:20250704T190334Z
LAST-MODIFIED:20250704T190334Z
UID:84076-1754672400-1754681400@www.ucsf.edu.ar
SUMMARY:Conversatorio en ocasión de cumplirse los 1700 años del Concilio de Nicea
DESCRIPTION:El Concilio de Nicea\, celebrado en el año 325 d.C.\, fue un evento crucial en la historia del cristianismo. En este concilio\, se establecieron definiciones dogmáticas fundamentales sobre la naturaleza de Jesucristo\, afirmando su plena divinidad y humanidad. Estas definiciones\, contenidas en el Credo Niceno\, han sido pilares de la fe cristiana y han influido profundamente en la Teología y la doctrina de la Iglesia. \nEn nuestra cultura contemporánea\, caracterizada por la diversidad de creencias y la búsqueda de sentido en un mundo cada vez más secularizado\, es esencial reflexionar sobre el impacto y la relevancia de estas definiciones dogmáticas. Este conversatorio se propone explorar cómo las afirmaciones del Concilio de Nicea sobre la humanidad y divinidad del Hijo de Dios pueden dialogar con las inquietudes y desafíos actuales. \n         Quienes estarán a cargo del conversatorio serán: el Dr. Juan Carlos Alby (UCSF)\, el Pbro. Dr. Alejandro E. Nicola (PUC) y el Lic. Sebastián Sangoi (Universidad Gregoriana). \nDestinado a estudiantes\, docentes\, graduados e invitados externos con interés en la Teología\, la Filosofía y el pensamiento crítico\, pertenecientes a la comunidad de la UCSF y público en general interesado en el tema. \nFecha y hora: 8 de agosto\, 17 hs. \nLugar: UCSF – Sede Virgen de Guadalupe – Aula: 3.51 \nModalidad: Presencial \nOrganiza: Dpto. de Filosofía y Teología \nCo-organiza: Fac. de Filosofía y Humanidades – Instituto de Filosofía \nInformes e inscripción: mballabeni@ucsf.edu.ar \n  \n 
URL:https://www.ucsf.edu.ar/evento/conversatorio-en-ocasion-de-cumplirse-los-1700-anos-del-concilio-de-nicea/
LOCATION:UCSF Santa Fe\, Echagüe 7151\, Santa Fe\, Santa Fe\, Argentina
CATEGORIES:Pastoral,Alumnos,Santa Fe,Rosario,Docentes,Posadas,Reconquista,Departamento de Filosofía y Teología,Rafaela,Gualeguaychú,Comunidad,IF Instituto de Filosofía
ATTACH;FMTTYPE=image/jpeg:https://www.ucsf.edu.ar/wp-content/uploads/2025/07/1700-anos-del-Concilio-de-Nicea_feed-3.jpg
ORGANIZER;CN="Departamento%20de%20Filosof%C3%ADa%20y%20Teolog%C3%ADa":MAILTO:mballabeni@ucsf.edu.ar
GEO:-31.6069451;-60.6709418
X-APPLE-STRUCTURED-LOCATION;VALUE=URI;X-ADDRESS=UCSF Santa Fe Echagüe 7151 Santa Fe Santa Fe Argentina;X-APPLE-RADIUS=500;X-TITLE=Echagüe 7151:geo:-60.6709418,-31.6069451
END:VEVENT
BEGIN:VEVENT
DTSTART;TZID=America/Argentina/Buenos_Aires:20250808T183000
DTEND;TZID=America/Argentina/Buenos_Aires:20250808T200000
DTSTAMP:20260419T231654
CREATED:20250805T190821Z
LAST-MODIFIED:20250805T191431Z
UID:84917-1754677800-1754683200@www.ucsf.edu.ar
SUMMARY:Conversatorio sobre Doctrina Social de la Iglesia: Rerum Novarum\, nueva inteligencia de la realidad
DESCRIPTION:La Universidad Católica de Santa Fe (UCSF)\, junto con la Universidad Católica de Santiago del Estero (UCSE-DAR)\, la Pastoral Universitaria de Rafaela (PURaf)\, la Asociación Cristiana de Dirigentes de Empresa de Rafaela (ACDE-Rafaela) y la Comisión de Desarrollo Humano Integral de la Diócesis de Rafaela (CDHI)\, convoca a un conversatorio abierto y gratuito sobre la Doctrina Social de la Iglesia\, en el marco del Año Jubilar. \nLa actividad propone una reflexión en torno a la encíclica Rerum Novarum\, del Papa León XIII\, considerada el punto de partida del Magisterio Social de la Iglesia. A partir de esta fuente fundacional\, y siguiendo la invitación del Papa León XIV a redescubrir su vigencia\, se buscará propiciar un espacio de diálogo que anime a los participantes a asumir un compromiso cristiano con la realidad actual\, desde los valores de la justicia\, la dignidad y el bien común. \nEl conversatorio se desarrollará en modalidad presencial\, en la sede de la UCSE en Rafaela\, y virtual\, a través de la plataforma Zoom (con cupo limitado). \n📅 Actividad libre y gratuita🔗 Las personas interesadas deben inscribirse previamente completando el siguiente formulario: Formulario de inscripción \nEsta propuesta se enmarca en el deseo de seguir caminando el Año Jubilar con esperanza activa\, promoviendo espacios de formación y compromiso en clave evangélica.
URL:https://www.ucsf.edu.ar/evento/conversatorio-sobre-doctrina-social-de-la-iglesia-rerum-novarum-nueva-inteligencia-de-la-realidad/
LOCATION:UCSF Sede Rafaela\, Saavedra 472\, Rafaela\, Santa Fe\, Argentina
CATEGORIES:A distancia,Pastoral,Home principal,Alumnos,Rafaela,Vicerrectorado de Formación,IDSI Instituto de Doctrina Social de la Iglesia
ATTACH;FMTTYPE=image/jpeg:https://www.ucsf.edu.ar/wp-content/uploads/2025/08/WhatsApp-Image-2025-08-05-at-15.47.38.jpeg
ORGANIZER;CN="Instituto%20de%20Doctrina%20Social%20de%20la%20Iglesia":MAILTO:institutodsi@ucsf.edu.ar
END:VEVENT
END:VCALENDAR