BEGIN:VCALENDAR
VERSION:2.0
PRODID:-//UCSF - Universidad Católica de Santa Fe - ECPv5.14.2.1//NONSGML v1.0//EN
CALSCALE:GREGORIAN
METHOD:PUBLISH
X-WR-CALNAME:UCSF - Universidad Católica de Santa Fe
X-ORIGINAL-URL:https://www.ucsf.edu.ar
X-WR-CALDESC:Events for UCSF - Universidad Católica de Santa Fe
REFRESH-INTERVAL;VALUE=DURATION:PT1H
X-Robots-Tag:noindex
X-PUBLISHED-TTL:PT1H
BEGIN:VTIMEZONE
TZID:America/Argentina/Buenos_Aires
BEGIN:STANDARD
TZOFFSETFROM:-0300
TZOFFSETTO:-0300
TZNAME:-03
DTSTART:20240101T000000
END:STANDARD
END:VTIMEZONE
BEGIN:VEVENT
DTSTART;TZID=America/Argentina/Buenos_Aires:20241204T090000
DTEND;TZID=America/Argentina/Buenos_Aires:20241204T120000
DTSTAMP:20260420T120807
CREATED:20241126T213423Z
LAST-MODIFIED:20241126T213423Z
UID:78686-1733302800-1733313600@www.ucsf.edu.ar
SUMMARY:Ciclo de charlas: Conectando Mercados
DESCRIPTION:Encuentro para fomentar el intercambio comercial y las inversiones entre empresas de la provincia de Misiones y potenciales socios en China e India\, explorando oportunidades en diversos sectores. \n \nLugar: Universidad Católica de Santa Fe – Sede Santos Martires de la ciudad de Posadas \nFecha: 4/12/2024 \nCronograma: \nPalabras de Apertura: (9:00hs. – 9:15hs.) \n\n Fernando Santacruz. Lic. en Relaciones Internacionales. Coordinador de la Carrera de Relaciones Internacionales de la UCSF Sede Santos Mártires.\nSonia Rojas Decut. en Matemática. Senadora Nacional por Misiones. Vocal de la Comisión de Relaciones Exteriores y Culto del Senado.\n\nPanel (I) MISIONES: (9:20hs a 10:15hs) \n\nClaudio Aguilar\, director Titular del Parque Industrial y de la innovación de Posadas. Responsable del Global Invest Misiones\, del Ministerio de Industria del Gobierno de la provincia. Lic. En Comercio Internacional (UADE) y Magister en Desarrollo Económico Local (Univ. Autónoma de Madrid). (9:20hs a 9:40hs)\nMaría Eugenia Gómez. Licenciada en Comercio Internacional. Directora de Comercio Exterior y Subsecretaria de Comercio e Integración del Gobierno de la Provincia de Misiones. (9:45hs a 10:00hs)\n\nPanel (II) CHINA (10:05hs a 10:50hs) \n\nFrancisco Orel.  Presidente de la Asociación Civil para la Cooperación Argentino – China (ACCACh) (10:05hs a 10:25hs)\nEsteban Lancieri. Lic. en Relaciones Internacionales. Socio & Gerente Gener\, Andex Group. (10:25hs a 10:45hs)\n\nPanel (III) INDIA (10:45hs a 11:40hs) \n\nGustavo Cardozo. en Relaciones Internacionales. Doctor en Desenvolvimiento Regional. Investigador Global IR y Brasil en Centro de Estudios BRaS. (10:45hs a 11:05hs)\nPaola Andrea Baroni. Lic. y Doctora en Relaciones Internacionales. Directora del Proyecto India y el Sur Global. (11:05hs a 11:25hs).\n\n Networking y Cierre (11:25hs a 12:00hs) \n\nEspacio para conexiones y intercambio de contactos entre asistentes y disertantes.\nPreguntas y respuestas del público.\nAgradecimientos y cierre de la charla.
URL:https://www.ucsf.edu.ar/evento/ciclo-de-charlas-conectando-mercados/
LOCATION:UCSF Sede Santos Mártires – Posadas\, Rademacher 3943\, Posadas\, Misiones\, Argentina
CATEGORIES:Abogacía,Alumnos,Docentes,Posadas,Derecho y Ciencia Política,Licenciatura en Relaciones Internacionales,OPI - Observatorio de Política Internacional
ORGANIZER;CN="Facultad%20de%20Derecho%20y%20Ciencia%20Pol%C3%ADtica%20-%20Sede%20Posadas":MAILTO:posadas@ucsf.edu.ar
GEO:-27.3859693;-55.896416
X-APPLE-STRUCTURED-LOCATION;VALUE=URI;X-ADDRESS=UCSF Sede Santos Mártires – Posadas Rademacher 3943 Posadas Misiones Argentina;X-APPLE-RADIUS=500;X-TITLE=Rademacher 3943:geo:-55.896416,-27.3859693
END:VEVENT
BEGIN:VEVENT
DTSTART;TZID=America/Argentina/Buenos_Aires:20241212T183000
DTEND;TZID=America/Argentina/Buenos_Aires:20241212T183000
DTSTAMP:20260420T120807
CREATED:20241209T222320Z
LAST-MODIFIED:20241211T160733Z
UID:79015-1734028200-1734028200@www.ucsf.edu.ar
SUMMARY:Presentación del documental sobre Mama Antula
DESCRIPTION:Los milagros de Mama Antula en formato documental\n y dos historias santafesinas\nEl próximo jueves 12 de diciembre a las 18.30 hs.\, se presentará en el Aula 4.51 de la UCSF Sede “Virgen de Guadalupe” el documental titulado: “Una Santa viene marchando. Milagros inesperados”\, en el que se narran los milagros de Mama Antula\, de reciente consagración en el Vaticano. \nLas autoridades de la Casa recibirán al productor y director del cortometraje\, Fabián Pérez Battaglini. \nEl film\, realizado con el apoyo del Gobierno de Santiago del Estero y de la UCSF\, fue estrenado en mayo de este año y tuvo una reciente y exitosa presentación el pasado martes 3 de diciembre\, en el auditorio de la Cámara de Diputados de la Nación\, en la ciudad de Buenos Aires. \nSegún cuenta su propio autor\, “la película fue rodada en Santiago del Estero y Santa Fe\, y cuenta con valiosos testimonios que relatan la vida y los milagros de la primera santa argentina: Mama Antula consagrada recientemente por el Papa Francisco”. \nLa primera parte del documental cuenta precisamente la historia de la santa\, y su actividad religiosa en Santiago del Estero y en la segunda se pueden observar los testimonios de personas que por la intercesión de Mama Antula fueron partícipes de hechos milagrosos. \nVida de Santa \nMaría Antonia de San José de Paz y Figueroa fue una laica consagrada del sigo XVIII que tras la expulsión de los jesuitas del país fue de ciudad en ciudad en el norte de la Argentina promoviendo ejercicios espirituales.
URL:https://www.ucsf.edu.ar/evento/presentacion-del-documental-sobre-mama-antula/
LOCATION:UCSF Santa Fe\, Echagüe 7151\, Santa Fe\, Santa Fe\, Argentina
CATEGORIES:Pastoral,Cultura: coros y teatro,Alumnos,Deportes,Docentes,Personal UCSF,Comunidad,Vicerrectorado de Formación,Bienestar universitario
GEO:-31.6069451;-60.6709418
X-APPLE-STRUCTURED-LOCATION;VALUE=URI;X-ADDRESS=UCSF Santa Fe Echagüe 7151 Santa Fe Santa Fe Argentina;X-APPLE-RADIUS=500;X-TITLE=Echagüe 7151:geo:-60.6709418,-31.6069451
END:VEVENT
BEGIN:VEVENT
DTSTART;TZID=America/Argentina/Buenos_Aires:20241213T170000
DTEND;TZID=America/Argentina/Buenos_Aires:20241213T200000
DTSTAMP:20260420T120807
CREATED:20241203T163119Z
LAST-MODIFIED:20241204T123203Z
UID:78819-1734109200-1734120000@www.ucsf.edu.ar
SUMMARY:Presentación de las Charlas CAT UCSF
DESCRIPTION:El viernes 13 de diciembre a las 17 horas en el Aula 3.7 presentamos las Charlas CAT UCSF 2025 bajo el lema: “La mochila del líder”. Este evento está destinado a toda la comunidad universitaria\, autoridades y formadores de colegios católicos\, movimientos e instituciones católicas juveniles parroquiales de la Arquidiócesis de Santa Fe de la Vera Cruz. \n“Charlas CAT” es una iniciativa que busca emular el formato de las charlas TED\, pero con un enfoque católico. El objetivo principal es ofrecer charlas cortas y bien preparadas que difundan ideas y verdades católicas de manera atractiva y profesional\, con una fuerte orientación hacia los jóvenes. El proyecto se inspira en las charlas TED\, conocidas por su calidad y preparación rigurosa. TED ofrece una plataforma para la difusión de ideas a través de charlas breves y efectivas\, algo que “Charlas CAT” busca replicar. La intención es aprovechar el método probado de TED para comunicar mensajes importantes\, pero desde una perspectiva católica. \n“Charlas CAT” es un emprendimiento apostólico que busca inspirar y formar líderes creativos para ofrecer al mundo un nuevo modo de entrar en el espacio de las ideas católicas. ​Las ideas católicas\, de la mano de grandes héroes y santos (líderes sumamente inspiradores y creativos!)\, transformaron el mundo. Creemos que esas mismas ideas\, encarnadas por nuevos líderes tienen la fuerza para transformar este mundo otra vez!  \n​Queremos ayudar a despertar una nueva épica y formar jóvenes líderes que sean capaces de crear y sostener en todas partes una nueva cultura apostólica creativa. \n\nInscríbete gratuitamente aquí: https://forms.office.com/r/m3uwjAcJSG \nImportante: El evento es gratuito\, se solicita una colaboración voluntaria para aquellos que puedan donar alimentos no perecederos para entregar a la La Casa de Juan Diego.
URL:https://www.ucsf.edu.ar/evento/presentacion-de-las-charlas-cat-ucsf/
LOCATION:UCSF Santa Fe\, Echagüe 7151\, Santa Fe\, Santa Fe\, Argentina
CATEGORIES:Pastoral,Alumnos,Cultura: coros y teatro,Santa Fe,Docentes,Deportes,Personal UCSF,Comunidad,Sedes,Extensión,Investigación
ATTACH;FMTTYPE=image/png:https://www.ucsf.edu.ar/wp-content/uploads/2024/12/la-moochila-del-lider_Flyer-1.png
ORGANIZER;CN="Vicerrectorado%20Acad%C3%A9mico":MAILTO:vrecacad@ucsf.edu.ar
GEO:-31.6069451;-60.6709418
X-APPLE-STRUCTURED-LOCATION;VALUE=URI;X-ADDRESS=UCSF Santa Fe Echagüe 7151 Santa Fe Santa Fe Argentina;X-APPLE-RADIUS=500;X-TITLE=Echagüe 7151:geo:-60.6709418,-31.6069451
END:VEVENT
BEGIN:VEVENT
DTSTART;TZID=America/Argentina/Buenos_Aires:20241217T160000
DTEND;TZID=America/Argentina/Buenos_Aires:20241217T170000
DTSTAMP:20260420T120807
CREATED:20241209T224150Z
LAST-MODIFIED:20241210T180543Z
UID:79021-1734451200-1734454800@www.ucsf.edu.ar
SUMMARY:Misa de Navidad
DESCRIPTION:Celebramos la Navidad en Comunidad!\nEl martes 17 de diciembre a las 16 hs.\, en la Capilla de la UCSF Sede “Virgen de Guadalupe”\, se celebrará la MISA DE NAVIDAD con todos los integrantes de la Comunidad Universitaria. \nPediremos al Niño Jesús que nos haga renacer en nuestra fe;  nos haga conmover ante este Misterio y nos transforme en portadores de verdad\, de bondad\, de solidaridad y de perdón.  \n \n  \n 
URL:https://www.ucsf.edu.ar/evento/misa-de-navidad-2/
LOCATION:UCSF Santa Fe\, Echagüe 7151\, Santa Fe\, Santa Fe\, Argentina
CATEGORIES:Pastoral,Cultura: coros y teatro,Alumnos,Deportes,Docentes,Personal UCSF,Comunidad,Vicerrectorado de Formación,Bienestar universitario
GEO:-31.6069451;-60.6709418
X-APPLE-STRUCTURED-LOCATION;VALUE=URI;X-ADDRESS=UCSF Santa Fe Echagüe 7151 Santa Fe Santa Fe Argentina;X-APPLE-RADIUS=500;X-TITLE=Echagüe 7151:geo:-60.6709418,-31.6069451
END:VEVENT
END:VCALENDAR