BEGIN:VCALENDAR
VERSION:2.0
PRODID:-//UCSF - Universidad Católica de Santa Fe - ECPv5.14.2.1//NONSGML v1.0//EN
CALSCALE:GREGORIAN
METHOD:PUBLISH
X-WR-CALNAME:UCSF - Universidad Católica de Santa Fe
X-ORIGINAL-URL:https://www.ucsf.edu.ar
X-WR-CALDESC:Events for UCSF - Universidad Católica de Santa Fe
REFRESH-INTERVAL;VALUE=DURATION:PT1H
X-Robots-Tag:noindex
X-PUBLISHED-TTL:PT1H
BEGIN:VTIMEZONE
TZID:America/Argentina/Buenos_Aires
BEGIN:STANDARD
TZOFFSETFROM:-0300
TZOFFSETTO:-0300
TZNAME:-03
DTSTART:20250101T000000
END:STANDARD
END:VTIMEZONE
BEGIN:VEVENT
DTSTART;TZID=America/Argentina/Buenos_Aires:20250404T183000
DTEND;TZID=America/Argentina/Buenos_Aires:20250618T203000
DTSTAMP:20260419T201121
CREATED:20250318T163933Z
LAST-MODIFIED:20250331T191318Z
UID:81047-1743791400-1750278600@www.ucsf.edu.ar
SUMMARY:"Construcción de Aulas Emocionalmente Inteligentes”
DESCRIPTION: Diplomatura Superior RR N.º 14.105 \nDescripción General \nLa Diplomatura Universitaria\, titulada: “Construcción de Aulas Emocionalmente Inteligentes” es un trayecto formativo virtual diseñado para docentes\, directivos y profesionales del ámbito educativo que buscan comprender y desarrollar estrategias efectivas para abordar las emociones en el aula y favorecer la inteligencia emocional al interior de la comunidad educativa. Conocer las emociones y la manera en que las mismas influyen en el desarrollo de las infancias y adolescencias constituye una herramienta significativa para repensar las prácticas de enseñanza y aprendizaje. \nObjetivo General \nFormar docentes\, directivos y profesionales del ámbito educativo en la comprensión y aplicación de estrategias pedagógicas innovadoras que integren la inteligencia emocional en el aula\, con el fin de promover un ambiente de aprendizaje positivo\, significativo y enriquecedor para el desarrollo integral de los estudiantes. \nDestinatarios \nLa Diplomatura está dirigida al ámbito educativo formal\, específicamente docentes de todos los niveles y modalidades\, profesionales de la educación y la salud mental que trabajen en ámbitos educativos y estudiantes avanzados de carreras afines. \nMetodología \nLa Diplomatura se desarrollará bajo la modalidad virtual\, incluyendo tanto instancias sincrónicas como asincrónicas. Cada Módulo contará con: \nClases virtuales sincrónicas: Exposición de contenidos\, análisis de situaciones\, debate y actividades prácticas. \nTrabajos asincrónicos mediante aula virtual de la UCSF. \nMaterial de lectura y estudio: artículos científicos\, libros y recursos en línea. \nFecha de Inicio: 04/04/2025 \nDuración: 16 semanas \nLink de Inscripción: \n https://forms.gle/ML94TeD5ozwLjFL8A
URL:https://www.ucsf.edu.ar/evento/construccion-de-aulas-emocionalmente-inteligentes/
LOCATION:Virtual\, Argentina
CATEGORIES:Pastoral,Facultades,Alumnos,Cultura: coros y teatro,Santa Fe,Rosario,Carreras de Grado,Docentes,Personal UCSF,Reconquista,Psicología,Comunidad,Bienestar universitario,Sedes,Licenciatura en Psicología,IIEP Instituto de Investigaciones y Extensión en Psicología,Licenciatura en Psicopedagogía,IIEP Instituto de Investigaciones y Extensión en Psicología
ATTACH;FMTTYPE=image/jpeg:https://www.ucsf.edu.ar/wp-content/uploads/2025/03/feec0b44-d0dc-4291-8381-d8ecf923a12f-1-1.jpg
ORGANIZER;CN="Facultad%20de%20Psicolog%C3%ADa":MAILTO:ralarcon@ucsf.edu.ar
END:VEVENT
BEGIN:VEVENT
DTSTART;TZID=America/Argentina/Buenos_Aires:20250508T080000
DTEND;TZID=America/Argentina/Buenos_Aires:20250509T233000
DTSTAMP:20260419T201121
CREATED:20250428T193014Z
LAST-MODIFIED:20250428T193015Z
UID:82103-1746691200-1746833400@www.ucsf.edu.ar
SUMMARY:Misión Universitaria
DESCRIPTION:La Pastoral de la UCSF te invita para el próximo 8 y 9 de mayo a la Misión Universitaria\, que se realizará en los barrios Varadero Sarsotti y FO.NA.VI Centenario. \nComo el año pasado\, la idea es visitar las casas de estos dos barrios\, compartir una tarde de juegos con los niños y sus familias\, así como momentos de espiritualidad y recreación con los jóvenes de la comunidad. \nSi querés sumarte\, aún podés anotarte en el siguiente formulario: \nhttps://forms.office.com/r/ahA5nPSpzC
URL:https://www.ucsf.edu.ar/evento/mision-universitaria/
LOCATION:UCSF Santa Fe\, Echagüe 7151\, Santa Fe\, Santa Fe\, Argentina
CATEGORIES:Pastoral,Cultura: coros y teatro,Alumnos,Docentes,Deportes,Personal UCSF,Comunidad,Vicerrectorado de Formación,Bienestar universitario
ATTACH;FMTTYPE=image/jpeg:https://www.ucsf.edu.ar/wp-content/uploads/2025/04/Mision-UCSF_feed-1.jpg
GEO:-31.6069451;-60.6709418
X-APPLE-STRUCTURED-LOCATION;VALUE=URI;X-ADDRESS=UCSF Santa Fe Echagüe 7151 Santa Fe Santa Fe Argentina;X-APPLE-RADIUS=500;X-TITLE=Echagüe 7151:geo:-60.6709418,-31.6069451
END:VEVENT
BEGIN:VEVENT
DTSTART;TZID=America/Argentina/Buenos_Aires:20250509T140000
DTEND;TZID=America/Argentina/Buenos_Aires:20250509T150000
DTSTAMP:20260419T201121
CREATED:20250506T134123Z
LAST-MODIFIED:20250506T134124Z
UID:82289-1746799200-1746802800@www.ucsf.edu.ar
SUMMARY:Círculo de reflexión Socio-Eco-Jurídica
DESCRIPTION:
URL:https://www.ucsf.edu.ar/evento/circulo-de-reflexion-socio-eco-juridica-14/
LOCATION:UCSF Santa Fe\, Echagüe 7151\, Santa Fe\, Santa Fe\, Argentina
CATEGORIES:Investigación Ecojurídica,Alumnos,Docentes
GEO:-31.6069451;-60.6709418
X-APPLE-STRUCTURED-LOCATION;VALUE=URI;X-ADDRESS=UCSF Santa Fe Echagüe 7151 Santa Fe Santa Fe Argentina;X-APPLE-RADIUS=500;X-TITLE=Echagüe 7151:geo:-60.6709418,-31.6069451
END:VEVENT
BEGIN:VEVENT
DTSTART;TZID=America/Argentina/Buenos_Aires:20250510T090000
DTEND;TZID=America/Argentina/Buenos_Aires:20250510T103000
DTSTAMP:20260419T201121
CREATED:20250505T135013Z
LAST-MODIFIED:20250505T152233Z
UID:82242-1746867600-1746873000@www.ucsf.edu.ar
SUMMARY:Seminario "Autismo: desafíos y aprendizajes"
DESCRIPTION:El Seminario “Autismo: desafíos y aprendizajes” se desarrollará el sábado 10 de mayo de 9 a 10:30hs por Zoom.  La disertante a cargo es la Lic. Mónica Aquino (psicopedagoga\, maestranda en Psicología Cognitiva y Aprendizaje -FLACSO y UNAM- referente en discapacidad e inclusión educativa\, profesora universitaria en UCSF e investigadora). \nEl Autismo representa una realidad cada vez más visible y comprendida en el ámbito educativo. La creciente identificación de estudiantes con Autismo en las aulas demanda una preparación y actualización constante por parte de los profesionales de la educación para garantizar una inclusión efectiva y una respuesta pedagógica adecuada a sus necesidades específicas. \nEste seminario se fundamenta en la necesidad de: \n\nActualizar conocimientos: Difundir los avances recientes en la comprensión del Autismo\, desmitificando concepciones erróneas y proporcionando información basada en la evidencia científica actual.\nPromover la inclusión: Ofrecer estrategias y herramientas prácticas para favorecer la participación y el aprendizaje de los estudiantes con Autismo en entornos educativos regulares.\nDesarrollar competencias: Fortalecer las habilidades de los docentes y directivos para la identificación temprana\, la evaluación funcional\, la adaptación curricular y la implementación de metodologías inclusivas.\nFomentar la colaboración: Crear un espacio de diálogo e intercambio de experiencias\, promoviendo la construcción colectiva de estrategias y soluciones.\nSensibilizar y concientizar: Aumentar la comprensión sobre la neurodiversidad y la importancia de un enfoque respetuoso y centrado en las fortalezas de cada individuo.\n\nObjetivo General: proporcionar a los docentes\, directivos y profesionales del ámbito educativo conocimientos actualizados\, estrategias prácticas y herramientas efectivas para abordar los desafíos y potenciar los aprendizajes de los estudiantes con Autismo en contextos educativos inclusivos. \nPrincipales Temas a Tratar\n\nIntroducción al Autismo\nCaracterísticas del Desarrollo y el Aprendizaje en el Autismo\nEstrategias Pedagógicas Inclusivas y Adaptación Curricular\nRecursos y Apoyos Específicos\nPromoción de la Colaboración y el Trabajo en Equipo\nEnfoque en las Fortalezas y el Bienestar\n\nActividad Arancelada. Entrega Certificado. \nInscripción: https://forms.gle/ooTxuKhYnvLgQXtB8
URL:https://www.ucsf.edu.ar/evento/seminario-autismo-desafios-y-aprendizajes/
LOCATION:Vía Zoom\, Argentina
CATEGORIES:Facultades,Alumnos,Santa Fe,Rosario,Carreras de Grado,Docentes,Personal UCSF,Reconquista,Psicología,Comunidad,Bienestar universitario,Sedes,Licenciatura en Psicología,IIEP Instituto de Investigaciones y Extensión en Psicología,Licenciatura en Psicopedagogía,IIEP Instituto de Investigaciones y Extensión en Psicología
ATTACH;FMTTYPE=image/jpeg:https://www.ucsf.edu.ar/wp-content/uploads/2025/05/WhatsApp-Image-2025-05-05-at-9.59.23-AM.jpeg
ORGANIZER;CN="Facultad%20de%20Psicolog%C3%ADa":MAILTO:ralarcon@ucsf.edu.ar
END:VEVENT
BEGIN:VEVENT
DTSTART;TZID=America/Argentina/Buenos_Aires:20250510T103000
DTEND;TZID=America/Argentina/Buenos_Aires:20250510T120000
DTSTAMP:20260419T201121
CREATED:20250428T180315Z
LAST-MODIFIED:20250505T144419Z
UID:82092-1746873000-1746878400@www.ucsf.edu.ar
SUMMARY:Fichaje utilizando gestor Citavi y escritura con cita o nota al pie de página.
DESCRIPTION:El Vicerrectorado Académico; el Programa Universidad Abierta para la Casa Común; el Doctorado en Cincias Juridicas y la Facultad de Derecho de la UCSF\,  comunican que se encuentra abierta la inscripción para el curso “Fichaje utilizando gestor Citavi y escritura con cita o nota al pie de página” \nFundametación \nLa cita\, en nota al pie de página\, es una técnica utilizada principalmente en los estilos Chicago y Turabian. Este método permite a los autores incluir referencias detalladas al final de la página donde se menciona la fuente\, proporcionando así una forma clara y precisa de dar crédito a los trabajos de otros autores. Las notas al pie de página se numeran consecutivamente a lo largo del documento y cada número corresponde a una referencia específica. Este sistema es especialmente útil en trabajos académicos y de investigación\, y permite a los lectores verificar las fuentes de información sin interrumpir el flujo del texto principal.\nCitavi es un gestor bibliográfico que facilita la organización y gestión de referencias bibliográficas. Este software permite a los usuarios recopilar\, organizar y citar fuentes de manera eficiente. Con Citavi\, los usuarios pueden importar referencias desde bases de datos académicas\, crear bibliografías automáticamente y generar citas en diversos estilos\, incluyendo Chicago y Turabian. Además\, Citavi ofrece herramientas para la gestión de tareas y la planificación de proyectos de investigación\, lo que lo convierte en una herramienta integral para estudiantes\, investigadores y académicos. \nObjetivos del curso: \n-Formular una introducción al gestor bibliográfico Citavi y sus características principales. \n-Explicar brevemente las reglas básicas del citado según la normativa Turabian y Chicago \n-Destacar la importancia de citar correctamente \n-Utilizar  Citavi para facilitar este proceso\, entre otros. \nDía y horario: sábado 10 de mayo\, de 10:30 a 11:45 horas \nDestinatarios: Doctorandos\, maestrandos e interesados en la temática. Público en general. \nDocente/ disertantes: Dr. Guilermo Kerz \nModalidad: virtual (Por Zoom) \nInscripciones: https://www.eventbrite.com.ar/e/fichaje-utilizando-gestor-citavi-y-escritura-con-cita-o-nota-al-pie-tickets-1353338474809?aff=Inscripciones \nImportante: el link de Zoom sólo se enviará por correo (1 día y 1 una hora antes del Evento) a los participantes que se hayan inscripto a través de este link) \nInformes: nsturla@ucsf.edu.ar
URL:https://www.ucsf.edu.ar/evento/fichaje-utilizando-gestor-citavi-y-escritura-utilizando-cita-o-nota-al-pie-de-pagina/
LOCATION:Santa Fe
CATEGORIES:Editorial,Alumnos,Santa Fe,Rosario,Docentes,Posadas,Ciclos de complementación,Reconquista,Rafaela,Gualeguaychú,Licenciatura en Medios Digitales (CCC),Licenciatura en Negocios Digitales (CCC),Sedes,Licenciatura en Psicomotricidad (CCC),Extensión,Licenciatura en Seguridad Alimentaria (CCC),Investigación,Profesorado en Historia (CCC),Profesorado en Lengua y Literatura (CCC)
ATTACH;FMTTYPE=image/jpeg:https://www.ucsf.edu.ar/wp-content/uploads/2025/04/Screenshot_20250428_142827_Google.jpg
ORGANIZER;CN="Vicerrectorado%20Acad%C3%A9mico":MAILTO:vrecacad@ucsf.edu.ar
END:VEVENT
BEGIN:VEVENT
DTSTART;TZID=America/Argentina/Buenos_Aires:20250515T180000
DTEND;TZID=America/Argentina/Buenos_Aires:20250515T203000
DTSTAMP:20260419T201121
CREATED:20250513T154744Z
LAST-MODIFIED:20250513T154745Z
UID:82411-1747332000-1747341000@www.ucsf.edu.ar
SUMMARY:Problemáticas de Salud Mental en las Infancias y Adolescencias Actuales
DESCRIPTION:La salud mental de las infancias y adolescencias constituye un pilar fundamental para el desarrollo integral y el bienestar a lo largo de la vida. Sin embargo\, en el contexto actual\, se observa un aumento significativo y una diversificación de las problemáticas de salud mental en estas etapas del desarrollo. Factores como la aceleración de los cambios sociales\, la influencia de las tecnologías digitales\, las crisis económicas y sanitarias\, y las nuevas formas de interacción social influyen significativamente en el bienestar psicológico de niños\, niñas y adolescentes. \nLas estadísticas revelan una creciente prevalencia de síntomas de ansiedad\, depresión\, alteraciones de la conducta alimentaria\, autolesiones\, consumos problemáticos tanto a nivel de conductas como de sustancias y alteraciones del sueño en estas poblaciones. Estas problemáticas no solo afectan el presente\, limitando su desarrollo académico\, social y emocional\, sino que también pueden tener consecuencias a largo plazo en su vida adulta. \nLa detección temprana\, la comprensión integral de los factores de riesgo y protectores\, y la implementación de estrategias de intervención adecuadas son claves para abordar estas problemáticas de manera efectiva. Es fundamental que profesionales de la salud\, la educación\, el ámbito social y las familias cuenten con herramientas conceptuales y prácticas actualizadas para comprender la complejidad de la salud mental infancias y adolescencias en el siglo XXI. \nEste seminario se propone como un espacio de reflexión y actualización sobre las problemáticas de salud mental que atraviesan las infancias y adolescencias actuales\, buscando promover una mirada integral\, multidisciplinaria y contextualizada para la construcción de abordajes más sensibles y eficaces en los diferentes ámbitos que trabajan con estas poblaciones. \nObjetivos \nObjetivo General: Brindar conocimientos actualizados sobre las principales problemáticas de salud mental en las infancias y adolescencias actuales\, promoviendo una mirada integral y multidisciplinaria para su abordaje. \nObjetivos Específicos \nAnalizar el impacto de los factores sociales\, culturales y tecnológicos en la salud mental de las infancias y adolescencias.\nIdentificar y comprender las manifestaciones clínicas de las problemáticas de salud mental más prevalentes en las infancias y la adolescencias.\nExplorar los factores de riesgo y protectores asociados a la salud mental en estas etapas del desarrollo.\nFomentar la reflexión crítica sobre el rol de los diferentes actores (familia\, escuela\, profesionales de la salud\, comunidad) en la promoción de la salud mental y la prevención de las problemáticas. \nEl Seminario es arancelado. Otorga certificación y material de consulta. \nLink de inscripción: https://forms.gle/Bk5zJNwAZooidFbj8
URL:https://www.ucsf.edu.ar/evento/problematicas-de-salud-mental-en-las-infancias-y-adolescencias-actuales/
LOCATION:Vía Zoom\, Argentina
CATEGORIES:Facultades,Alumnos,Santa Fe,Rosario,Docentes,Personal UCSF,Reconquista,Psicología,Comunidad,Bienestar universitario,Sedes,Licenciatura en Psicología,IIEP Instituto de Investigaciones y Extensión en Psicología,Licenciatura en Psicopedagogía,IIEP Instituto de Investigaciones y Extensión en Psicología
ATTACH;FMTTYPE=image/png:https://www.ucsf.edu.ar/wp-content/uploads/2025/05/Problematicas-de-salud-mental-en-las-infancias-y-adolescencias-actuales_feed-1-scaled.png
ORGANIZER;CN="Facultad%20de%20Psicolog%C3%ADa":MAILTO:ralarcon@ucsf.edu.ar
END:VEVENT
BEGIN:VEVENT
DTSTART;TZID=America/Argentina/Buenos_Aires:20250522T100000
DTEND;TZID=America/Argentina/Buenos_Aires:20250522T200000
DTSTAMP:20260419T201121
CREATED:20250506T135835Z
LAST-MODIFIED:20250506T140215Z
UID:82298-1747908000-1747944000@www.ucsf.edu.ar
SUMMARY:Congreso Provincial de Derecho del Trabajo
DESCRIPTION:🗓️ 22 de Mayo \n🕙 10:00 hs\nApertura y palabras de autoridades \n\nClaudia Levin – Decana FCJS UNL\nMagín Ferrer – Decano FDCP UCSF\nAndrés Abramovich – Presidente CASF\n\n🕥 10:15 hs\nConferencia de apertura\nTema: “La imposibilidad de la gobernanza algorítmica de la relación laboral.”\nDisertante: Sebastián Coppoletta\nPresenta: Celeste Cóceres \n🕚 11:00 hs\nPanel: “Nuevas subjetividades en la protección social”\nCoordinación: Mara Mansilla\nPanelistas: Violeta Guberman\, María Florencia Rey \n🕕 18:00 hs\nPanel: “Intereses en juicios laborales.”\nCoordinación: Malena Azario\nPanelistas: Gabriela Coronel\, Ramiro Ruiz Fernández\, Martín Borselli
URL:https://www.ucsf.edu.ar/evento/congreso-provincial-de-derecho-del-trabajo/
LOCATION:FCJS-UNL\, Candido Pujato 2751\, Santa Fe\, Santa Fe\, Argentina
CATEGORIES:Abogacía,Alumnos,Santa Fe,Docentes,Derecho y Ciencia Política,Martillero Público y Corredor Inmobiliario,Notariado,Procuración
ATTACH;FMTTYPE=image/png:https://www.ucsf.edu.ar/wp-content/uploads/2025/05/laboral-ley-j.png
END:VEVENT
BEGIN:VEVENT
DTSTART;TZID=America/Argentina/Buenos_Aires:20250523T090000
DTEND;TZID=America/Argentina/Buenos_Aires:20250523T130000
DTSTAMP:20260419T201121
CREATED:20250506T140137Z
LAST-MODIFIED:20250506T140228Z
UID:82312-1747990800-1748005200@www.ucsf.edu.ar
SUMMARY:Congreso Provincial de Derecho del Trabajo
DESCRIPTION:🗓️ 23 de Mayo \n🕘 09:00 hs | Talleres simultáneos \n\nDerecho procesal laboral: “recursos ordinarios y extraordinarios provincial y federal”\nModeran: Carlos Gianneschi y Marcelo Giuliani\n“Liquidación de sueldo e indemnizaciones”\nModeran: Aníbal Cuadrado y Ángeles Del Barco\n“LRT: prueba del daño. Pericial médica”\nModeran: Mariana Otarola y Silvia Aiello\n“Reparación del daño causado por la omisión de registración (aspectos prácticos: reclamo del daño)”\nModeran: Analia Inmvikelried\, Javier Flaviani y Sergio Arce\n\n🕙 10:00 hs | Talleres simultáneos \n\n“Asesoramiento jurídico en situaciones de violencia: ¿cómo recibir a la víctima en la consulta jurídica?”\nModeran: Diego Guirado y Itatí Demarchi\n“LRT: trámite ante comisiones médicas.”\nModeran: Francisco Ippólito\, Noelia Barrios Colman y Guillermo Bonabotta\n“Responsabilidad laboral solidaria en contratos comerciales”\nModeran: Juan Tinivella y Sebastián Pusineri\nRevisión de la tasa de interés\nModeran: Diego Bogueiro\, Fernando Glinka y Sebastián Serrano Alou\n\n🕚 11:00 hs | Paneles simultáneos \n\nPanel: “Licencias parentales e igualdad de género. Implicancias en la seguridad social.”\nCoordinación: Virginia Gazzo\nPanelistas: Virginia Romero\, Erica Telo y Luciana Censi\nPanel: “Justa causa en la extinción de la relación laboral (art. 242 LCT)”\nCoordinación: Julia Collado\nPanelistas: Marcelo Busaniche\, Albor Cantard y María Victoria Acosta
URL:https://www.ucsf.edu.ar/evento/congreso-provincial-de-derecho-del-trabajo-2/
LOCATION:FCJS-UNL\, Candido Pujato 2751\, Santa Fe\, Santa Fe\, Argentina
CATEGORIES:Abogacía,Alumnos,Santa Fe,Docentes,Derecho y Ciencia Política,Martillero Público y Corredor Inmobiliario,Notariado,Procuración
ATTACH;FMTTYPE=image/png:https://www.ucsf.edu.ar/wp-content/uploads/2025/05/laboral-ley-j.png
END:VEVENT
BEGIN:VEVENT
DTSTART;TZID=America/Argentina/Buenos_Aires:20250523T180000
DTEND;TZID=America/Argentina/Buenos_Aires:20250523T200000
DTSTAMP:20260419T201121
CREATED:20250429T124341Z
LAST-MODIFIED:20250429T124341Z
UID:82111-1748023200-1748030400@www.ucsf.edu.ar
SUMMARY:Charla: Calidad educativa y evaluación institucional
DESCRIPTION:El Doctor Carlos Cantero\, Profesor en Filosofía para la Enseñanza Media y Superior\, Doctor en Educación\, y director fundador del Instituto de Investigación en Educación Argentina de la Facultad de Filosofía y Humanidades\, desarrollará una charla en la sede Virgen de Guadalupe con el objeto impulsar el uso de indicadores como herramientas clave para evaluar la calidad educativa y orientar a la toma de decisiones para la mejora institucional. \nModalidad híbrida: Aula 2.53 – https://zoom.us/j/93641583790 \nConsultas: iiea@ucsf.edu.ar \nActividad no arancelada y sin inscripción previa.
URL:https://www.ucsf.edu.ar/evento/charla-calidad-educativa-y-evaluacion-institucional/
LOCATION:UCSF Santa Fe\, Echagüe 7151\, Santa Fe\, Santa Fe\, Argentina
CATEGORIES:A distancia,Alumnos,Santa Fe,Docentes,Licenciatura en Gestión de la Educación (CCC),Filosofía y Humanidades,Licenciatura en Ciencias de la Educación,Licenciatura en Filosofía,Profesorado de Filosofía (CCC),Profesorado en Historia (CCC),Profesorado en Lengua y Literatura (CCC),Profesorado en Ciencias de la Educación,Profesorado en Educación Primaria,Profesorado en Enseñanza Superior
ATTACH;FMTTYPE=image/png:https://www.ucsf.edu.ar/wp-content/uploads/2025/04/Calidad-educativa-y-evaluacion-institucional_Feed.png
ORGANIZER;CN="Instituto%20de%20Investigaci%C3%B3n%20en%20Educaci%C3%B3n%20Argentina%20-%20FFH":MAILTO:iiea@ucsf.edu.ar
GEO:-31.6069451;-60.6709418
X-APPLE-STRUCTURED-LOCATION;VALUE=URI;X-ADDRESS=UCSF Santa Fe Echagüe 7151 Santa Fe Santa Fe Argentina;X-APPLE-RADIUS=500;X-TITLE=Echagüe 7151:geo:-60.6709418,-31.6069451
END:VEVENT
BEGIN:VEVENT
DTSTART;TZID=America/Argentina/Buenos_Aires:20250523T180000
DTEND;TZID=America/Argentina/Buenos_Aires:20250523T210000
DTSTAMP:20260419T201121
CREATED:20250520T155337Z
LAST-MODIFIED:20250520T155455Z
UID:82515-1748023200-1748034000@www.ucsf.edu.ar
SUMMARY:Curso: El Harlem Renaissance\, la potencia de las letras negras neoyorquinas
DESCRIPTION:Este curso\, dictado por el Prof. Andrés Moulins\,  se desarrolla en tres encuentros sincrónicos virtuales. Busca dar a conocer cómo las voces descendientes de afroamericanos encontraron su forma de expresión entre los años veinte y treinta\, como así también las características del renacimiento intelectual integral (moda\, música\, danza\, pensamiento político) gracias a la expresión literaria publicada. Al mismo tiempo\, los encuentros permitirán descubrir la lucha por los derechos civiles canalizada a través del arte (poesía\, cuentística y novelas). \nActividad arancelada. Consultas: nverde@ucsf.edu.ar
URL:https://www.ucsf.edu.ar/evento/el-harlem-renaissance-la-potencia-de-las-letras-negras-neoyorquinas/
LOCATION:UCSF Santa Fe\, Echagüe 7151\, Santa Fe\, Santa Fe\, Argentina
CATEGORIES:Licenciatura en Ciencias Sociales (CCC),A distancia,Licenciatura en Arte y Diseño Multimedial,Alumnos,Licenciatura en Filosofía (CCC),Docentes,Filosofía y Humanidades,Licenciatura en Ciencias de la Comunicación,Licenciatura en Ciencias de la Educación,Licenciatura en Filosofía,Profesorado en Historia (CCC),Profesorado en Lengua y Literatura (CCC),Profesorado en Ciencias de la Educación
ATTACH;FMTTYPE=image/jpeg:https://www.ucsf.edu.ar/wp-content/uploads/2025/05/Curso-el-halem_web.jpg
ORGANIZER;CN="Facultad%20de%20Filosofia%20y%20Humanidades":MAILTO:extensionffyh@ucsf.edu.ar
GEO:-31.6069451;-60.6709418
X-APPLE-STRUCTURED-LOCATION;VALUE=URI;X-ADDRESS=UCSF Santa Fe Echagüe 7151 Santa Fe Santa Fe Argentina;X-APPLE-RADIUS=500;X-TITLE=Echagüe 7151:geo:-60.6709418,-31.6069451
END:VEVENT
BEGIN:VEVENT
DTSTART;VALUE=DATE:20250530
DTEND;VALUE=DATE:20250601
DTSTAMP:20260419T201121
CREATED:20250314T120318Z
LAST-MODIFIED:20250314T120432Z
UID:80984-1748563200-1748735999@www.ucsf.edu.ar
SUMMARY:3° Congreso Internacional de Bioética “El esplendor de la verdad en la Ciencia y en la Bioética”
DESCRIPTION:Los días 30 y 31 de mayo\, Roma será sede del III Congreso Internacional de Bioética\, organizado por la Fundación Jérôme Lejeune.  \nEste encuentro reunirá a especialistas de renombre mundial para reflexionar sobre la relación entre Ciencia y Verdad desde una perspectiva interdisciplinaria que abarca las ciencias médicas y experimentales\, la filosofía y la teología.  \nLos ejes temáticos principales del congreso incluirán:  \n\nLa verdad en la ciencia: su búsqueda\, existencia y posible demostración científica. Puntos de acuerdo y desacuerdo entre Ciencia y Revelación (Big Bang y Creacionismo)\, y la complementariedad entre distintas vías de investigación científica. \n\n\nLa verdad moral en la Bioética y la Deontología Médica: análisis del asesoramiento genético\, la objeción de conciencia y los criterios para el discernimiento moral prudencial. También se abordará el paso de los principios éticos a su aplicación en situaciones concretas\, orientado hacia la búsqueda del bien y la virtud. \n\n\nEl compromiso de la ciencia con la verdad\, la persona y el bien común\, siguiendo el legado del Profesor Jérôme Lejeune. \n\nEn el marco del Año Jubilar 2025\, este congreso será un espacio clave para el debate y la formación en torno a la responsabilidad ética de la ciencia\, dirigido a investigadores\, científicos\, médicos\, enfermeras\, personal sanitario\, filósofos\, teólogos\, docentes y formadores en general.  de bb \nLa Universidad Católica de Santa Fe participará como Entidad Colaboradora\, reafirmando su compromiso con el desarrollo de la Bioética y la reflexión académica sobre la verdad científica y moral. A través de su Instituto de Bioética “Jérôme Lejeune”\, dependiente del Vicerrectorado de Formación\, la universidad promueve la investigación científica\, la docencia y actividades de extensión universitaria que buscan significar y respetar la vida humana. \n\nPara inscribirse\, ver el programa y obtener más información\, visitar el sitio oficial del congreso.
URL:https://www.ucsf.edu.ar/evento/3-congreso-internacional-de-bioetica-el-esplendor-de-la-verdad-en-la-ciencia-y-en-la-bioetica/
LOCATION:UCSF\, Echagüe 7151\, Santa Fe Capital\, Santa Fe\, 3000\, Argentina
CATEGORIES:Graduados,A distancia,Pastoral,Home principal,Alumnos,Docentes,IB Instituto de Bioética Jerome Lejeune,Personal UCSF,Vicerrectorado de Formación,Comunidad,Educación Continua,Internacional,Investigación
ATTACH;FMTTYPE=image/jpeg:https://www.ucsf.edu.ar/wp-content/uploads/2025/03/III-CIBJL-Congreso_Cartel_vF_page-0001.jpg
ORGANIZER;CN="Vicerrectorado%20de%20Formaci%C3%B3n":MAILTO:vrecform@ucsf.edu.ar
END:VEVENT
BEGIN:VEVENT
DTSTART;TZID=America/Argentina/Buenos_Aires:20250531T070000
DTEND;TZID=America/Argentina/Buenos_Aires:20250531T130000
DTSTAMP:20260419T201121
CREATED:20250519T160229Z
LAST-MODIFIED:20250519T160229Z
UID:82494-1748674800-1748696400@www.ucsf.edu.ar
SUMMARY:Curso TEAM. Trauma\, evaluación y manejo
DESCRIPTION:El Vicerrectorado Académico\, a través del Programa Universidad Abierta\, la Facultad de Ciencia de la Salud de la UCSF y el Colegio de Médicos de Santa Fe\, comunican que se encuentra abierta la inscripción para el  “Curso TEAM. Trauma \, evaluación y manejo” \nObjetivos del curso: \nIntroducir al estudiante de medicina en el manejo inicial del paciente lesionado. \nConocer la evaluación primaria (Evaluación e introducción al manejo de lesiones que amenazan la vida) \nProfundizar la evaluación secundaria. \nDía y horario: sábado 31 de mayo\, de 7:15 a 13 horas. \nDestinatarios: alumnos de Medicina y de Ciencias de la Salud \nDocente/ disertantes: Dr. Horacio Locatelli y otros \nCurso presencial: C. Echagüe 7151\, Santa Fe. \nAulas: 2.50; 2.51; 2.52 y 2.53 \n¡Cupo completo! \nCV abreviado: \nMÉDICO. Esp. Universitario en Cirugía (UNR) Ex Prof. Asociado Emergentología.\nInstructor Cursos ATLS \nInformes: nsturla@ucsf.edu.ar
URL:https://www.ucsf.edu.ar/evento/curso-team-trauma-evaluacion-y-manejo-2/
LOCATION:UCSF Santa Fe\, Echagüe 7151\, Santa Fe\, Santa Fe\, Argentina
CATEGORIES:Alumnos,Santa Fe,Docentes,Reconquista,Licenciatura en Psicomotricidad (CCC),Licenciatura en Seguridad Alimentaria (CCC)
ATTACH;FMTTYPE=image/jpeg:https://www.ucsf.edu.ar/wp-content/uploads/2025/05/CURSO-TEAM.jpg
ORGANIZER;CN="Vicerrectorado%20Acad%C3%A9mico":MAILTO:vrecacad@ucsf.edu.ar
GEO:-31.6069451;-60.6709418
X-APPLE-STRUCTURED-LOCATION;VALUE=URI;X-ADDRESS=UCSF Santa Fe Echagüe 7151 Santa Fe Santa Fe Argentina;X-APPLE-RADIUS=500;X-TITLE=Echagüe 7151:geo:-60.6709418,-31.6069451
END:VEVENT
END:VCALENDAR