BEGIN:VCALENDAR
VERSION:2.0
PRODID:-//UCSF - Universidad Católica de Santa Fe - ECPv5.14.2.1//NONSGML v1.0//EN
CALSCALE:GREGORIAN
METHOD:PUBLISH
X-WR-CALNAME:UCSF - Universidad Católica de Santa Fe
X-ORIGINAL-URL:https://www.ucsf.edu.ar
X-WR-CALDESC:Events for UCSF - Universidad Católica de Santa Fe
REFRESH-INTERVAL;VALUE=DURATION:PT1H
X-Robots-Tag:noindex
X-PUBLISHED-TTL:PT1H
BEGIN:VTIMEZONE
TZID:America/Argentina/Buenos_Aires
BEGIN:STANDARD
TZOFFSETFROM:-0300
TZOFFSETTO:-0300
TZNAME:-03
DTSTART:20240101T000000
END:STANDARD
END:VTIMEZONE
BEGIN:VEVENT
DTSTART;TZID=America/Argentina/Buenos_Aires:20240808T150000
DTEND;TZID=America/Argentina/Buenos_Aires:20240808T200000
DTSTAMP:20260420T191846
CREATED:20240730T180147Z
LAST-MODIFIED:20240730T180511Z
UID:74526-1723129200-1723147200@www.ucsf.edu.ar
SUMMARY:Charlas 2024 - Expo Rural Reconquista - Departamento de Posgrado UCSF -
DESCRIPTION:  \n 
URL:https://www.ucsf.edu.ar/evento/charlas-2024-expo-rural-reconquista/
LOCATION:Sociedad Rural de Reconquista
CATEGORIES:Santa Fe,Alumnos,Docentes,Especialización en Análisis Económico y Gestión en las Cadenas de Valor Agroalimentarias,Personal UCSF,Reconquista,Carreras de Posgrado,Departamento de Posgrados,Comunidad,Posgrados,Sedes
ATTACH;FMTTYPE=image/png:https://www.ucsf.edu.ar/wp-content/uploads/2024/07/EXPO-RURAL-RECONQUISTA_fLYER.png
ORGANIZER;CN="Posgrado":MAILTO:posgrado@ucsf.edu.ar
END:VEVENT
END:VCALENDAR