BEGIN:VCALENDAR
VERSION:2.0
PRODID:-//UCSF - Universidad Católica de Santa Fe - ECPv5.14.2.1//NONSGML v1.0//EN
CALSCALE:GREGORIAN
METHOD:PUBLISH
X-WR-CALNAME:UCSF - Universidad Católica de Santa Fe
X-ORIGINAL-URL:https://www.ucsf.edu.ar
X-WR-CALDESC:Events for UCSF - Universidad Católica de Santa Fe
REFRESH-INTERVAL;VALUE=DURATION:PT1H
X-Robots-Tag:noindex
X-PUBLISHED-TTL:PT1H
BEGIN:VTIMEZONE
TZID:America/Argentina/Buenos_Aires
BEGIN:STANDARD
TZOFFSETFROM:-0300
TZOFFSETTO:-0300
TZNAME:-03
DTSTART:20240101T000000
END:STANDARD
END:VTIMEZONE
BEGIN:VEVENT
DTSTART;TZID=America/Argentina/Buenos_Aires:20240827T190000
DTEND;TZID=America/Argentina/Buenos_Aires:20241112T210000
DTSTAMP:20260420T180741
CREATED:20240814T190319Z
LAST-MODIFIED:20240814T190751Z
UID:75171-1724785200-1731445200@www.ucsf.edu.ar
SUMMARY:Seminarios Abiertos de Posgrado Acreditables a la Espec. en Gestión de la Transformación Digital
DESCRIPTION:
URL:https://www.ucsf.edu.ar/evento/seminarios-abiertos-de-posgrado-acreditables-a-la-esp-en-gestion-de-la-transformacion-digital/
LOCATION:Vía Zoom\, Argentina
CATEGORIES:A distancia,Alumnos,Especialización en Gestión de la Transformación Digital,Santa Fe,Docentes,Rosario,Personal UCSF,Posadas,Carreras de Posgrado,Reconquista,Departamento de Posgrados,Comunidad,Posgrados,Sedes
ATTACH;FMTTYPE=image/jpeg:https://www.ucsf.edu.ar/wp-content/uploads/2024/08/Seminarios-abiertos-de-posgrado_feed.jpg
ORGANIZER;CN="Posgrado":MAILTO:posgrado@ucsf.edu.ar
END:VEVENT
BEGIN:VEVENT
DTSTART;TZID=America/Argentina/Buenos_Aires:20240902T170000
DTEND;TZID=America/Argentina/Buenos_Aires:20240906T130000
DTSTAMP:20260420T180741
CREATED:20240829T125444Z
LAST-MODIFIED:20240902T142313Z
UID:75624-1725296400-1725627600@www.ucsf.edu.ar
SUMMARY:Visita Pastoral de Mons. Sergio Fenoy a la UCSF
DESCRIPTION:Estimados miembros de la Comunidad Universitaria de la UCSF: \nQueremos invitarlos especialmente a la Misa que presidirá nuestro Obispo\, Mons. Sergio Fenoy\, el próximo lunes 2 de septiembre a las 17.30 hs. en la Capilla Universitaria\, con motivo de su Visita Pastoral. \nDurante la semana se reunirá con los distintos integrantes de la comunidad universitaria: alumnos\, docentes\, personal no docente y de conducción\, graduados y asociaciones del personal docente y no docente. \n¿Qué hace el Obispo en una visita pastoral? \nPropone un camino de cercanía. Es una oportunidad para animar a todos los que trabajan en la comunidad\, escucharlos\, acompañarlos\, felicitarlos; es también la ocasión para invitar a todos los fieles a la renovación de la propia vida cristiana y a una acción apostólica más intensa. \nPara leer el mensaje completo de Mons. Fenoy a la comunidad UCSF\, haga clic AQUÍ. \n¿Quién es el obispo y a quién visitará?
URL:https://www.ucsf.edu.ar/evento/visita-pastoral-de-mons-sergio-fenoy-a-la-ucsf/
LOCATION:UCSF Santa Fe\, Echagüe 7151\, Santa Fe\, Santa Fe\, Argentina
CATEGORIES:Pastoral,Graduados,Home principal,Arquitectura y Diseño,Ciencias Agropecuarias,Alumnos,Santa Fe,Facultades,Ciencias de la Salud,Carreras de Grado,Docentes,Ciencias Económicas,Ciclos de complementación,RSU,Personal UCSF,Derecho y Ciencia Política,Carreras de Posgrado,Departamento de Filosofía y Teología,LA UCSF,Filosofía y Humanidades,Comunidad,Psicología,Vicerrectorado de Formación,Bienestar universitario,Vicerrectorado Académico,Posgrados,Educación Continua,Sedes
ATTACH;FMTTYPE=image/jpeg:https://www.ucsf.edu.ar/wp-content/uploads/2024/08/Jura-Rector-y-vicerrectores-23024-alta-17-scaled-e1724419112159.jpg
GEO:-31.6069451;-60.6709418
X-APPLE-STRUCTURED-LOCATION;VALUE=URI;X-ADDRESS=UCSF Santa Fe Echagüe 7151 Santa Fe Santa Fe Argentina;X-APPLE-RADIUS=500;X-TITLE=Echagüe 7151:geo:-60.6709418,-31.6069451
END:VEVENT
BEGIN:VEVENT
DTSTART;TZID=America/Argentina/Buenos_Aires:20240903T180000
DTEND;TZID=America/Argentina/Buenos_Aires:20240903T200000
DTSTAMP:20260420T180741
CREATED:20240910T142715Z
LAST-MODIFIED:20240910T143031Z
UID:76128-1725386400-1725393600@www.ucsf.edu.ar
SUMMARY:Curso interuniversitario: Dignidad humana\, aborto y eutanasia
DESCRIPTION:El Instituto de Bioética “Jérôme Lejeune”\, de la Universidad Católica de Santa Fe\, en colaboración con otras instituciones académicas de la Red UC-OC\, ofrecerá el curso interuniversitario “Dignidad humana\, aborto y eutanasia: aproximación interdisciplinaria” del 3 de septiembre al 12 de noviembre de 2024. Es gratuito\, con inscripción previa; y otorga puntaje para la Carrera docente UCSF. \nEste curso tiene como propósito profundizar en la reflexión sobre la dignidad humana desde una perspectiva integral\, abordando temas cruciales como la eutanasia\, el aborto y la defensa de la vida en todas sus etapas; desde el inicio de la vida hasta la muerte natural. El programa completo se puede consultar en este link.  \nEl curso se impartirá en modalidad sincrónica a través de la plataforma Zoom\, facilitando la participación de estudiantes y profesionales de todo el país. Se dictará los martes de 18 a 20hs hasta el 12 de noviembre de 2024. La carga horaria total es de 22 horas estructuradas en 11 encuentros semanales. \n 
URL:https://www.ucsf.edu.ar/evento/curso-interuniversitario-dignidad-humana-aborto-y-eutanasia/
LOCATION:Vía Zoom\, Argentina
CATEGORIES:A distancia,Home principal,Facultades,Santa Fe,Carreras de Grado,IB Instituto de Bioética Jerome Lejeune,Docentes,Rosario,Personal UCSF,Posadas,Reconquista,Rafaela,LA UCSF,Gualeguaychú,Vicerrectorado de Formación,Comunidad,Concordia,Sedes,Institutos
ATTACH;FMTTYPE=image/png:https://www.ucsf.edu.ar/wp-content/uploads/2024/09/curso-interuniversitario-bioetica.png
END:VEVENT
END:VCALENDAR