BEGIN:VCALENDAR
VERSION:2.0
PRODID:-//UCSF - Universidad Católica de Santa Fe - ECPv5.14.2.1//NONSGML v1.0//EN
CALSCALE:GREGORIAN
METHOD:PUBLISH
X-WR-CALNAME:UCSF - Universidad Católica de Santa Fe
X-ORIGINAL-URL:https://www.ucsf.edu.ar
X-WR-CALDESC:Events for UCSF - Universidad Católica de Santa Fe
REFRESH-INTERVAL;VALUE=DURATION:PT1H
X-Robots-Tag:noindex
X-PUBLISHED-TTL:PT1H
BEGIN:VTIMEZONE
TZID:America/Argentina/Buenos_Aires
BEGIN:STANDARD
TZOFFSETFROM:-0300
TZOFFSETTO:-0300
TZNAME:-03
DTSTART:20240101T000000
END:STANDARD
END:VTIMEZONE
BEGIN:VEVENT
DTSTART;TZID=America/Argentina/Buenos_Aires:20241120T080000
DTEND;TZID=America/Argentina/Buenos_Aires:20241121T000000
DTSTAMP:20260420T151456
CREATED:20241114T222629Z
LAST-MODIFIED:20241114T222841Z
UID:78360-1732089600-1732147200@www.ucsf.edu.ar
SUMMARY:Misión Universitaria UCSF: Varadero 2024
DESCRIPTION:Con manos abiertas y corazones valientes…  \nBajo este lema nos encaminamos a la Misión Universitaria UCSF 2024\,  a realizarse el 20 y 21 de noviembre en los barrios Varadero Sarsotti y FONAVI Centenario. \nTodavía estás a tiempo de sumarte! Escribinos a pastoral@ucsf.edu.ar o a nuestro instagram Pastoral UCSF \n¡Te esperamos!
URL:https://www.ucsf.edu.ar/evento/mision-universitaria-ucsf-varadero-2024/
LOCATION:UCSF Santa Fe\, Echagüe 7151\, Santa Fe\, Santa Fe\, Argentina
CATEGORIES:Pastoral,Alumnos,Docentes,Personal UCSF,Vicerrectorado de Formación,Comunidad,Bienestar universitario
GEO:-31.6069451;-60.6709418
X-APPLE-STRUCTURED-LOCATION;VALUE=URI;X-ADDRESS=UCSF Santa Fe Echagüe 7151 Santa Fe Santa Fe Argentina;X-APPLE-RADIUS=500;X-TITLE=Echagüe 7151:geo:-60.6709418,-31.6069451
END:VEVENT
BEGIN:VEVENT
DTSTART;TZID=America/Argentina/Buenos_Aires:20241120T150000
DTEND;TZID=America/Argentina/Buenos_Aires:20241120T173000
DTSTAMP:20260420T151456
CREATED:20241114T200213Z
LAST-MODIFIED:20241114T200259Z
UID:78354-1732114800-1732123800@www.ucsf.edu.ar
SUMMARY:Defensa de Tesis Gino Arancibia - Maestría en Relaciones Internacionales - Departamento de Posgrado
DESCRIPTION:Link de ZOOM \n  \n 
URL:https://www.ucsf.edu.ar/evento/defensa-de-tesis-gino-arancibia-maestria-en-relaciones-internacionales-departamento-de-posgrado/
LOCATION:Vía Zoom\, Argentina
CATEGORIES:A distancia,Santa Fe,Alumnos,Rosario,Docentes,Posadas,Personal UCSF,Reconquista,Carreras de Posgrado,Departamento de Posgrados,Comunidad,Posgrados,Sedes,Maestría en Relaciones Internacionales
ATTACH;FMTTYPE=image/png:https://www.ucsf.edu.ar/wp-content/uploads/2024/11/Tesis-Gino-Arancibia.png
ORGANIZER;CN="Posgrado":MAILTO:posgrado@ucsf.edu.ar
END:VEVENT
END:VCALENDAR