BEGIN:VCALENDAR
VERSION:2.0
PRODID:-//UCSF - Universidad Católica de Santa Fe - ECPv5.14.2.1//NONSGML v1.0//EN
CALSCALE:GREGORIAN
METHOD:PUBLISH
X-WR-CALNAME:UCSF - Universidad Católica de Santa Fe
X-ORIGINAL-URL:https://www.ucsf.edu.ar
X-WR-CALDESC:Events for UCSF - Universidad Católica de Santa Fe
REFRESH-INTERVAL;VALUE=DURATION:PT1H
X-Robots-Tag:noindex
X-PUBLISHED-TTL:PT1H
BEGIN:VTIMEZONE
TZID:America/Argentina/Buenos_Aires
BEGIN:STANDARD
TZOFFSETFROM:-0300
TZOFFSETTO:-0300
TZNAME:-03
DTSTART:20250101T000000
END:STANDARD
END:VTIMEZONE
BEGIN:VEVENT
DTSTART;TZID=America/Argentina/Buenos_Aires:20250703T093000
DTEND;TZID=America/Argentina/Buenos_Aires:20250703T103000
DTSTAMP:20260419T171632
CREATED:20250627T210701Z
LAST-MODIFIED:20250627T210701Z
UID:83857-1751535000-1751538600@www.ucsf.edu.ar
SUMMARY:Misa Encuentro de Rectores y Decanos de Cs. de la Salud
DESCRIPTION:Invitamos a toda la Comunidad Universitaria a la celebración de la Misa de apertura del Encuentro de Rectores y Decanos de Facultades de Ciencias de la Salud\, que conforman la Red de Universidades Católicas y de Orientación Católica (Red UC-OC) \nLa Misa se celebrará en la Capilla de la UCSF – Sede Virgen de Guadalupe\, el próximo jueves 3 de julio a las 9:30 hs. y será presidida por el Obispo Auxiliar de la Arquidiócesis de Santa Fe\, Mons. Matías Vecino.
URL:https://www.ucsf.edu.ar/evento/misa-encuentro-de-rectores-y-decanos-de-cs-de-la-salud/
LOCATION:UCSF Santa Fe\, Echagüe 7151\, Santa Fe\, Santa Fe\, Argentina
CATEGORIES:Pastoral,Alumnos,Docentes,Personal UCSF,Comunidad,Vicerrectorado de Formación,Bienestar universitario
ATTACH;FMTTYPE=image/jpeg:https://www.ucsf.edu.ar/wp-content/uploads/2025/06/SANTA-MISA-02.jpg
GEO:-31.6069451;-60.6709418
X-APPLE-STRUCTURED-LOCATION;VALUE=URI;X-ADDRESS=UCSF Santa Fe Echagüe 7151 Santa Fe Santa Fe Argentina;X-APPLE-RADIUS=500;X-TITLE=Echagüe 7151:geo:-60.6709418,-31.6069451
END:VEVENT
END:VCALENDAR