BEGIN:VCALENDAR
VERSION:2.0
PRODID:-//UCSF - Universidad Católica de Santa Fe - ECPv5.14.2.1//NONSGML v1.0//EN
CALSCALE:GREGORIAN
METHOD:PUBLISH
X-WR-CALNAME:UCSF - Universidad Católica de Santa Fe
X-ORIGINAL-URL:https://www.ucsf.edu.ar
X-WR-CALDESC:Events for UCSF - Universidad Católica de Santa Fe
REFRESH-INTERVAL;VALUE=DURATION:PT1H
X-Robots-Tag:noindex
X-PUBLISHED-TTL:PT1H
BEGIN:VTIMEZONE
TZID:America/Argentina/Buenos_Aires
BEGIN:STANDARD
TZOFFSETFROM:-0300
TZOFFSETTO:-0300
TZNAME:-03
DTSTART:20250101T000000
END:STANDARD
END:VTIMEZONE
BEGIN:VEVENT
DTSTART;TZID=America/Argentina/Buenos_Aires:20250805T183000
DTEND;TZID=America/Argentina/Buenos_Aires:20251028T203000
DTSTAMP:20260419T141322
CREATED:20250704T194853Z
LAST-MODIFIED:20250704T195205Z
UID:84105-1754418600-1761683400@www.ucsf.edu.ar
SUMMARY:Seminario Abierto de Posgrado. "Perspectivas Filosóficas del Quehacer Educativo"- MAE UCSF-
DESCRIPTION:
URL:https://www.ucsf.edu.ar/evento/seminario-abierto-de-posgrado-perspectivas-filosoficas-del-quehacer-educativo-mae-ucsf/
LOCATION:Virtual\, Argentina
CATEGORIES:A distancia,Alumnos,Santa Fe,Docentes,Rosario,Personal UCSF,Posadas,Carreras de Posgrado,Reconquista,Comunidad,Posgrados,Maestría en Educación,Sedes
ATTACH;FMTTYPE=image/png:https://www.ucsf.edu.ar/wp-content/uploads/2025/07/PERSPECTIVAS-FILOSOFICAS-DEL-QUEHACER-FILOSOFICO_feed-scaled.png
ORGANIZER;CN="Posgrado":MAILTO:posgrado@ucsf.edu.ar
END:VEVENT
BEGIN:VEVENT
DTSTART;VALUE=DATE:20250821
DTEND;VALUE=DATE:20250926
DTSTAMP:20260419T141322
CREATED:20250813T143735Z
LAST-MODIFIED:20250813T144044Z
UID:85271-1755734400-1758844799@www.ucsf.edu.ar
SUMMARY:Curso Laboratorio de Inteligencia Artificial para Docentes. Nivel A2 - Edición 2025
DESCRIPTION:El curso “Laboratorio de Inteligencia Artificial para Docentes” organizado por el Área de Tecnologías e Implementación\, se enmarca en el programa de formación del SIED UCSF y articula con los descriptores establecidos en los marcos de referencia de competencias digitales docentes que toma la Universidad para validar las prácticas de enseñanza en los entornos virtuales.  La propuesta está destinada a los docentes de la casa que han realizado el curso de Inducción para docentes\, nivel A1\, del SIED.  \nInscripciones e información al correo electrónico: sied@ucsf.edu.ar\nDocentes Capacitadores:  \nEquipo SIED UCSF – Edgardo Lürig – Marcela Nicolau \nObjetivos :  \n\nConocer potencialidades tecnológicas y pedagógicas de un asistente de inteligencia artificial. \nIniciarlos en el conocimiento de las principales funciones de Microsoft Copilot. \nRealizar acciones básicas con un asistente de IA mediante una estrategia específica de idas y vueltas (vals). \nInnovar prácticas educativas mediante el uso de IA y el campus virtual MOODLE. \n\nContenidos:   \n\nAcercamiento a la IA:  Introducción a las IA. Modelos de lenguaje. \nRiesgos en el uso de las IA: Los sesgos. Bu arenas prácticas para la creación de Prompts. \nProducir con la IA: Usar la IA a través de herramientas como Microsoft Copilot. Perspectivas. Crear con la IA. Dialogar con la IA. Paradigmas rol docentes. Preguntas valiosas. \nEstrategia docente: Vals con la IA. \nA modo de cierre del Taller: Buenas prácticas. Aspectos éticos que se desprenden de la IA \n\nSe otorgarán insignias digitales a quienes cumplimenten las condiciones de cursado y evaluaciones requeridas.  La aprobación del presente curso es acreditable con la categoría A2 -25 puntos- de las competencias digitales reglamentadas en la RCS Nº 7225/19.-    \n Modalidad – Condiciones – Carga Horaria : \nEl curso se desarrollará 100% virtual.  \nEl taller se desarrollará en clases asincrónicas semanales que se publicarán los jueves. Cada clase tendrá actividades de evaluación\, para responder por verdadero y falso\, opción múltiple y retroalimentación. Y\, además\, una actividad integradora de producción.   \nCarga horaria total: 40 horas   \nCronograma: \nApertura de cursada: 21 de agosto 2025  \nCierre de cursada: 25 de septiembre 2025  \nClase a clase:  \n\n\n\nFecha \nTema \n\n\n21/08\nApertura: Introducción al Laboratorio.\n\n\n28/08\nClase 1: Acercamiento a la IA\n\n\n04/09\nClase 2: Producir con la IA\n\n\n11/09\nClase 3: Buenas prácticas y aspectos éticos\n\n\n18/09\nEvaluación final.\n\n\n25/09\nCierre del Laboratorio
URL:https://www.ucsf.edu.ar/evento/curso-laboratorio-de-inteligencia-artificial-para-docentes-nivel-a2-edicion-2025/
LOCATION:UCSF\, Echagüe 7151\, Santa Fe Capital\, Santa Fe\, 3000\, Argentina
CATEGORIES:A distancia,Home principal,Arquitectura y Diseño,Ciencias Agropecuarias,Facultades,Docentes,SIED,Ciencias de la Salud,Ciencias Económicas,Derecho y Ciencia Política,Filosofía y Humanidades,Psicología,Vicerrectorado Académico,LIIA - Laboratorio de Innovación e Inteligencia Artificial
ATTACH;FMTTYPE=image/jpeg:https://www.ucsf.edu.ar/wp-content/uploads/2025/08/IA-PARA-DOCENTES_flyer-1.jpg
ORGANIZER;CN="SIED%20-%20Sistema%20Institucional%20de%20Educaci%C3%B3n%20a%20Distancia":MAILTO:sied@uc.edu.ar
END:VEVENT
BEGIN:VEVENT
DTSTART;VALUE=DATE:20250901
DTEND;VALUE=DATE:20250930
DTSTAMP:20260419T141322
CREATED:20250826T161818Z
LAST-MODIFIED:20250826T162605Z
UID:85957-1756684800-1759190399@www.ucsf.edu.ar
SUMMARY:Curso "Contenidos digitales para la enseñanza - Edición 2025"
DESCRIPTION:El SIED abre una nueva edición del curso de formación docente que se dictará en la modalidad asincrónica a través del campus virtual de la UCSF. \nLa propuesta focaliza en los aspectos comunicativos\, pedagógicos y didácticos que están implicados en la selección y evaluación de recursos educativos de diferentes fuentes de información como\, también\, en la planificación de materiales para la enseñanza. \nEl curso otorga competencias digitales docentes nivel A1. \nInscripción a través del siguiente formulario: https://forms.office.com/r/E2TVDQhau5
URL:https://www.ucsf.edu.ar/evento/curso-contenidos-digitales-para-la-ensenanza-edicion-2025/
LOCATION:Virtual\, Argentina
CATEGORIES:Facultades,SIED,Docentes,Ciclos de complementación,LA UCSF,Investigación
ATTACH;FMTTYPE=image/jpeg:https://www.ucsf.edu.ar/wp-content/uploads/2025/08/Contenidos-digitales-para-la-ensenanza_flyer-1.jpg
ORGANIZER;CN="SIED%20-%20Sistema%20Institucional%20de%20Educaci%C3%B3n%20a%20Distancia":MAILTO:sied@uc.edu.ar
END:VEVENT
BEGIN:VEVENT
DTSTART;TZID=America/Argentina/Buenos_Aires:20250922T100000
DTEND;TZID=America/Argentina/Buenos_Aires:20250922T170000
DTSTAMP:20260419T141322
CREATED:20250916T131338Z
LAST-MODIFIED:20250916T131338Z
UID:86870-1758535200-1758560400@www.ucsf.edu.ar
SUMMARY:Día del Estudiante en los Jardines de la UCSF
DESCRIPTION:El día 22 de septiembre entre las 10 y las 17 horas festejaremos el Día del Estudiante. \nLas actividades consistirán en  juegos de kermés dispuestos para su disfrute en el patio y una merienda compartida que se servirá en dos turnos (11 y 16 horas) a quienes se acerquen. \nLos esperamos!!
URL:https://www.ucsf.edu.ar/evento/dia-del-estudiante-en-los-jardines-de-la-ucsf/
LOCATION:UCSF Santa Fe\, Echagüe 7151\, Santa Fe\, Santa Fe\, Argentina
CATEGORIES:Santa Fe,Alumnos,Deportes,Docentes,Personal UCSF,Comunidad,Bienestar universitario,Sedes
ATTACH;FMTTYPE=image/jpeg:https://www.ucsf.edu.ar/wp-content/uploads/2025/09/Dia-del-estudiante_Santa-Fe.jpg
ORGANIZER;CN="Bienestar%20Universitario":MAILTO:debora@furman.com.ar
GEO:-31.6069451;-60.6709418
X-APPLE-STRUCTURED-LOCATION;VALUE=URI;X-ADDRESS=UCSF Santa Fe Echagüe 7151 Santa Fe Santa Fe Argentina;X-APPLE-RADIUS=500;X-TITLE=Echagüe 7151:geo:-60.6709418,-31.6069451
END:VEVENT
BEGIN:VEVENT
DTSTART;TZID=America/Argentina/Buenos_Aires:20250922T140000
DTEND;TZID=America/Argentina/Buenos_Aires:20250922T163000
DTSTAMP:20260419T141322
CREATED:20250909T124916Z
LAST-MODIFIED:20250918T134006Z
UID:86555-1758549600-1758558600@www.ucsf.edu.ar
SUMMARY:Jornadas de Introducción a la Terapia de Aceptación y Compromiso
DESCRIPTION:Disertante: Lic. Carestía Lostaló\, María Paula \nDestinatarios: Estudiantes de la carrera de Licenciatura en Psicología o Psicología y profesionales de la psicología interesados en ampliar su repertorio clínico. \nActividad arancelada\, con inscripción previa al siguiente correo: iquiroz@ucsf.edu.ar \nLa formación se dictará los días lunes\, a partir del mes de septiembre hasta octubre de 2025. \n22 de septiembre \n29 de septiembre \n6 de octubre \nHorarios: 14 a 16.30hs \nModalidad: Virtual Sincrónico por Zoom \nOrganiza: Facultad de Psicología de la UCSF
URL:https://www.ucsf.edu.ar/evento/jornadas-de-introduccion-a-la-terapia-de-aceptacion-y-compromiso/
LOCATION:Vía Zoom\, Argentina
CATEGORIES:Alumnos,Santa Fe,Facultades,Carreras de Grado,Docentes,Rosario,Ciclos de complementación,Reconquista,Psicología,Comunidad,Bienestar universitario,Sedes,Licenciatura en Psicología,IIEP Instituto de Investigaciones y Extensión en Psicología,Licenciatura en Psicopedagogía,IIEP Instituto de Investigaciones y Extensión en Psicología
ATTACH;FMTTYPE=image/jpeg:https://www.ucsf.edu.ar/wp-content/uploads/2025/09/WhatsApp-Image-2025-09-18-at-9.52.50-AM.jpeg
ORGANIZER;CN="Facultad%20de%20Psicolog%C3%ADa":MAILTO:ralarcon@ucsf.edu.ar
END:VEVENT
END:VCALENDAR