BEGIN:VCALENDAR
VERSION:2.0
PRODID:-//UCSF - Universidad Católica de Santa Fe - ECPv5.14.2.1//NONSGML v1.0//EN
CALSCALE:GREGORIAN
METHOD:PUBLISH
X-WR-CALNAME:UCSF - Universidad Católica de Santa Fe
X-ORIGINAL-URL:https://www.ucsf.edu.ar
X-WR-CALDESC:Events for UCSF - Universidad Católica de Santa Fe
REFRESH-INTERVAL;VALUE=DURATION:PT1H
X-Robots-Tag:noindex
X-PUBLISHED-TTL:PT1H
BEGIN:VTIMEZONE
TZID:America/Argentina/Buenos_Aires
BEGIN:STANDARD
TZOFFSETFROM:-0300
TZOFFSETTO:-0300
TZNAME:-03
DTSTART:20250101T000000
END:STANDARD
END:VTIMEZONE
BEGIN:VEVENT
DTSTART;TZID=America/Argentina/Buenos_Aires:20250805T183000
DTEND;TZID=America/Argentina/Buenos_Aires:20251028T203000
DTSTAMP:20260419T140441
CREATED:20250704T194853Z
LAST-MODIFIED:20250704T195205Z
UID:84105-1754418600-1761683400@www.ucsf.edu.ar
SUMMARY:Seminario Abierto de Posgrado. "Perspectivas Filosóficas del Quehacer Educativo"- MAE UCSF-
DESCRIPTION:
URL:https://www.ucsf.edu.ar/evento/seminario-abierto-de-posgrado-perspectivas-filosoficas-del-quehacer-educativo-mae-ucsf/
LOCATION:Virtual\, Argentina
CATEGORIES:A distancia,Santa Fe,Alumnos,Rosario,Docentes,Posadas,Personal UCSF,Reconquista,Carreras de Posgrado,Comunidad,Posgrados,Maestría en Educación,Sedes
ATTACH;FMTTYPE=image/png:https://www.ucsf.edu.ar/wp-content/uploads/2025/07/PERSPECTIVAS-FILOSOFICAS-DEL-QUEHACER-FILOSOFICO_feed-scaled.png
ORGANIZER;CN="Posgrado":MAILTO:posgrado@ucsf.edu.ar
END:VEVENT
BEGIN:VEVENT
DTSTART;VALUE=DATE:20250901
DTEND;VALUE=DATE:20250930
DTSTAMP:20260419T140441
CREATED:20250826T161818Z
LAST-MODIFIED:20250826T162605Z
UID:85957-1756684800-1759190399@www.ucsf.edu.ar
SUMMARY:Curso "Contenidos digitales para la enseñanza - Edición 2025"
DESCRIPTION:El SIED abre una nueva edición del curso de formación docente que se dictará en la modalidad asincrónica a través del campus virtual de la UCSF. \nLa propuesta focaliza en los aspectos comunicativos\, pedagógicos y didácticos que están implicados en la selección y evaluación de recursos educativos de diferentes fuentes de información como\, también\, en la planificación de materiales para la enseñanza. \nEl curso otorga competencias digitales docentes nivel A1. \nInscripción a través del siguiente formulario: https://forms.office.com/r/E2TVDQhau5
URL:https://www.ucsf.edu.ar/evento/curso-contenidos-digitales-para-la-ensenanza-edicion-2025/
LOCATION:Virtual\, Argentina
CATEGORIES:Facultades,Docentes,SIED,Ciclos de complementación,LA UCSF,Investigación
ATTACH;FMTTYPE=image/jpeg:https://www.ucsf.edu.ar/wp-content/uploads/2025/08/Contenidos-digitales-para-la-ensenanza_flyer-1.jpg
ORGANIZER;CN="SIED%20-%20Sistema%20Institucional%20de%20Educaci%C3%B3n%20a%20Distancia":MAILTO:sied@uc.edu.ar
END:VEVENT
BEGIN:VEVENT
DTSTART;TZID=America/Argentina/Buenos_Aires:20250926T090000
DTEND;TZID=America/Argentina/Buenos_Aires:20250926T140000
DTSTAMP:20260419T140441
CREATED:20250926T123320Z
LAST-MODIFIED:20250926T123321Z
UID:87380-1758877200-1758895200@www.ucsf.edu.ar
SUMMARY:Alzheimer y Salud Cerebral. Investigaciones y Abordaje
DESCRIPTION:
URL:https://www.ucsf.edu.ar/evento/alzheimer-y-salud-cerebral-investigaciones-y-abordaje/
LOCATION:UCSF Sede Reconquista\, Ludueña 612\, Reconquista\, Santa Fe\, Argentina
CATEGORIES:Facultades,Alumnos,Carreras de Grado,Docentes,Reconquista,Psicología,Comunidad,Bienestar universitario,Sedes,Licenciatura en Psicología,Licenciatura en Psicopedagogía
ATTACH;FMTTYPE=image/jpeg:https://www.ucsf.edu.ar/wp-content/uploads/2025/09/WhatsApp-Image-2025-09-08-at-6.30.21-PM.jpeg
ORGANIZER;CN="Facultad%20de%20Psicolog%C3%ADa":MAILTO:ralarcon@ucsf.edu.ar
GEO:-29.1437691;-59.641047
X-APPLE-STRUCTURED-LOCATION;VALUE=URI;X-ADDRESS=UCSF Sede Reconquista Ludueña 612 Reconquista Santa Fe Argentina;X-APPLE-RADIUS=500;X-TITLE=Ludueña 612:geo:-59.641047,-29.1437691
END:VEVENT
BEGIN:VEVENT
DTSTART;TZID=America/Argentina/Buenos_Aires:20250926T160000
DTEND;TZID=America/Argentina/Buenos_Aires:20250926T180000
DTSTAMP:20260419T140441
CREATED:20250916T150418Z
LAST-MODIFIED:20250916T154942Z
UID:86880-1758902400-1758909600@www.ucsf.edu.ar
SUMMARY:Jornada de Derecho Laboral: "Ley Bases"\, a un año de la introducción de la reforma laboral
DESCRIPTION:Jornada de Derecho Laboral: “Aplicación práctica de la Ley 27.742\, a un año de la introducción de la reforma laboral”\nLa reciente Ley 27.742 “Ley Bases” introdujo una profunda reforma laboral que modifica pilares centrales de la Ley de Contrato de Trabajo y otras normas complementarias que regulaban las sanciones por trabajo no registrado. En esta charla abordaremos el impacto concreto de los cambios implementados\, sus alcances y las tensiones que generan en el Derecho del Trabajo de nuestro país y en los sectores productivos. \nLa iniciativa busca generar un espacio de análisis y reflexión sobre el impacto de la reciente reforma laboral\, fomentando el diálogo entre la academia y los operadores jurídicos de la región. \nDISERTANTES: \n\nDr. Diego Guirado\, profesor de Derecho Laboral UCSF\, Presidente del Foro Federal del Trabajo y Secretario de Redacción de la Revista Laboral Actualidad de la Editorial Rubinzal.\nDra. Natalia Saraceni\, Vocal de Cámara de Apelaciones en lo Laboral de la Provincia de Misiones;\nDra. Silvana Giménez\, Ministra de Trabajo de la Provincia de Misiones;\nDr. Antonio López Forastier\, Presidente del Colegio de Abogados de la Provincia de Misiones y\nDr. Gabriel Duran\, Coordinador del Instituto de Derecho Laboral del Colegio de Abogados de la Provincia de Misiones\n\nDestinado a alumnos\, abogados de la matricula\, magistrados\, profesionales independientes y empresarios y público en general. \nActividad gratuita con inscripción previa:  FORMULARIO DE INSCRIPCIÓN \nMás información: posadas@ucsf.edu.ar \n 
URL:https://www.ucsf.edu.ar/evento/jornada-de-derecho-laboral/
LOCATION:UCSF Sede Santos Mártires – Posadas\, Rademacher 3943\, Posadas\, Misiones\, Argentina
CATEGORIES:Abogacía,Facultades,Alumnos,Carreras de Grado,Docentes,Posadas,Derecho y Ciencia Política,Comunidad,Sedes
ATTACH;FMTTYPE=image/jpeg:https://www.ucsf.edu.ar/wp-content/uploads/2025/09/derecho-laboral_web.jpg
ORGANIZER;CN="Facultad%20de%20Derecho%20y%20Ciencia%20Pol%C3%ADtica%20-%20Sede%20Posadas":MAILTO:posadas@ucsf.edu.ar
GEO:-27.3859693;-55.896416
X-APPLE-STRUCTURED-LOCATION;VALUE=URI;X-ADDRESS=UCSF Sede Santos Mártires – Posadas Rademacher 3943 Posadas Misiones Argentina;X-APPLE-RADIUS=500;X-TITLE=Rademacher 3943:geo:-55.896416,-27.3859693
END:VEVENT
BEGIN:VEVENT
DTSTART;TZID=America/Argentina/Buenos_Aires:20250926T180000
DTEND;TZID=America/Argentina/Buenos_Aires:20250926T200000
DTSTAMP:20260419T140441
CREATED:20250925T160130Z
LAST-MODIFIED:20250925T160131Z
UID:87341-1758909600-1758916800@www.ucsf.edu.ar
SUMMARY:LEGADO Red de Graduados en Psicología UCSF
DESCRIPTION:LEGADO: Red de Graduados en Psicología UCSF \nUn espacio para fortalecer lazos\, compartir oportunidades y construir juntos un ejercicio profesional ético\, solidario y transformador.\nSumate a esta comunidad activa y conectá con colegas\, propuestas y proyectos que impulsan el legado de la Psicología UCSF. \n📲 Contactanos:\n✉️ psicologia@ucsf.edu.ar\n📳 WhatsApp: 342-6400614\n📝 Formulario: https://forms.office.com/r/VspK3P8zVa
URL:https://www.ucsf.edu.ar/evento/legado-red-de-graduados-en-psicologia-ucsf-2/
LOCATION:UCSF Santa Fe\, Echagüe 7151\, Santa Fe\, Santa Fe\, Argentina
CATEGORIES:Santa Fe,Facultades,Carreras de Grado,Docentes,Ciclos de complementación,Psicología,Comunidad,Sedes,Licenciatura en Psicología,IIEP Instituto de Investigaciones y Extensión en Psicología,IIEP Instituto de Investigaciones y Extensión en Psicología
ATTACH;FMTTYPE=image/jpeg:https://www.ucsf.edu.ar/wp-content/uploads/2025/09/WhatsApp-Image-2025-09-25-at-12.38.21-PM.jpeg
ORGANIZER;CN="Facultad%20de%20Psicolog%C3%ADa":MAILTO:ralarcon@ucsf.edu.ar
GEO:-31.6069451;-60.6709418
X-APPLE-STRUCTURED-LOCATION;VALUE=URI;X-ADDRESS=UCSF Santa Fe Echagüe 7151 Santa Fe Santa Fe Argentina;X-APPLE-RADIUS=500;X-TITLE=Echagüe 7151:geo:-60.6709418,-31.6069451
END:VEVENT
END:VCALENDAR