BEGIN:VCALENDAR
VERSION:2.0
PRODID:-//UCSF - Universidad Católica de Santa Fe - ECPv5.14.2.1//NONSGML v1.0//EN
CALSCALE:GREGORIAN
METHOD:PUBLISH
X-WR-CALNAME:UCSF - Universidad Católica de Santa Fe
X-ORIGINAL-URL:https://www.ucsf.edu.ar
X-WR-CALDESC:Events for UCSF - Universidad Católica de Santa Fe
REFRESH-INTERVAL;VALUE=DURATION:PT1H
X-Robots-Tag:noindex
X-PUBLISHED-TTL:PT1H
BEGIN:VTIMEZONE
TZID:America/Argentina/Buenos_Aires
BEGIN:STANDARD
TZOFFSETFROM:-0300
TZOFFSETTO:-0300
TZNAME:-03
DTSTART:20240101T000000
END:STANDARD
END:VTIMEZONE
BEGIN:VEVENT
DTSTART;TZID=America/Argentina/Buenos_Aires:20240820T193000
DTEND;TZID=America/Argentina/Buenos_Aires:20240820T210000
DTSTAMP:20260420T235826
CREATED:20240814T211320Z
LAST-MODIFIED:20240814T211651Z
UID:75181-1724182200-1724187600@www.ucsf.edu.ar
SUMMARY:Charla informativa “Especialización en Gestión de la Transformación Digital” - Posgrado UCSF
DESCRIPTION:LINK DE ZOOM \n  \n 
URL:https://www.ucsf.edu.ar/evento/charla-informativa-especializacion-en-gestion-de-la-transformacion-digital-posgrado-ucsf/
LOCATION:Vía Zoom\, Argentina
CATEGORIES:A distancia,Santa Fe,Maestría en Evaluación de Impacto y Gestión Ambiental,Alumnos,Especialización en Gestión de la Transformación Digital,Rosario,Docentes,Posadas,Personal UCSF,Reconquista,Carreras de Posgrado,Departamento de Posgrados,Comunidad,Posgrados,Sedes
ATTACH;FMTTYPE=image/jpeg:https://www.ucsf.edu.ar/wp-content/uploads/2024/08/Charla-informativa-EGTD-20-de-agosto_feed.jpg
ORGANIZER;CN="Posgrado":MAILTO:posgrado@ucsf.edu.ar
END:VEVENT
BEGIN:VEVENT
DTSTART;TZID=America/Argentina/Buenos_Aires:20240820T200000
DTEND;TZID=America/Argentina/Buenos_Aires:20240820T213000
DTSTAMP:20260420T235826
CREATED:20240722T124946Z
LAST-MODIFIED:20240731T130629Z
UID:74176-1724184000-1724189400@www.ucsf.edu.ar
SUMMARY:Ciclo de charlas virtuales sobre educación de los hijos: primer encuentro
DESCRIPTION:En el ciclo de charlas virtuales AMAR ES EDUCAR. EDUCAR ES AMAR. Herramientas para padres en la educación de los hijos\, organizado organizada por el Instituto para el Matrimonio y la Familia\, la Facultad de Psicología\, la Facultad de Filosofía y Humanidades \, el Vicerrectorado de Formación de la UCSF y el Equipo Arquidiocesano de Pastoral Familiar\, el primer encuentro estará a cargo de la Lic. Guillermina Oblán. \nGuillermina Oblán es Lic. en Orientación Familiar (Univ. Austral) y Magister en Asesoría Familiar y Gestión de Programas para la Familia (Univ. de La Sabana). \n\nMartes 20 de agosto /20 hs.: “Criar en clave positiva: una guía para acompañar a los hijos en su desarrollo integral”\n\nArancel: \n$ 1000.- una charla \n$ 3500 el ciclo completo \nINFORMES: \nmatyfam@ucsf.edu.ar \nPara inscribirse y abonar siga el siguiente enlace: \nINSCRIPCIÓN Y PAGO \n  \n  \n 
URL:https://www.ucsf.edu.ar/evento/amar-es-educar-educar-es-amar-herramientas-para-padres-en-la-educacion-de-los-hijos/
LOCATION:UCSF Santa Fe\, Echagüe 7151\, Santa Fe\, Santa Fe\, Argentina
CATEGORIES:Pastoral,Alumnos,Docentes,Personal UCSF,Comunidad,Bienestar universitario,IMF Instituto para el Matrimonio y la Familia
ATTACH;FMTTYPE=image/jpeg:https://www.ucsf.edu.ar/wp-content/uploads/2024/07/EDUCAR-ES-AMAR-charla-1_feed.jpg
GEO:-31.6069451;-60.6709418
X-APPLE-STRUCTURED-LOCATION;VALUE=URI;X-ADDRESS=UCSF Santa Fe Echagüe 7151 Santa Fe Santa Fe Argentina;X-APPLE-RADIUS=500;X-TITLE=Echagüe 7151:geo:-60.6709418,-31.6069451
END:VEVENT
BEGIN:VEVENT
DTSTART;TZID=America/Argentina/Buenos_Aires:20240822T180000
DTEND;TZID=America/Argentina/Buenos_Aires:20240822T190000
DTSTAMP:20260420T235826
CREATED:20240508T135526Z
LAST-MODIFIED:20240508T135526Z
UID:71568-1724349600-1724353200@www.ucsf.edu.ar
SUMMARY:Webinar - DAOs: La descentralización como medio
DESCRIPTION:La Facultad de Ciencias Económicas invita a participar del webinar DAOs: La descentralización como medio. \nEl mismo se realizará el jueves 22 de agosto a las 18 hs vía Zoom\, en el marco del Ciclo de Seminarios Virtuales que organiza la unidad académica para 2024\, y estará a cargo del equipo de Arbitrum Latam. \nLos interesados puede inscribirse a través de este formulario: https://forms.office.com/r/P1CFvsGyf8 \nPara conocer el resto de los webinars: https://www.ucsf.edu.ar/ciclo-de-seminarios-virtuales-sobre-empresa-negocios-y-transformacion-digital/ \nPor consultas\, dirigirse a: airigoitia@ucsf.edu.ar
URL:https://www.ucsf.edu.ar/evento/webinar-daos-la-descentralizacion-como-medio/
LOCATION:Virtual\, Argentina
CATEGORIES:Santa Fe,Alumnos,Rosario,Docentes,Posadas,Personal UCSF,Reconquista,Rafaela,Gualeguaychú,Comunidad,Sedes
ATTACH;FMTTYPE=image/jpeg:https://www.ucsf.edu.ar/wp-content/uploads/2024/05/seminarios-virtuales-imagen-web_DAOs-La-descentralizacion-como-medio-.jpg
ORGANIZER;CN="Facultad%20de%20Ciencias%20Econ%C3%B3micas":MAILTO:gvelazquez@ucsf.edu.ar
END:VEVENT
BEGIN:VEVENT
DTSTART;TZID=America/Argentina/Buenos_Aires:20240823T163000
DTEND;TZID=America/Argentina/Buenos_Aires:20240823T200000
DTSTAMP:20260420T235826
CREATED:20240801T145343Z
LAST-MODIFIED:20240821T174636Z
UID:74658-1724430600-1724443200@www.ucsf.edu.ar
SUMMARY:Curso Construcción y análisis de datos cuantitativos. Introducción al Software SPSS
DESCRIPTION:El Vicerrectorado Académico\, a través del Programa Universidad Abierta y la Facultad de Psicología de la UCSF\, comunican que se encuentra abierta la inscripción para el Curso “Construcción y análisis de datos cuantitativos. Introducción al Software SPSS \nFudamentación del Curso: \nLa propuesta se centrará en el procesamiento y análisis de variables cuantitativas en el marco\nde la investigación en ciencias sociales. Se propone un desarrollo basado en ejes conceptuales de la\nciencia Estadística que se profundizarán en diversos niveles relativos a los requerimientos de\ncomprensión de las técnicas. Se privilegiará la exposición de los principios fundamentales de las\ntécnicas estadísticas en lugar del desarrollo matemático de las mismas. \nObjetivos del curso: \n\nComprender los usos y alcances del software SPSS para el procesamiento y análisis de datos\ncuantitativos en el marco de procesos de investigación en el campo de las ciencias sociales.\nIdentificar los procedimientos de tratamiento y análisis de datos más adecuados a los problemas\nde investigación en ciencias sociales.\n Aplicar los conceptos del procesamiento estadístico básico a través del uso de las herramientas\ndel software SPSS.\n\nContenidos\nEje temático I: Creación de una matriz de datos\nEstructura del SPSS: El editor de datos. El visor de resultados. Barra de menús y de herramientas.\nMenús generales. Menú Analizar. La estructura de los datos. Unidades de análisis\, variables\, valores.\nLa matriz de datos. Tipo y usos de escalas de medición. Tipos de variables. Codificación y\nrecodificación. Creación de variables. Cálculo de variables nuevas a partir de preexistentes.\nImportación y exportación de archivos de datos con diferentes formatos. \nEje temático II: Análisis descriptivo univariado \nDistribuciones de frecuencias. Medidas de tendencia central y posición. Media\, mediana y moda.\nDeciles\, cuartiles y percentiles. Medidas de variación. Varianza y desviación típica\nAsimetría y curtosis. Representaciones gráficas: gráfico de barras\, histograma\, diagrama de cajas\nInterpretación de resultados. \nEje temático III: Análisis descriptivo Biivariado \nMedidas de asociación y tablas de contingencia. Medidas de correlación. Presentación y resumen de los\nresultados. \nDía y horarios: viernes 23 de agosto\, de 16:30 a 20 horas. \nDestinatarios: alumnos\, docentes\, investigadores y público en genral \nModalidad virtual \nDisertantes: Dra.en Psicología Salessi Solana \nInscripciones: https://www.eventbrite.com.ar/e/construccion-y-analisis-de-datos-cuantitativos-software-spss-tickets-970595646707?aff=Inscripciones \nImportante: el link de Zoom sólo se enviará por correo (1 día y 1 una hora antes del Evento) a los participantes que se hayan inscripto a través de este link) \nCupos limitados \nImportante: para realizar el curso es necesario tener descargado el Softwere SPSS o su versión gratuita. \nLink para descargar el software: \nhttps://www.ibm.com/es-es/products/spss-statistics \nSaludos cordiales \nCV abreviado: Doctora en Psicología. Facultad de Psicología\, Universidad Nacional de La Plata. Año: agosto de 2016. Especialista en Docencia Universitaria. Facultad de Filosofía y Letras\, Universidad Nacional de Cuyo Año: febrero de 2021.  Profesora Superior de Psicología. Facultad de Derecho y Ciencias Sociales del Rosario\, Pontificia Universidad Católica Argentina.\nInformes: nsturla@ucsf.edu.ar
URL:https://www.ucsf.edu.ar/evento/curso-construccion-y-analisis-de-datos-cuantitativos-introduccion-al-software-spss/
LOCATION:UCSF Santa Fe\, Echagüe 7151\, Santa Fe\, Santa Fe\, Argentina
CATEGORIES:Pastoral,Cultura: coros y teatro,Santa Fe,Alumnos,Deportes,Rosario,Docentes,Posadas,Ciclos de complementación,Reconquista,Rafaela,Gualeguaychú,Comunidad,Licenciatura en Medios Digitales (CCC),Bienestar universitario,Sedes,Licenciatura en Negocios Digitales (CCC),Licenciatura en Psicomotricidad (CCC),Licenciatura en Seguridad Alimentaria (CCC),Extensión,Investigación,Profesorado en Historia (CCC),Profesorado en Lengua y Literatura (CCC)
ATTACH;FMTTYPE=image/jpeg:https://www.ucsf.edu.ar/wp-content/uploads/2024/08/IMAGEN-CONSTRUCCION-Y-ANALISIS-DE-DATOS-CUANTITATIVOS_web.jpg
ORGANIZER;CN="Vicerrectorado%20Acad%C3%A9mico":MAILTO:vrecacad@ucsf.edu.ar
GEO:-31.6069451;-60.6709418
X-APPLE-STRUCTURED-LOCATION;VALUE=URI;X-ADDRESS=UCSF Santa Fe Echagüe 7151 Santa Fe Santa Fe Argentina;X-APPLE-RADIUS=500;X-TITLE=Echagüe 7151:geo:-60.6709418,-31.6069451
END:VEVENT
END:VCALENDAR