BEGIN:VCALENDAR
VERSION:2.0
PRODID:-//UCSF - Universidad Católica de Santa Fe - ECPv5.14.2.1//NONSGML v1.0//EN
CALSCALE:GREGORIAN
METHOD:PUBLISH
X-WR-CALNAME:UCSF - Universidad Católica de Santa Fe
X-ORIGINAL-URL:https://www.ucsf.edu.ar
X-WR-CALDESC:Events for UCSF - Universidad Católica de Santa Fe
REFRESH-INTERVAL;VALUE=DURATION:PT1H
X-Robots-Tag:noindex
X-PUBLISHED-TTL:PT1H
BEGIN:VTIMEZONE
TZID:America/Argentina/Buenos_Aires
BEGIN:STANDARD
TZOFFSETFROM:-0300
TZOFFSETTO:-0300
TZNAME:-03
DTSTART:20240101T000000
END:STANDARD
END:VTIMEZONE
BEGIN:VEVENT
DTSTART;TZID=America/Argentina/Buenos_Aires:20240827T190000
DTEND;TZID=America/Argentina/Buenos_Aires:20241112T210000
DTSTAMP:20260420T165118
CREATED:20240814T190319Z
LAST-MODIFIED:20240814T190751Z
UID:75171-1724785200-1731445200@www.ucsf.edu.ar
SUMMARY:Seminarios Abiertos de Posgrado Acreditables a la Espec. en Gestión de la Transformación Digital
DESCRIPTION:
URL:https://www.ucsf.edu.ar/evento/seminarios-abiertos-de-posgrado-acreditables-a-la-esp-en-gestion-de-la-transformacion-digital/
LOCATION:Vía Zoom\, Argentina
CATEGORIES:A distancia,Alumnos,Especialización en Gestión de la Transformación Digital,Santa Fe,Docentes,Rosario,Personal UCSF,Posadas,Carreras de Posgrado,Reconquista,Departamento de Posgrados,Comunidad,Posgrados,Sedes
ATTACH;FMTTYPE=image/jpeg:https://www.ucsf.edu.ar/wp-content/uploads/2024/08/Seminarios-abiertos-de-posgrado_feed.jpg
ORGANIZER;CN="Posgrado":MAILTO:posgrado@ucsf.edu.ar
END:VEVENT
BEGIN:VEVENT
DTSTART;TZID=America/Argentina/Buenos_Aires:20241029T180000
DTEND;TZID=America/Argentina/Buenos_Aires:20241029T200000
DTSTAMP:20260420T165118
CREATED:20240910T143521Z
LAST-MODIFIED:20240910T143521Z
UID:76151-1730224800-1730232000@www.ucsf.edu.ar
SUMMARY:Curso interuniversitario: Dignidad humana\, aborto y eutanasia
DESCRIPTION:El Instituto de Bioética “Jérôme Lejeune”\, de la Universidad Católica de Santa Fe\, en colaboración con otras instituciones académicas de la Red UC-OC\, ofrecerá el curso interuniversitario “Dignidad humana\, aborto y eutanasia: aproximación interdisciplinaria” del 3 de septiembre al 12 de noviembre de 2024. Es gratuito\, con inscripción previa; y otorga puntaje para la Carrera docente UCSF. \nEste curso tiene como propósito profundizar en la reflexión sobre la dignidad humana desde una perspectiva integral\, abordando temas cruciales como la eutanasia\, el aborto y la defensa de la vida en todas sus etapas; desde el inicio de la vida hasta la muerte natural. El programa completo se puede consultar en este link.  \nEl curso se impartirá en modalidad sincrónica a través de la plataforma Zoom\, facilitando la participación de estudiantes y profesionales de todo el país. Se dictará los martes de 18 a 20hs hasta el 12 de noviembre de 2024. La carga horaria total es de 22 horas estructuradas en 11 encuentros semanales. \n 
URL:https://www.ucsf.edu.ar/evento/curso-interuniversitario-dignidad-humana-aborto-y-eutanasia-8/
LOCATION:Vía Zoom\, Argentina
CATEGORIES:A distancia,Home principal,Facultades,Santa Fe,Carreras de Grado,IB Instituto de Bioética Jerome Lejeune,Docentes,Rosario,Personal UCSF,Posadas,Reconquista,Rafaela,LA UCSF,Gualeguaychú,Vicerrectorado de Formación,Comunidad,Concordia,Sedes,Institutos
ATTACH;FMTTYPE=image/png:https://www.ucsf.edu.ar/wp-content/uploads/2024/09/curso-interuniversitario-bioetica.png
END:VEVENT
BEGIN:VEVENT
DTSTART;TZID=America/Argentina/Buenos_Aires:20241031T140000
DTEND;TZID=America/Argentina/Buenos_Aires:20241031T173000
DTSTAMP:20260420T165118
CREATED:20241016T133723Z
LAST-MODIFIED:20241016T133723Z
UID:77246-1730383200-1730395800@www.ucsf.edu.ar
SUMMARY:Curso Laboratorio de Inteligencia Artificial para Docentes
DESCRIPTION:El curso “Laboratorio de Inteligencia Artificial para Docentes” organizado por el Área de Tecnologías e Implementación\, se enmarca en el programa de formación del SIED UCSF y articula con los descriptores establecidos en los marcos de referencia de competencias digitales docentes  de la Universidad para validar las prácticas de enseñanza en los entornos virtuales. \nTiene como objetivos que los docentes al finalizar el curso hayan logrado: \n\nConocer las potencialidades tecnológicas y pedagógicas del asistente de inteligencia artificial Microsoft 365 Copiloto\nConocer las funciones\, usos\, alcances y límites básicos de Microsoft 365 Copiloto.\nRealizar acciones simples con un asistente de IA mediante una estrategia específica de idas y vueltas.\nInnovar sus prácticas educativas mediante el uso de IA y el campus virtual MOODLE.\nExperimentar con esta herramienta de IA para aplicarla a su ámbito educativo\, tanto para la planificación\, gestión\, producción o uso directo con estudiantes.\nExplorar los principales interrogantes en torno a la IA en la sociedad y el mundo académico\n\nMódulos de contenido: \n\nAcercamiento a la IA:\n\nIntroducción a las IA.\nModelos de lenguaje.\nRiesgos en el uso de las IA: Los sesgos.\nBuenas prácticas para la creación de Prompts.\n\n\nProducir con la IA:\n\nUsar la IA a través de la herramienta Microsoft 365 Copiloto.\n\nCrear con la IA.\nDialogar con la IA.\nParadigmas rol docentes.\nPreguntas valiosas.\nEstrategia docente: Vals con la IA.\n\n\nCierre del Taller:\n\nBuenas prácticas\n\n\nÉtica en la IA\n\nDestinatarios   \n\nDocentes de la UCSF\n\nModalidad y Agenda \nEl taller será 100% virtual con 3 encuentros sincrónicos los días jueves a las 14 hs. \n\n31/10 – 07/11 – 14/11\n\nEntre las clases\, los participantes deberán realizar prácticas individuales y grupales \nCarga horaria total: 10 horas \n\nOtorga Insignia como certificación digital\nAcredita competencias digitales docentes (CDD) Nivel A2 – 10 puntos – Categorización Docente\n\n Contacto para consultas  \n\ntecnosied@ucsf.edu.ar
URL:https://www.ucsf.edu.ar/evento/curso-laboratorio-de-inteligencia-artificial-para-docentes/
LOCATION:Virtual\, Argentina
CATEGORIES:Docentes
ATTACH;FMTTYPE=image/png:https://www.ucsf.edu.ar/wp-content/uploads/2024/10/Programa-de-formacion-en-competencias-digitales-docentes-SIED_banner-e1729085291208.png
ORGANIZER;CN="SIED%20-%20Sistema%20Institucional%20de%20Educaci%C3%B3n%20a%20Distancia":MAILTO:sied@uc.edu.ar
END:VEVENT
END:VCALENDAR