BEGIN:VCALENDAR
VERSION:2.0
PRODID:-//UCSF - Universidad Católica de Santa Fe - ECPv5.14.2.1//NONSGML v1.0//EN
CALSCALE:GREGORIAN
METHOD:PUBLISH
X-WR-CALNAME:UCSF - Universidad Católica de Santa Fe
X-ORIGINAL-URL:https://www.ucsf.edu.ar
X-WR-CALDESC:Events for UCSF - Universidad Católica de Santa Fe
REFRESH-INTERVAL;VALUE=DURATION:PT1H
X-Robots-Tag:noindex
X-PUBLISHED-TTL:PT1H
BEGIN:VTIMEZONE
TZID:America/Argentina/Buenos_Aires
BEGIN:STANDARD
TZOFFSETFROM:-0300
TZOFFSETTO:-0300
TZNAME:-03
DTSTART:20250101T000000
END:STANDARD
END:VTIMEZONE
BEGIN:VEVENT
DTSTART;TZID=America/Argentina/Buenos_Aires:20250318T170000
DTEND;TZID=America/Argentina/Buenos_Aires:20250318T190000
DTSTAMP:20260420T010852
CREATED:20250305T154947Z
LAST-MODIFIED:20250306T133844Z
UID:80720-1742317200-1742324400@www.ucsf.edu.ar
SUMMARY:Conferencia “DeepSeek: La Revolución de la IA”
DESCRIPTION:                                                                                       Escuela de verano \nLa Secretaría de Ciencia y Técnica\, y Extensión de la UCSF y el  Programa Universidad Abierta\, comunican que se encuentra abierta la inscripción para la Conferencia “DeepSeek: La Revolución de la IA” \nFundamentación \nEn la era de la inteligencia artificial\, los modelos de lenguaje grandes (LLMs\, por sus siglas en inglés) han revolucionado la forma en que interactuamos con la tecnología. DeepSeek \, una serie de modelos de lenguaje avanzados desarrollados por la empresa homónima\, se ha destacado por su capacidad para comprender y generar texto de alta calidad\, resolver problemas complejos y adaptarse a múltiples aplicaciones\, desde la creación de contenido hasta el análisis de datos.\nEsta conferencia busca introducir a los participantes en el ecosistema de DeepSeek\, explorando su arquitectura\, capacidades técnicas y casos de uso prácticos. Además\, se abordará su relevancia en el contexto actual de la IA\, donde la eficiencia\, la precisión y la accesibilidad son clave para democratizar la tecnología.\nObjetivos:\n• Familiarizar a los participantes con los fundamentos\, capacidades y aplicaciones clave de DeepSeek\, destacando su relevancia en el contexto actual de la inteligencia artificial y su diferenciación frente a otras herramientas.\n• Brindar una guía práctica para la configuración inicial\, navegación en la interfaz y uso de funciones básicas de DeepSeek\, asegurando que los asistentes puedan comenzar a interactuar con la plataforma de manera autónoma y segura.\n• Enseñar técnicas para la creación de prompts efectivos y personalizados\, optimizando la interacción con la IA de DeepSeek y potenciando la obtención de resultados precisos\, creativos y adaptados a necesidades específicas.\n• Nota adicional: Estos objetivos buscan combinar teoría y práctica\, asegurando que los participantes no solo comprendan el valor de DeepSeek\, sino que también adquieran habilidades concretas para integrarlo en sus flujos de trabajo. \nContenidos: \n• Introducción a DeepSeek\n• Primeros pasos en DeepSeek\n• Prompts en DeepSeek \nDisertante: Especialista en Educación y Nuevas Tecnologías: Edgardo Lürig \nDía y horario: martes 18 de marzo\, de 17 a 19 horas \nModalidad: virtual \nDestinatarios: Alumnos\, docentes de la UCSF y público en general \nInscripciones: https://www.eventbrite.com.ar/e/conferencia-virtual-deep-seek-la-revolucion-de-la-ia-tickets-1270664494709?aff=Inscripciones \nInformes: Dra. Vanina Sturla: Coordinadora PUA. nsturla@ucsf.edu.ar
URL:https://www.ucsf.edu.ar/evento/conferencia-deepseek-la-revolucion-de-la-ia/
LOCATION:UCSF Santa Fe\, Echagüe 7151\, Santa Fe\, Santa Fe\, Argentina
CATEGORIES:Pastoral,Cultura: coros y teatro,Santa Fe,Editorial,Alumnos,Docentes,Deportes,Rosario,Personal UCSF,Ciclos de complementación,Posadas,Reconquista,Comunidad,Gualeguaychú,Bienestar universitario,Licenciatura en Medios Digitales (CCC),Sedes,Licenciatura en Negocios Digitales (CCC),Licenciatura en Psicomotricidad (CCC),Licenciatura en Seguridad Alimentaria (CCC),Extensión,Investigación,Profesorado en Historia (CCC),Profesorado en Lengua y Literatura (CCC)
ATTACH;FMTTYPE=image/jpeg:https://www.ucsf.edu.ar/wp-content/uploads/2025/03/DeepSeek-scaled.jpg
ORGANIZER;CN="Vicerrectorado%20Acad%C3%A9mico":MAILTO:vrecacad@ucsf.edu.ar
GEO:-31.6069451;-60.6709418
X-APPLE-STRUCTURED-LOCATION;VALUE=URI;X-ADDRESS=UCSF Santa Fe Echagüe 7151 Santa Fe Santa Fe Argentina;X-APPLE-RADIUS=500;X-TITLE=Echagüe 7151:geo:-60.6709418,-31.6069451
END:VEVENT
BEGIN:VEVENT
DTSTART;TZID=America/Argentina/Buenos_Aires:20250319T180000
DTEND;TZID=America/Argentina/Buenos_Aires:20250319T190000
DTSTAMP:20260420T010852
CREATED:20250317T133906Z
LAST-MODIFIED:20250317T133906Z
UID:80961-1742407200-1742410800@www.ucsf.edu.ar
SUMMARY:La importancia del postdoctorado en la carrera académica
DESCRIPTION:Escuela de verano \nLa Secretaría de Ciencia y Técnica\, y Extensión\, a través del Programa Universidad Abierta para la Casa Común\, de la UCSF\, comunican que está abierta la inscripción al Webinario: La importancia del postdoctorado en la carrera académica. \nFundamentación: El postdoctorado (O “postdoc”) es una etapa fundamental en la carrera de los investigadores\, que va más allá de la obtención del doctorado. Este período permite a los científicos \ncontinuar su formación\, ampliar su experiencia investigadora y especializarse aún más en su campo. A través de esta experiencia\, los investigadores pueden desarrollar nuevas competencias\, trabajar en proyectos de mayor escala y obtener la preparación necesaria para acceder a posiciones de liderazgo académico y científico. \nObjetivos: En este webinario\, exploraremos qué es un postdoctorado\, cómo se realiza y por qué es esencial para aquellos que buscan avanzar en su carrera de investigador .También discutiremos las oportunidades y desafíos que implica. \nContenidos: El concepto de posdoctorado como instancia de formación científica\, sus características y la posibilidad de implementarlo en la UCSF. \nDisertante: Juan Manuel Lezcano \nDía y horario: Miércoles 19 de marzo. \nHorarios: 18 horas \nDestinatarios: Personal docente de la UCSF\, alumnos de grado y postgrado. Público en general. \n¡Importante! Todo interesado debe inscribirse a través de este link \n⇓\nInscripciones: https://www.eventbrite.com.ar/e/webinario-la-importancia-del-postdoctorado-en-la-carrera-academica-tickets-1289661425039?aff=INSCRIPCIONES \n  \n\nInformes: Dra. Vanina Sturla: Coordinadora PUA. nsturla@ucsf.edu.ar
URL:https://www.ucsf.edu.ar/evento/la-importancia-del-postdoctorado-en-la-carrera-academica/
LOCATION:Santa Fe
CATEGORIES:Pastoral,Cultura: coros y teatro,Santa Fe,Alumnos,Docentes,Rosario,Ciclos de complementación,Posadas,Reconquista,Rafaela,Comunidad,Gualeguaychú,Bienestar universitario,Licenciatura en Medios Digitales (CCC),Sedes,Licenciatura en Negocios Digitales (CCC),Licenciatura en Psicomotricidad (CCC),Licenciatura en Seguridad Alimentaria (CCC),Extensión,Investigación,Profesorado en Historia (CCC),Profesorado en Lengua y Literatura (CCC)
ORGANIZER;CN="Vicerrectorado%20Acad%C3%A9mico":MAILTO:vrecacad@ucsf.edu.ar
END:VEVENT
BEGIN:VEVENT
DTSTART;VALUE=DATE:20250321
DTEND;VALUE=DATE:20250323
DTSTAMP:20260420T010852
CREATED:20250212T155838Z
LAST-MODIFIED:20250220T175600Z
UID:79999-1742515200-1742687999@www.ucsf.edu.ar
SUMMARY:Dr. Emilio Tenti Fanfani - Seminario Abierto de Posgrado - Doctorado en Educación UCSF
DESCRIPTION:  \nLink de pago \n 
URL:https://www.ucsf.edu.ar/evento/dr-emilio-tenti-fanfani-seminario-abierto-de-posgrado-doctorado-en-educacion-ucsf/
LOCATION:UCSF Santa Fe\, Echagüe 7151\, Santa Fe\, Santa Fe\, Argentina
CATEGORIES:Santa Fe,Alumnos,Docentes,Personal UCSF,Carreras de Posgrado,Departamento de Posgrados,Doctorado en Educación,Comunidad,Posgrados,Sedes
ATTACH;FMTTYPE=image/png:https://www.ucsf.edu.ar/wp-content/uploads/2025/02/DESARROLLO-DE-LA-EDUCACION-BASICA_feed.png
ORGANIZER;CN="Posgrado":MAILTO:posgrado@ucsf.edu.ar
GEO:-31.6069451;-60.6709418
X-APPLE-STRUCTURED-LOCATION;VALUE=URI;X-ADDRESS=UCSF Santa Fe Echagüe 7151 Santa Fe Santa Fe Argentina;X-APPLE-RADIUS=500;X-TITLE=Echagüe 7151:geo:-60.6709418,-31.6069451
END:VEVENT
BEGIN:VEVENT
DTSTART;TZID=America/Argentina/Buenos_Aires:20250322T093000
DTEND;TZID=America/Argentina/Buenos_Aires:20250322T120000
DTSTAMP:20260420T010852
CREATED:20250318T152829Z
LAST-MODIFIED:20250320T121020Z
UID:81036-1742635800-1742644800@www.ucsf.edu.ar
SUMMARY:Jornada de actualización: "La Salud Mental en las Instituciones Educativas: Desafíos Actuales”
DESCRIPTION:Jornada de Actualización. Resolución Decanal Nº 22/25 \nDisertantes: \nEsp. Lic. Ana Luisa Natta \nLic. Prof. Daniela V. Mendieta \nFundamentación \nLa salud mental en las instituciones educativas es un tema de gran relevancia. El bienestar emocional y psicológico de estudiantes\, docentes y personal administrativo influye directamente en el clima escolar\, el rendimiento académico y la convivencia. En un mundo cada vez más complejo y exigente\, es fundamental que las Instituciones Educativas se conviertan en espacios seguros y saludables que promuevan el desarrollo integral de sus miembros. \nObjetivo general: \nComprender la importancia de la salud mental en las instituciones educativas y adquirir herramientas para promover el bienestar emocional en la comunidad escolar. \n\n\n\nModalidad: virtual sincrónica por Zoom \nDía y Horario: Sábado 22 de marzo\, 9:30hs \nActividad gratuita con certificado de asistencia \nLink de Inscripción: https://forms.gle/wrqtu2pTk7SfTCuH7
URL:https://www.ucsf.edu.ar/evento/la-salud-mental-en-las-instituciones-educativas-desafios-actuales/
LOCATION:Vía Zoom\, Argentina
CATEGORIES:Santa Fe,Facultades,Alumnos,Docentes,Rosario,Carreras de Grado,Reconquista,Comunidad,Psicología,IIEP Instituto de Investigaciones y Extensión en Psicología,Licenciatura en Psicología,Licenciatura en Psicopedagogía,IIEP Instituto de Investigaciones y Extensión en Psicología
ATTACH;FMTTYPE=image/jpeg:https://www.ucsf.edu.ar/wp-content/uploads/2025/03/Jornada-Salud-Mental_web-1.jpg
ORGANIZER;CN="Facultad%20de%20Psicolog%C3%ADa":MAILTO:ralarcon@ucsf.edu.ar
END:VEVENT
END:VCALENDAR