BEGIN:VCALENDAR
VERSION:2.0
PRODID:-//UCSF - Universidad Católica de Santa Fe - ECPv5.14.2.1//NONSGML v1.0//EN
CALSCALE:GREGORIAN
METHOD:PUBLISH
X-WR-CALNAME:UCSF - Universidad Católica de Santa Fe
X-ORIGINAL-URL:https://www.ucsf.edu.ar
X-WR-CALDESC:Events for UCSF - Universidad Católica de Santa Fe
REFRESH-INTERVAL;VALUE=DURATION:PT1H
X-Robots-Tag:noindex
X-PUBLISHED-TTL:PT1H
BEGIN:VTIMEZONE
TZID:America/Argentina/Buenos_Aires
BEGIN:STANDARD
TZOFFSETFROM:-0300
TZOFFSETTO:-0300
TZNAME:-03
DTSTART:20250101T000000
END:STANDARD
END:VTIMEZONE
BEGIN:VEVENT
DTSTART;TZID=America/Argentina/Buenos_Aires:20250404T183000
DTEND;TZID=America/Argentina/Buenos_Aires:20250618T203000
DTSTAMP:20260419T231213
CREATED:20250318T163933Z
LAST-MODIFIED:20250331T191318Z
UID:81047-1743791400-1750278600@www.ucsf.edu.ar
SUMMARY:"Construcción de Aulas Emocionalmente Inteligentes”
DESCRIPTION: Diplomatura Superior RR N.º 14.105 \nDescripción General \nLa Diplomatura Universitaria\, titulada: “Construcción de Aulas Emocionalmente Inteligentes” es un trayecto formativo virtual diseñado para docentes\, directivos y profesionales del ámbito educativo que buscan comprender y desarrollar estrategias efectivas para abordar las emociones en el aula y favorecer la inteligencia emocional al interior de la comunidad educativa. Conocer las emociones y la manera en que las mismas influyen en el desarrollo de las infancias y adolescencias constituye una herramienta significativa para repensar las prácticas de enseñanza y aprendizaje. \nObjetivo General \nFormar docentes\, directivos y profesionales del ámbito educativo en la comprensión y aplicación de estrategias pedagógicas innovadoras que integren la inteligencia emocional en el aula\, con el fin de promover un ambiente de aprendizaje positivo\, significativo y enriquecedor para el desarrollo integral de los estudiantes. \nDestinatarios \nLa Diplomatura está dirigida al ámbito educativo formal\, específicamente docentes de todos los niveles y modalidades\, profesionales de la educación y la salud mental que trabajen en ámbitos educativos y estudiantes avanzados de carreras afines. \nMetodología \nLa Diplomatura se desarrollará bajo la modalidad virtual\, incluyendo tanto instancias sincrónicas como asincrónicas. Cada Módulo contará con: \nClases virtuales sincrónicas: Exposición de contenidos\, análisis de situaciones\, debate y actividades prácticas. \nTrabajos asincrónicos mediante aula virtual de la UCSF. \nMaterial de lectura y estudio: artículos científicos\, libros y recursos en línea. \nFecha de Inicio: 04/04/2025 \nDuración: 16 semanas \nLink de Inscripción: \n https://forms.gle/ML94TeD5ozwLjFL8A
URL:https://www.ucsf.edu.ar/evento/construccion-de-aulas-emocionalmente-inteligentes/
LOCATION:Virtual\, Argentina
CATEGORIES:Pastoral,Cultura: coros y teatro,Santa Fe,Facultades,Alumnos,Rosario,Carreras de Grado,Docentes,Personal UCSF,Reconquista,Comunidad,Psicología,Bienestar universitario,Sedes,IIEP Instituto de Investigaciones y Extensión en Psicología,Licenciatura en Psicología,Licenciatura en Psicopedagogía,IIEP Instituto de Investigaciones y Extensión en Psicología
ATTACH;FMTTYPE=image/jpeg:https://www.ucsf.edu.ar/wp-content/uploads/2025/03/feec0b44-d0dc-4291-8381-d8ecf923a12f-1-1.jpg
ORGANIZER;CN="Facultad%20de%20Psicolog%C3%ADa":MAILTO:ralarcon@ucsf.edu.ar
END:VEVENT
BEGIN:VEVENT
DTSTART;TZID=America/Argentina/Buenos_Aires:20250409T160000
DTEND;TZID=America/Argentina/Buenos_Aires:20250409T180000
DTSTAMP:20260419T231213
CREATED:20250331T221658Z
LAST-MODIFIED:20250409T125853Z
UID:81444-1744214400-1744221600@www.ucsf.edu.ar
SUMMARY:Charla Informativa: Elecciones 2025 en Santa Fe
DESCRIPTION:¿Qué votamos y de qué se trata la Reforma de la Constitución Provincial?\n  \nDisertantes: \nEmerio Agretti – Facultad de Filosofía y Humanidades UCSF \nPeriodista y abogado – Secretario de Redacción sección Política diario El Litoral. \nMariela Uberti – Facultad de Derecho y Ciencia Política UCSF \nAbogada – Docente de Derecho Constitucional. \n  \nActividad no arancelada y sin inscripción previa.
URL:https://www.ucsf.edu.ar/evento/charla-informativa-elecciones-2025-en-santa-fe/
LOCATION:UCSF Santa Fe\, Echagüe 7151\, Santa Fe\, Santa Fe\, Argentina
CATEGORIES:Abogacía,Santa Fe,Facultades,Alumnos,Docentes,Derecho y Ciencia Política,Licenciatura en Relaciones Internacionales,Martillero Público y Corredor Inmobiliario,OPI - Observatorio de Política Internacional
ATTACH;FMTTYPE=image/jpeg:https://www.ucsf.edu.ar/wp-content/uploads/2025/03/Elecciones-2025-en-Santa-Fe_web.jpg
GEO:-31.6069451;-60.6709418
X-APPLE-STRUCTURED-LOCATION;VALUE=URI;X-ADDRESS=UCSF Santa Fe Echagüe 7151 Santa Fe Santa Fe Argentina;X-APPLE-RADIUS=500;X-TITLE=Echagüe 7151:geo:-60.6709418,-31.6069451
END:VEVENT
BEGIN:VEVENT
DTSTART;TZID=America/Argentina/Buenos_Aires:20250411T140000
DTEND;TZID=America/Argentina/Buenos_Aires:20250411T153000
DTSTAMP:20260419T231213
CREATED:20250410T195021Z
LAST-MODIFIED:20250410T195029Z
UID:81759-1744380000-1744385400@www.ucsf.edu.ar
SUMMARY:Círculo de Lecturas
DESCRIPTION:
URL:https://www.ucsf.edu.ar/evento/circulo-de-lecturas/
LOCATION:UCSF Santa Fe\, Echagüe 7151\, Santa Fe\, Santa Fe\, Argentina
CATEGORIES:Investigación Ecojurídica,Alumnos,Docentes,Personal UCSF
ORGANIZER;CN="Equipo%20de%20Investigaci%C3%B3n%20Socio-Eco-Jur%C3%ADdica":MAILTO:ecojurinvestiga@ucsf.edu.ar
GEO:-31.6069451;-60.6709418
X-APPLE-STRUCTURED-LOCATION;VALUE=URI;X-ADDRESS=UCSF Santa Fe Echagüe 7151 Santa Fe Santa Fe Argentina;X-APPLE-RADIUS=500;X-TITLE=Echagüe 7151:geo:-60.6709418,-31.6069451
END:VEVENT
END:VCALENDAR