BEGIN:VCALENDAR
VERSION:2.0
PRODID:-//UCSF - Universidad Católica de Santa Fe - ECPv5.14.2.1//NONSGML v1.0//EN
CALSCALE:GREGORIAN
METHOD:PUBLISH
X-WR-CALNAME:UCSF - Universidad Católica de Santa Fe
X-ORIGINAL-URL:https://www.ucsf.edu.ar
X-WR-CALDESC:Events for UCSF - Universidad Católica de Santa Fe
REFRESH-INTERVAL;VALUE=DURATION:PT1H
X-Robots-Tag:noindex
X-PUBLISHED-TTL:PT1H
BEGIN:VTIMEZONE
TZID:America/Argentina/Buenos_Aires
BEGIN:STANDARD
TZOFFSETFROM:-0300
TZOFFSETTO:-0300
TZNAME:-03
DTSTART:20230101T000000
END:STANDARD
END:VTIMEZONE
BEGIN:VEVENT
DTSTART;VALUE=DATE:20230327
DTEND;VALUE=DATE:20230801
DTSTAMP:20260423T064428
CREATED:20221228T185429Z
LAST-MODIFIED:20230203T120214Z
UID:56567-1679875200-1690847999@www.ucsf.edu.ar
SUMMARY:Diplomatura Internacional en Discapacidad desde la Perspectiva de Derechos Humanos – UCSF
DESCRIPTION:  \nEl curso está dirigido a graduados de disciplinas vinculadas a la salud (medicina\, psicología\, terapia ocupacional\, trabajo social\, etc.)\, al derecho\, a la educación\, y todos aquellos graduados que tengan interés en el tema. \nPermite brindar herramientas básicas a los profesionales en atención al abordaje interdisciplinario que el modelo social de la discapacidad impone\, destacando el enfoque de derechos en los procesos administrativos y judiciales que involucren a personas con discapacidad\, como así también en lo que respecta a la atención-cuidado de su salud y al ejercicio de actos personalísimos. \n  \nFecha: desde el 27 de marzo hasta el 31 de julio de 2023 \nModalidad virtual \n  \nFolleto de la Diplomatura \nConsultas e inscripción: posgrado@ucsf.edu.ar \n  \n 
URL:https://www.ucsf.edu.ar/evento/diplomatura-internacional-en-discapacidad-desde-la-perspectiva-de-derechos-humanos-ucsf/
LOCATION:Virtual\, Argentina
CATEGORIES:Doctorado en Filosofía,Maestría en Evaluación de Impacto y Gestión Ambiental,Alumnos,Santa Fe,Docentes,Especialización en Terapias Cognitivas,Personal UCSF,Especialización en Gestión Integral del Hábitat,Carreras de Posgrado,Doctorado en Ciencias Jurídicas,Doctorado en Educación,Posgrados,Sedes,Maestría en Relaciones Internacionales
ATTACH;FMTTYPE=image/jpeg:https://www.ucsf.edu.ar/wp-content/uploads/2022/12/DIPLOMATURA-EN-DISCAPACIDAD_feed.jpg
END:VEVENT
BEGIN:VEVENT
DTSTART;TZID=America/Argentina/Buenos_Aires:20230415T100000
DTEND;TZID=America/Argentina/Buenos_Aires:20231209T140000
DTSTAMP:20260423T064428
CREATED:20230306T140649Z
LAST-MODIFIED:20231024T214616Z
UID:57898-1681552800-1702130400@www.ucsf.edu.ar
SUMMARY:Diplomatura Estrategia Casa Común
DESCRIPTION:El Vicerrectorado Académico de la UCSF\,  conjuntamente con Fundación EPyCA y el Centro Esperanza\, comunican: que se encuentra abierta la inscripción a la Diplomatura Estrategia Casa Común – ECCo- 2023. \nCoordinación: Dra. Mercedes Gagneten \nInicio Cursado: Sábado 15 de Abril\, de 10 a 14 horas. Finaliza Sábado 9 de diciembre.\nCierre Inscripción: 3 de Abril. \nModalidad: 9 encuentros virtuales de Video Construcciones. Presencial para personas con domicilio en Santa Fe Capital. \nDestinatarios: público en general: profesionales\, productores\, emprendedores\, militantes sociales\, técnicos\, docentes y estudiantes. \nNo requiere formación previa. \nCursado arancelado \n  \nVER FOLLETO\n  \nOrganizan: Universidad Católica de Santa Fe (UCSF)\, Fundación EPyCA y Centro Esperanza. \nLink de inscripción: https://forms.gle/74Y81mFr3LZAUiYz7 \nFacebook: https://www.facebook.com/fundacionepyca \nInformes: Email: Info@epyca.org.ar \nTeléfono móvil de contacto: +54 9 342 5485334 (Nicolás Machado)
URL:https://www.ucsf.edu.ar/evento/diplomatura-estrategia-casa-comun/
LOCATION:UCSF Santa Fe\, Echagüe 7151\, Santa Fe\, Santa Fe\, Argentina
CATEGORIES:Alumnos,Santa Fe,Docentes,Rosario,Personal UCSF,Posadas,Reconquista,Rafaela,Gualeguaychú,Posgrados,Sedes,Extensión,Investigación
GEO:-31.6069451;-60.6709418
X-APPLE-STRUCTURED-LOCATION;VALUE=URI;X-ADDRESS=UCSF Santa Fe Echagüe 7151 Santa Fe Santa Fe Argentina;X-APPLE-RADIUS=500;X-TITLE=Echagüe 7151:geo:-60.6709418,-31.6069451
END:VEVENT
BEGIN:VEVENT
DTSTART;TZID=America/Argentina/Buenos_Aires:20230603T083000
DTEND;TZID=America/Argentina/Buenos_Aires:20230603T123000
DTSTAMP:20260423T064428
CREATED:20230531T154218Z
LAST-MODIFIED:20230601T162321Z
UID:60686-1685781000-1685795400@www.ucsf.edu.ar
SUMMARY:Taciturnos\, balbuceantes\, grotescos. Un recorrido por Winesburg\, Ohio de Sherwood Anderson 
DESCRIPTION:Clase abierta \nTaciturnos\, balbuceantes\, grotescos.  \nUn recorrido por Winesburg\, Ohio de Sherwood Anderson  \nDisertante: Dr. Bruno Grossi \n  \nA pesar de ser admirado por autores como Fitzgerald\, Faulkner o Hemingway\, el escritor norteamericano Sherwood Anderson no goza aún del reconocimiento que merece. En este sentido\, Winesburg\, Ohio (1919) -su obra más aclamada- no solo dialoga intensamente con las sofisticadas ficciones de vanguardia de comienzos de siglo XX por su particular atención a los problemas en torno al lenguaje\, sino que introduce una serie de innovaciones formales que terminaron por volverse el modelo para todos los cuentistas posteriores. La tensión entre lo dicho y lo no dicho\, las apariencias del mundo social y las contradicciones internas de los individuos\, la posibilidad de la redención artística y los efectos imprevisibles que este tiene sobre la subjetividad\, se vuelven así la base sobre la cuales se construyen los relatos emocionantes de este clásico y extraño libro. Es por eso que puede afirmarse que el tema predominante de Anderson es la discontinuidad entre las personas\, pero sobre todo -y eso es lo que nos interesa abordar en esta instancia- los comportamientos y sentimientos contradictorios que surgen de esa discontinuidad. \n  \nContenidos a desarrollar en el encuentro  \n– Cuento\, novela\, short-story cycle: el género como hipótesis de lectura \n– Relación individuo-sociedad \n– La crisis del lenguaje \n– La emancipación femenina en el surgimiento del psicoanálisis \n– El “momento cualquiera” o una nueva estética modernista \n– La redención artística \n  \nCosto: Una sola cuota de $ 1500. \n  \nAlumnos y profesores de la UCSF e Instituto Castañeda: sin costo. \n  \nModalidad: presencial\, en la UCSF. \n  \nFecha: sábado 3 de junio\, de 8.30 a 12.30 \n  \nSobre la obra: Quien lo desee\, puede solicitar la versión digital de Winesburg\, Ohio a nverde@ucsf.edu.ar \nL
URL:https://www.ucsf.edu.ar/evento/60686/
LOCATION:UCSF Santa Fe\, Echagüe 7151\, Santa Fe\, Santa Fe\, Argentina
CATEGORIES:Pastoral,Cultura: coros y teatro,Santa Fe,Facultades,Alumnos,Docentes,Carreras de Grado,Personal UCSF,Filosofía y Humanidades,Comunidad,Bienestar universitario,Sedes
ATTACH;FMTTYPE=image/jpeg:https://www.ucsf.edu.ar/wp-content/uploads/2023/05/Taciturnos-flyer-e1685636565585.jpg
ORGANIZER;CN="Facultad%20de%20Filosofia%20y%20Humanidades":MAILTO:extensionffyh@ucsf.edu.ar
GEO:-31.6069451;-60.6709418
X-APPLE-STRUCTURED-LOCATION;VALUE=URI;X-ADDRESS=UCSF Santa Fe Echagüe 7151 Santa Fe Santa Fe Argentina;X-APPLE-RADIUS=500;X-TITLE=Echagüe 7151:geo:-60.6709418,-31.6069451
END:VEVENT
BEGIN:VEVENT
DTSTART;TZID=America/Argentina/Buenos_Aires:20230613T200000
DTEND;TZID=America/Argentina/Buenos_Aires:20230613T213000
DTSTAMP:20260423T064428
CREATED:20230606T203019Z
LAST-MODIFIED:20230607T173746Z
UID:60828-1686686400-1686691800@www.ucsf.edu.ar
SUMMARY:Clase abierta: Invitado especial de Uruguay Dr. Juan Mila: Supervisión en Gerontopsicomotricidad”.
DESCRIPTION:  \nCátedra Abierta con Invitado especial de Uruguay\, coordinada por la Lic. Marcela Carta de la asignatura Psicomotricidad en la Tercera Edad (CCC. Lic. en Psicomotricidad) \n  \nLa intervención psicomotriz con adultos mayores y su relevancia es un espacio muy nuevo en nuestro país\, que está haciendo sus primeros pasos. \nLos Adultos mayores son una población que necesita de su atención\, considerando hoy el aumento del envejecimiento poblacional. Es un colectivo que implica un cuerpo de conocimientos y saber acumulado\, específico y basado en la evidencia científica. Además\, son necesarios los recursos humanos profesionales formados. En esta oportunidad el tema a desarrollar es la Supervisión en Gerontopsicomotricidad. \nFecha: 13/06/23 \nHora: a las 20 hs \nLugar / Modalidad: Virtual sincrónica/grabada \nDisertantes: Invitado Juan Mila Demarchi  \nDestinatarios/as: Comunidad educativa de UCSF y público en general. \nInscripción: https://docs.google.com/forms/d/e/1FAIpQLSdVI9iQMmIuF-WSsabYWIZPTsBdRynDh5Aeu72T8dn49xxedg/viewform?usp=sf_link \nLink de ingreso: https://zoom.us/j/94935293394 \nContacto para consultas: patricia.turello@ucsf.edu.ar \n  \nCV Prof. Dr. Juan Mila Demarchi http://www.juanmila.com.uy/biografia.html  \nLicenciado en Psicomotricidad. Doctor en Educación. \nFormador e investigador en Formación Corporal en la Universidad de la República. \nResponsable de la Formación Corporal de Psicomotricistas diferentes países latinoamericanos y europeos. \nSupervisor de Formadores en Formación Corporal de Psicomotricistas \nInvestigador autor de publicaciones y libros sobre la Formación Corporal. \nProfesor Director. Licenciatura de Psicomotricidad- Carrera de Especialización en Gerontopsicomotricidad. Facultad de Medicina Universidad de la República. \nAsistente Académico. Escuela de Graduados. Facultad de Medicina. Universidad de la República.\nMiembro de Honor de la Asociación Brasilera de Psicomotricidad.\nPresidente de la Red Latinoamericana de Universidades con Formación en Psicomotricidad.\nProfesor Honoris Causa. Organizaciòn Internacional de Psicomotricidad y Relajación Paris Francia.\nAsesor Académico del Centro Internacional de Psicosomática de Paris Francia.\nDirector de la Revista Iberoamericana de Universidades con Formación en Psicomotricidad. www.psicomotricidadum.com.ar\nInvestigador en Desarrollo Infantil. Grupo de Estudios de Familia. Comisión Sectorial de Investigación Científica. Universidad de la República.\nInvestigador en la Formación Corporal de Psicomotricistas. Udelar.\nEspecialista en Gerontopsicomotricidad. Escuela de Graduados de la Facultad de Medicina Udelar.\nProfesor invitado de Universidades Latinoamericanas y Europeas..\nMiembro de diferentes Comités Editores de Revistas de la Especialidad en España\, Francia\, Portugal\, e Italia.\nEx Director de la Escuela Universitaria de Tecnología Médica. Facultad de Medicina Universidad de la República. (2002-2006) (2006-2010)\nEx Director de Primera Infancia Ministerio de Educación y Cultura. (2015-2020) \n \n 
URL:https://www.ucsf.edu.ar/evento/clase-abierta-invitado-especial-de-uruguay-dr-juan-mila-supervision-en-gerontopsicomotricidad/
LOCATION:UCSF Santa Fe\, Echagüe 7151\, Santa Fe\, Santa Fe\, Argentina
CATEGORIES:Pastoral,Alumnos,Docentes,Carreras de Grado,Licenciatura en Gerontología (CCC),Farmacia,Personal UCSF,Ciclos de complementación,Comunidad,Sedes,Licenciatura en Psicomotricidad (CCC),Licenciatura en Seguridad Alimentaria (CCC),Licenciatura en Fonoaudiología,Licenciatura en Kinesiología y Fisioterapia,Licenciatura en Nutrición,Licenciatura en Obstetricia,Licenciatura en Terapia Ocupacional,IIFCS Instituto de Investigación de la Facultad de Ciencias de la Salud
ORGANIZER;CN="Facultad%20de%20Ciencias%20de%20la%20Salud":MAILTO:salud@ucsf.edu.ar
GEO:-31.6069451;-60.6709418
X-APPLE-STRUCTURED-LOCATION;VALUE=URI;X-ADDRESS=UCSF Santa Fe Echagüe 7151 Santa Fe Santa Fe Argentina;X-APPLE-RADIUS=500;X-TITLE=Echagüe 7151:geo:-60.6709418,-31.6069451
END:VEVENT
BEGIN:VEVENT
DTSTART;TZID=America/Argentina/Buenos_Aires:20230614T180000
DTEND;TZID=America/Argentina/Buenos_Aires:20230614T200000
DTSTAMP:20260423T064428
CREATED:20230529T152715Z
LAST-MODIFIED:20230602T142606Z
UID:60572-1686765600-1686772800@www.ucsf.edu.ar
SUMMARY:“El General Belgrano en la Historia y en nuestro presente”
DESCRIPTION:El Vicerrectorado Académico conjuntamente con el Programa Universidad Abierta; la Facultad de Derecho y Ciencia Política y El Centro de Estudios Belgranianos Rosario Siglo XXI (CEBR)\, invitan a la charla híbrida: “El General Belgrano en la Historia y en nuestro presente” \nObjetivos: \n\nReferenciar el aporte del general Belgrano a la formación de la identidad nacional como mensaje y ejemplo el presente de nuestra sociedad\nDestacar el protagonismo del general Belgrano en su relación con la Historia de Santa Fe y su aporte a la institucionalidad\, entre otros.\n\nDía y horario: miércoles 14 de junio\, de 18 a 20 horas. \nModalidad: híbrida \nAula: 2.51 \nDirección: Canónigo Echagüe 7151.UCSF\, sede Santa Fe. \nDestinatarios: público en general; alumnos de grado y postgrado; docentes de la UCSF y de otras Universidades e Instituciones. \nInscripciones: https://www.eventbrite.com.ar/e/el-general-belgrano-en-la-historia-y-nuestro-presente-tickets-645356276997?aff=Inscripciones \nLink para quienes deseen participar por Zoom \nUnirse a la reunión Zoomhttps://zoom.us/j/93884063462ID de reunión: 938 8406 3462 \nDisertantes: \nDr. Miguel Carrillo Bascary: “Belgrano en sus banderas” (Centro de Estudios Belgranianos Rosario) \nDr. Reynoso Mántaras: “Manuel Belgrano y Estanislao López: desencuentros y comunión de dos próceres americanos” (Instituto Belgraniano del Litoral) \nDr. Chizzini Melo: “El General Belgrano y su reconocimiento a Santa Fe” (Instituto Belgraniano de Santa Fe) \nCierre: Dr. Guillermo Kerz \nEl CEBR entregará a los asistentes 100 revistas-libros donde se hace referencia sobre la evolución del diseño de la Bandera Nacional. \nCV abreviado de los disertantes \nMiguel CARRILLO BASCARY (expositor)\nMiembro de número y del Consejo Directivo del Instituto Nacional Belgraniano\nCoordinador Académico del Centro de Estudios Belgranianos Rosario Siglo XXI. Fundador\nPresidente del Instituto Belgraniano de Rosario (2011/2013) y fundador\nConsultor en Vexilología y Ceremonial\nHistoriador especializado en el período de la Emancipación nacional\nFue director general del Monumento Nacional a la Bandera\nProfesor titular de Derechos Humanos en la Facultad de Derecho\, UNR.\nPresidente y fundador de la Junta de Historia de Rosario (2003/ 2007 y 2015/ 2017)\nRedactor e impulsor de la ley que reconoció a la Bandera Nacional de la Libertad Civil\, cuarto símbolo nacional. Publicista. Produce el blog www.banderasargentinas.blogspot.com dedicado a temas de Vexilología\, Ceremonial e Historia\, con más de 650.000 visitas y unas 900 publicaciones. \nDiego Martín REYNOSO MÁNTARAS (expositor invitado)\nAbogado (UNL). Presidente del Instituto Belgraniano del Litoral\nMiembro de Número y del del Instituto Nacional Belgraniano\nMiembro de la Asociación Sanmartiniana de Santa Fe \nLuis Eduardo CHIZZINI MELO (expositor invitado)\nAbogado y mediador. Miembro de número del Instituto Belgraniano de Santa Fe\nFundador de los institutos Belgranianos de Coronda y de Santo Tomé\nMiembro Correspondiente del Instituto de Historia Militar Argentina\nVice-presidente de la Asociación Cultural Sanmartiniana de Santa Fe\nPresidente de la Asociación Cultural Sanmartiniana de Santa Fe\, hasta el año 2021\nCoronel (R) del Arma de Ingenieros\nOficial de Estado Mayor y de Estado Mayor Conjunto\nLicenciado en Estrategia y Organización\nEntre otras comisiones se desempeñó como:\nJefe del Escuadrón de Ingenieros Blindados de Paraná\nJefe del Batallón de Ingenieros “Cnl Czetz” (Unidad Histórica)\nSecretario General del Comando del Segundo Cuerpo de Ejército \nContacto: nsturla@ucsf.edu.ar \n  \n 
URL:https://www.ucsf.edu.ar/evento/el-general-belgrano-en-la-historia-y-en-nuestro-presente/
LOCATION:UCSF Santa Fe\, Echagüe 7151\, Santa Fe\, Santa Fe\, Argentina
CATEGORIES:Pastoral,Editorial,Alumnos,Cultura: coros y teatro,Santa Fe,Docentes,Rosario,Personal UCSF,Posadas,Reconquista,Rafaela,Gualeguaychú,Bienestar universitario,Sedes,Extensión,Investigación,Profesorado en Historia (CCC)
ATTACH;FMTTYPE=image/jpeg:https://www.ucsf.edu.ar/wp-content/uploads/2023/05/Imagen-Belgrano.jpeg
ORGANIZER;CN="Vicerrectorado%20Acad%C3%A9mico":MAILTO:vrecacad@ucsf.edu.ar
GEO:-31.6069451;-60.6709418
X-APPLE-STRUCTURED-LOCATION;VALUE=URI;X-ADDRESS=UCSF Santa Fe Echagüe 7151 Santa Fe Santa Fe Argentina;X-APPLE-RADIUS=500;X-TITLE=Echagüe 7151:geo:-60.6709418,-31.6069451
END:VEVENT
BEGIN:VEVENT
DTSTART;TZID=America/Argentina/Buenos_Aires:20230622T140000
DTEND;TZID=America/Argentina/Buenos_Aires:20230622T200000
DTSTAMP:20260423T064428
CREATED:20230608T130648Z
LAST-MODIFIED:20230622T134727Z
UID:60900-1687442400-1687464000@www.ucsf.edu.ar
SUMMARY:JORNADA  Repensar la Democracia… En su 40º Aniversario (1983-2023)
DESCRIPTION:Por el paro de transporte\, la Jornada se realizará en modalidad híbrida: presencialmente en el Aula 2.50 de la UCSF Sede Virgen de Guadalupe -Santa Fe- y virtualmente a través de Zoom\, ID de reunión: 915 1822 0100 \nEnlace a la reunión: https://zoom.us/j/91518220100 \nLa intencionalidad de la Jornada es asumir a nivel universitario\, es decir\, en una perspectiva de comprensión dialógica fundamental y de proyección operativa troncal\, el hecho celebratorio nacional del 40º aniversario de institucionalidad democrática. Conmemoración esperanzada que necesita asumir en ella la exigencia crítica de transformar las marcadas deficiencias de la experiencia ya recorrida\, en un camino real y verificable\, duradero y progresivo de institucionalidad republicana y de desarrollo integral en libertad\, protagonizado responsablemente por la base social\, por la gente y facilitado por un estado subsidiario y relacional\, como lo enseña la DSI. \nAsimismo\, responder al llamado de los Obispos argentinos: “A cuarenta años de la recuperación de la democracia vemos con dolor cuánto desaprovechamos las posibilidades que teníamos de construir una Argentina pujante y feliz (…). Invitamos con fervor a seguir confiando en el camino democrático con la esperanza de que estamos a tiempo. Siempre es posible renacer si lo hacemos entre todos. Siempre hay camino si somos capaces de conversar y de ponernos la patria al hombro. Este es un deseo que no sabe de grietas o partidos\, es de un pueblo. (…) La gente necesita recibir propuestas concretas y realistas más que soluciones tan seductoras como inconsistentes”. (Mensaje de la 122º Asamblea Plenaria de la Conferencia Episcopal Argentina – Pilar\, 26 de abril de 2023) \nY plantear\, a través de la secuencia de prestigiosas intervenciones\, tanto las cuestiones de fondo referidas a las condiciones ético-culturales e histórico-sociales de la práctica constitucional de la democracia y de su crisis en Argentina y América Latina\, cuanto algunos aspectos operativos básicos para una democracia viva\, a nivel político-económico\, político-educativo y político-social\, enfocado desde el protagonismo de la sociedad civil y facilitado por el estado. \n  \nOrganiza: \nInstituto de Filosofía de la Facultad de Filosofía y Humanidades UCSF \nSecretaría de Ciencia\, Técnica y Extensión del Rectorado UCSF \n  \nAuspicia:  \n\nAPyME- Santa Fe\nFOECRA\n\n  \nAdhiere: \n\nInstituto de Investigación de la Educación Argentina de la FFyH-UCSF\nFacultad de Derecho y Ciencia Política – UCSF\nFacultad de Ciencias Económicas – UCSF\nPrograma Universidad Abierta -UCSF\nObservatorio de Economía Social de la Facultad de Ciencias Jurídicas y Sociales – UNL\n\nActividad abierta y gratuita. \nCosto de la certificación: \n\n$1.500   Público en general\n$1.500   Docentes UCSF\n$500      Estudiantes UCSF\n\nDESCARGAR PROGRAMA COMPLETO DE LA JORNADA \nMás información: anibalpfornari@gmail.com \nCRONOGRAMA \n14:30 hs. Apertura \n14:45 Panel de Apertura \nLa crisis actual de la democracia: una perspectiva meta-política (Zoom) \nDr. Carlos Hoevel (BuenosAires) \n  \nLa república democrática es un camino\, no un modelo \nLic. Ramiro Lezcano Podetti (Montevideo) \nPoder: idolatría o complejidad. La democracia como política de la cultura (Zoom) \nLic. Darío García Luzón (México) \n16:15 Conferencia: Democracia\, Cultura del Trabajo y Desarrollo \nDr. Vicente Nicolás Donato (Bologna – Buenos Aires) \n17:30 Pausa \n18:00 Mesa Redonda de Investigadores del Instituto de Filosofía: Perspectivas Actuales \nLic. Francisco Bodean\, Dra. Ana Bonet Lic. David Pignalitti – Dra. María de los Ángeles Cantero –  \n18:45 Panel de Cierre \nUna política de estado para la educación argentina  \n                        Carlos Cantero (Santa Fe) \nAportes a la Democracia de la Economía Social y Solidaria: desde la libertad\, la amistad social y el bien común \nLic. Julio César Lozeco (Santa Fe) \n19:45 Cierre
URL:https://www.ucsf.edu.ar/evento/jornada-repensar-la-democracia-en-su-40o-aniversario-1983-2023/
LOCATION:UCSF Santa Fe\, Echagüe 7151\, Santa Fe\, Santa Fe\, Argentina
CATEGORIES:Santa Fe,Facultades,Alumnos,Docentes,Personal UCSF,Filosofía y Humanidades,Comunidad,Sedes
ATTACH;FMTTYPE=image/jpeg:https://www.ucsf.edu.ar/wp-content/uploads/2023/06/JORNADA-REPENSAR-LA-DEMOCRACIA_feed.jpg
ORGANIZER;CN="Instituto%20de%20Filosof%C3%ADa":MAILTO:extensionffyh@ucsf.edu.ar
GEO:-31.6069451;-60.6709418
X-APPLE-STRUCTURED-LOCATION;VALUE=URI;X-ADDRESS=UCSF Santa Fe Echagüe 7151 Santa Fe Santa Fe Argentina;X-APPLE-RADIUS=500;X-TITLE=Echagüe 7151:geo:-60.6709418,-31.6069451
END:VEVENT
BEGIN:VEVENT
DTSTART;TZID=America/Argentina/Buenos_Aires:20230624T083000
DTEND;TZID=America/Argentina/Buenos_Aires:20230624T133000
DTSTAMP:20260423T064428
CREATED:20230529T143624Z
LAST-MODIFIED:20230529T143908Z
UID:60568-1687595400-1687613400@www.ucsf.edu.ar
SUMMARY:Amar hoy en cuerpo y alma: pensar desde el amor los desafíos de la vida conyugal y familiar
DESCRIPTION:Esta actividad está destinada a agentes pastorales\, catequistas\, padres de familia y público en general interesado en la temática\, organizada por el Instituto para el Matrimonio y la Familia y el Equipo Arquidiocesano de Pastoral Familiar. \nEl curso estará a cargo de Magdalena Estévez Pía  (Mg. en Ciencias del Matrimonio y la  Familia) y Guido Haase Espíndola (Dr. en Sagrada Teología del Matrimonio y la Familia)\, ambos egresados del Pontificio Instituto Teológico Juan Pablo II de Roma. \nLa actividad es con entrada libre. Requiere inscripción previa. \nINSCRIPCIÓN AQUÍ \nPara mayores informes; matyfam@ucsf.edu.ar \nEntre los temas a desarrollar el amor ocupará un lugar central. El amor “posee el sabor de toda la persona” y “tiene su peso específico”\, es decir\, nuestra misma existencia clama «amor» a cada respiro\, clama por su reciprocidad. Evidentemente el amor no puede ser “cualquier cosa”\, sino que debe fundarse en algo\, mejor dicho\, en Alguien\, que le conceda la objetividad y firmeza que requiere la afirmación «te amo». No pueden gastarse los labios en vanidades sonantes o la imaginación en quimeras vacías. No pueden y no deben porque allí se gastaría\, se desvanecería\, la entereza de la afirmación humana. \nLa época actual\, evidentemente\, no nos invita a vivir la estabilidad. Más bien nos propone una marea cambiante y un cierto “analfabetismo afectivo” que toma la máscara del amor. Existen también propuestas contraculturales que invaden el campo de la objetividad con un soberbio absolutismo\, reafirmando la dialéctica materialista que reduce el amor y\, en consecuencia\, también lo hace con su campo visivo de lo eterno\, del Eterno. \nProponemos volver a pensar el amor conyugal como respuesta evangélica frente al hombre desamorado. Aquel amor que bebe de la fuente eterna no tendrá más sed (cf. Jn 4\,13s). \nLa invitación es la de volver a buscar estas respuestas en la Palabra de Dios analizada bajo la óptica de la Teología del Cuerpo de san Juan Pablo II. ¡Démosle otra oportunidad al amor! \nSituación actual. \nContexto: a) reducción materialista /biologicista; b) reducción sentimentalista (D. Hume); c) reducción pulsional (S. Freud y W. Reich). \nAnálisis social: a) Z. Bauman (amor y sociedad líquidas); b) Otras propuestas: A. Giddens\, K. Jarvie. \nRevolución sexual. \nPropuesta marxista: a) movimientos de extrema izquierda; b) lectura dialéctica-materialista de las relaciones interpersonales. \nMatrimonio \nAsombro: Gn 2\,23s y experiencias originarias (soledad\, desnudez y unión). \nFascinación: Cantar de los cantares (cuerpo como sacramento\, lenguaje del cuerpo\, bisubjetividad). \nMadurez del amor: a) Tobías: reconocimiento de Dios y la objetividad del don; b) Efesios 5: identificación con Cristo-Iglesia. \nPedagogía \nPedagogía del cuerpo en las Catequesis de san Juan Pablo II. \nPastoral desde Familiaris Consortio de san Juan Pablo II. \n  \n 
URL:https://www.ucsf.edu.ar/evento/amar-hoy-en-cuerpo-y-alma-pensar-desde-el-amor-los-desafios-de-la-vida-conyugal-y-familiara/
LOCATION:UCSF Santa Fe\, Echagüe 7151\, Santa Fe\, Santa Fe\, Argentina
CATEGORIES:Pastoral,Alumnos,Docentes,Personal UCSF,Comunidad,Bienestar universitario,IMF Instituto para el Matrimonio y la Familia
ATTACH;FMTTYPE=image/jpeg:https://www.ucsf.edu.ar/wp-content/uploads/2023/05/Amar-en-cuerpo-y-alma_WEB.jpg
ORGANIZER;CN="Instituto%20para%20el%20Matrimonio%20y%20la%20Familia":MAILTO:matyfam@ucsf.edu.ar
GEO:-31.6069451;-60.6709418
X-APPLE-STRUCTURED-LOCATION;VALUE=URI;X-ADDRESS=UCSF Santa Fe Echagüe 7151 Santa Fe Santa Fe Argentina;X-APPLE-RADIUS=500;X-TITLE=Echagüe 7151:geo:-60.6709418,-31.6069451
END:VEVENT
END:VCALENDAR