BEGIN:VCALENDAR
VERSION:2.0
PRODID:-//UCSF - Universidad Católica de Santa Fe - ECPv5.14.2.1//NONSGML v1.0//EN
CALSCALE:GREGORIAN
METHOD:PUBLISH
X-WR-CALNAME:UCSF - Universidad Católica de Santa Fe
X-ORIGINAL-URL:https://www.ucsf.edu.ar
X-WR-CALDESC:Events for UCSF - Universidad Católica de Santa Fe
REFRESH-INTERVAL;VALUE=DURATION:PT1H
X-Robots-Tag:noindex
X-PUBLISHED-TTL:PT1H
BEGIN:VTIMEZONE
TZID:America/Argentina/Buenos_Aires
BEGIN:STANDARD
TZOFFSETFROM:-0300
TZOFFSETTO:-0300
TZNAME:-03
DTSTART:20240101T000000
END:STANDARD
END:VTIMEZONE
BEGIN:VEVENT
DTSTART;TZID=America/Argentina/Buenos_Aires:20240224T100000
DTEND;TZID=America/Argentina/Buenos_Aires:20240302T120000
DTSTAMP:20260422T084545
CREATED:20240208T172810Z
LAST-MODIFIED:20240220T192547Z
UID:68902-1708768800-1709380800@www.ucsf.edu.ar
SUMMARY:“Redacción de propuestas para fuentes de financiamiento. De la teoría a la práctica”
DESCRIPTION: ESCUELA DE VERANO \nEl Vicerrectorado Académico y el Programa Universidad Abierta\, dependiente de la Secretaría de Ciencia y Técnica\, y Extensión de la UCSF\, comunican que se encuentra  abierta la inscripción para la capacitación:  “Redacción de propuestas para fuentes de financiamiento. De la teoría a la práctica” \nObjetivos: \n– Abordar el proceso de elaboración de propuestas de investigación.\n– Desarrollar habilidades para la realización de propuestas factibles\, interesantes y viables en investigación\n– Elaborar estrategias como revisores de propuestas. \nDisertante: MSc. Maria Virginia Borga \nClase 1:\n– Secciones y reglas básicas para la redacción de propuestas\n– Título\, Resumen\, Estado del arte\n– Fines y objetivos: general y específicos\n– Workplan: metodología y diseño\n– Presupuesto\n– Escritura dirigida para el revisor\nClase 2:\n– Manejo de los datos\n– Agencias de financiación\n– “Speech elevator”: 2 min.\n– Elaboración de las propuestas\n– Evaluacion grupal de las propuestas (en el papel de los revisores) \nDestinatarios: Docentes\, jóvenes investigadores de todas las disciplinas\, revisores de TIF\, egresados\, estudiantes que estén elaborando su tesis de grado. \nDías: sábados 24 de febrero y 2 de marzo \nHorario: 10 a 12 horas \nInscripciones aquí: https://www.eventbrite.com.ar/e/redaccion-de-propuestas-para-fuentes-de-financiamiento-tickets-828775669337?aff=Inscripciones \nConsultas: nsturla@ucsf.edu.ar \n 
URL:https://www.ucsf.edu.ar/evento/redaccion-de-propuestas-para-fuentes-de-financiamiento-de-la-teoria-a-la-practica/
LOCATION:UCSF Santa Fe\, Echagüe 7151\, Santa Fe\, Santa Fe\, Argentina
CATEGORIES:Pastoral,Santa Fe,Cultura: coros y teatro,Editorial,Alumnos,Rosario,Docentes,Ciclos de complementación,Posadas,Personal UCSF,Reconquista,Rafaela,Comunidad,Gualeguaychú,Bienestar universitario,Licenciatura en Medios Digitales (CCC),Sedes,Licenciatura en Negocios Digitales (CCC),Licenciatura en Psicomotricidad (CCC),Licenciatura en Seguridad Alimentaria (CCC),Extensión,Investigación,Profesorado en Historia (CCC)
ATTACH;FMTTYPE=image/png:https://www.ucsf.edu.ar/wp-content/uploads/2024/02/Redaccion-de-propuestas-para-fuentes-de-financiamiento-de-la-teoria-a-la-practica_Flyer-1.png
ORGANIZER;CN="Vicerrectorado%20Acad%C3%A9mico":MAILTO:vrecacad@ucsf.edu.ar
GEO:-31.6069451;-60.6709418
X-APPLE-STRUCTURED-LOCATION;VALUE=URI;X-ADDRESS=UCSF Santa Fe Echagüe 7151 Santa Fe Santa Fe Argentina;X-APPLE-RADIUS=500;X-TITLE=Echagüe 7151:geo:-60.6709418,-31.6069451
END:VEVENT
BEGIN:VEVENT
DTSTART;TZID=America/Argentina/Buenos_Aires:20240305T190000
DTEND;TZID=America/Argentina/Buenos_Aires:20240305T203000
DTSTAMP:20260422T084545
CREATED:20240227T140019Z
LAST-MODIFIED:20240227T140107Z
UID:69196-1709665200-1709670600@www.ucsf.edu.ar
SUMMARY:Charla Informativa Virtual "Especialización en Gestión de la Transformación Digital" Posgrado
DESCRIPTION:ENLACE DE ZOOM \n  \n 
URL:https://www.ucsf.edu.ar/evento/charla-informativa-virtual-especializacion-en-gestion-de-la-transformacion-digital-posgrado/
LOCATION:Vía Zoom\, Argentina
CATEGORIES:Santa Fe,Alumnos,Docentes,Personal UCSF,Carreras de Posgrado,Departamento de Posgrados,Comunidad,Posgrados,Sedes
ATTACH;FMTTYPE=image/png:https://www.ucsf.edu.ar/wp-content/uploads/2024/02/Charla-informativa-GTD_Facebook-1.png
ORGANIZER;CN="Posgrado":MAILTO:posgrado@ucsf.edu.ar
END:VEVENT
BEGIN:VEVENT
DTSTART;TZID=America/Argentina/Buenos_Aires:20240306T080000
DTEND;TZID=America/Argentina/Buenos_Aires:20240309T170000
DTSTAMP:20260422T084545
CREATED:20240223T171225Z
LAST-MODIFIED:20240223T171225Z
UID:69113-1709712000-1710003600@www.ucsf.edu.ar
SUMMARY:Seminario Abierto de Posgrado UCSF - Sobre Metodología de la Investigación
DESCRIPTION:
URL:https://www.ucsf.edu.ar/evento/seminario-abierto-de-posgrado-ucsf-sobre-metodologia-de-la-investigacion/
LOCATION:UCSF Santa Fe\, Echagüe 7151\, Santa Fe\, Santa Fe\, Argentina
CATEGORIES:Santa Fe,Alumnos,Docentes,Personal UCSF,Carreras de Posgrado,Departamento de Posgrados,Doctorado en Ciencias Jurídicas,Comunidad,Posgrados,Sedes,Maestría en Relaciones Internacionales
ATTACH;FMTTYPE=image/png:https://www.ucsf.edu.ar/wp-content/uploads/2024/02/Seminario-metodologia-de-la-investigacion_facebook-1.png
GEO:-31.6069451;-60.6709418
X-APPLE-STRUCTURED-LOCATION;VALUE=URI;X-ADDRESS=UCSF Santa Fe Echagüe 7151 Santa Fe Santa Fe Argentina;X-APPLE-RADIUS=500;X-TITLE=Echagüe 7151:geo:-60.6709418,-31.6069451
END:VEVENT
BEGIN:VEVENT
DTSTART;TZID=America/Argentina/Buenos_Aires:20240307T180000
DTEND;TZID=America/Argentina/Buenos_Aires:20240307T193000
DTSTAMP:20260422T084545
CREATED:20240227T170515Z
LAST-MODIFIED:20240227T170610Z
UID:69225-1709834400-1709839800@www.ucsf.edu.ar
SUMMARY:Charla Informativa Virtual: "Especialización en Derecho Procesal" Departamento de Posgrado UCSF
DESCRIPTION:ENLACE DE ZOOM \n  \n 
URL:https://www.ucsf.edu.ar/evento/charla-informativa-virtual-especializacion-en-derecho-procesal-departamento-de-posgrado-ucsf/
LOCATION:Vía Zoom\, Argentina
CATEGORIES:Santa Fe,Alumnos,Docentes,Personal UCSF,Carreras de Posgrado,Departamento de Posgrados,Doctorado en Ciencias Jurídicas,Comunidad,Posgrados,Sedes
ATTACH;FMTTYPE=image/png:https://www.ucsf.edu.ar/wp-content/uploads/2024/02/Charla-Derecho-procesal_feed.png
ORGANIZER;CN="Posgrado":MAILTO:posgrado@ucsf.edu.ar
END:VEVENT
BEGIN:VEVENT
DTSTART;TZID=America/Argentina/Buenos_Aires:20240309T100000
DTEND;TZID=America/Argentina/Buenos_Aires:20240309T120000
DTSTAMP:20260422T084545
CREATED:20240220T163422Z
LAST-MODIFIED:20240222T173920Z
UID:69038-1709978400-1709985600@www.ucsf.edu.ar
SUMMARY:Curso de educación nutricional. Claves para el equilibrio y disfrute
DESCRIPTION:ESCUELA DE VERANO \n“El  Vicerrectorado Académico\, conjuntamente con el Programa Universidad Abierta para la Casa Común“\, dependiente de la Secretaría de Ciencia y Técnica\, y Extensión y la Facultad de Ciencias de la Salud de la UCSF\, comunican que se encuentra abierta la inscripción para el “Curso de educación nutricional. Claves para el equilibrio y disfrute”. \nFundamentación: la nutrición es una ciencia biomédica relativamente nueva\, por tanto\, muchas veces muy manipulada. Así la comunidad afronta diariamente los riesgos de la desinformación\, las prácticas de moda y los desequilibrios que esto conlleva para la salud física\, metabólica y emocional. Por tales motivos\, adquiere relevancia educar nutricionalmente a las personas que conforman la sociedad a partir de la información científica\, válida y con capacidad de adaptación a cada contexto\, con un enfoque centrado en el disfrute de los hábitos y la adherencia a largo plazo. \nContenidos: \nAlimentación saludable para el adulto sano. Recomendaciones. Alimentos y porciones. \nEjercicio físico. Prescripción. Estilo de vida activo. Beneficios para la salud.\nEstrés. Impacto en la salud. Rol en la modulación de hábitos. Importancia de su gestión. \nObjetivos:  \nQue al finalizar el curso el participante sea capaz de: \n\n Identificar un patrón de consumo de alimentos equilibrado.\n Reconocer los beneficios del ejercicio físico y su implementación diaria adecuada.\nDistinguir los efectos del estrés en la salud y la importancia de su gestión.\n\nDisertante: Dra. Narella Colussi \nFecha: sábados 9 y 16 de marzo \nHorario: de 10 a 12 horas aproximadamente \nModalidad: Virtual \nInscripciones aquí: https://www.eventbrite.com.ar/e/curso-de-educacion-nutricional-claves-para-el-equilibrio-y-disfrute-tickets-848491479857?aff=Inscripciones \nContacto: federico.fookespaccamiccio@ucsf.edu.ar
URL:https://www.ucsf.edu.ar/evento/curso-de-educacion-nutricional-claves-para-el-equilibrio-y-disfrute/
LOCATION:UCSF Santa Fe\, Echagüe 7151\, Santa Fe\, Santa Fe\, Argentina
CATEGORIES:Pastoral,Santa Fe,Cultura: coros y teatro,Editorial,Alumnos,Rosario,Deportes,Docentes,Ciclos de complementación,Posadas,Personal UCSF,Reconquista,Rafaela,Comunidad,Gualeguaychú,Bienestar universitario,Licenciatura en Medios Digitales (CCC),Sedes,Licenciatura en Negocios Digitales (CCC),Licenciatura en Psicomotricidad (CCC),Licenciatura en Seguridad Alimentaria (CCC),Extensión,Investigación,Profesorado en Historia (CCC)
ATTACH;FMTTYPE=image/jpeg:https://www.ucsf.edu.ar/wp-content/uploads/2024/02/Imagen-destacada-curso-de-nutricion-2024.jpg
ORGANIZER;CN="Vicerrectorado%20Acad%C3%A9mico":MAILTO:vrecacad@ucsf.edu.ar
GEO:-31.6069451;-60.6709418
X-APPLE-STRUCTURED-LOCATION;VALUE=URI;X-ADDRESS=UCSF Santa Fe Echagüe 7151 Santa Fe Santa Fe Argentina;X-APPLE-RADIUS=500;X-TITLE=Echagüe 7151:geo:-60.6709418,-31.6069451
END:VEVENT
BEGIN:VEVENT
DTSTART;TZID=America/Argentina/Buenos_Aires:20240315T090000
DTEND;TZID=America/Argentina/Buenos_Aires:20240315T130000
DTSTAMP:20260422T084545
CREATED:20240223T161243Z
LAST-MODIFIED:20240223T161244Z
UID:69102-1710493200-1710507600@www.ucsf.edu.ar
SUMMARY:Seminario Abierto de Posgrado - Doctorado en Ciencia Jurídica Universidad Católica de Santa Fe
DESCRIPTION:
URL:https://www.ucsf.edu.ar/evento/seminario-abierto-de-posgrado-doctorado-en-ciencia-juridica-universidad-catolica-de-santa-fe/
LOCATION:UCSF Santa Fe\, Echagüe 7151\, Santa Fe\, Santa Fe\, Argentina
CATEGORIES:Santa Fe,Alumnos,Docentes,Personal UCSF,Carreras de Posgrado,Departamento de Posgrados,Doctorado en Ciencias Jurídicas,Comunidad,Posgrados,Sedes,Maestría en Relaciones Internacionales
ATTACH;FMTTYPE=image/jpeg:https://www.ucsf.edu.ar/wp-content/uploads/2024/02/Seminario-ciberespacio-digitalizacion-e-inteligencia-artificial_facebook.jpg
ORGANIZER;CN="Posgrado":MAILTO:posgrado@ucsf.edu.ar
GEO:-31.6069451;-60.6709418
X-APPLE-STRUCTURED-LOCATION;VALUE=URI;X-ADDRESS=UCSF Santa Fe Echagüe 7151 Santa Fe Santa Fe Argentina;X-APPLE-RADIUS=500;X-TITLE=Echagüe 7151:geo:-60.6709418,-31.6069451
END:VEVENT
BEGIN:VEVENT
DTSTART;TZID=America/Argentina/Buenos_Aires:20240315T103000
DTEND;TZID=America/Argentina/Buenos_Aires:20240315T130000
DTSTAMP:20260422T084545
CREATED:20240312T204126Z
LAST-MODIFIED:20240312T204126Z
UID:69584-1710498600-1710507600@www.ucsf.edu.ar
SUMMARY:Defensa de Tesis – Ana María Volpato - Doctorado en Educación – Departamento de Posgrado UCSF
DESCRIPTION:  \n  \n 
URL:https://www.ucsf.edu.ar/evento/defensa-de-tesis-ana-maria-volpato-doctorado-en-educacion-departamento-de-posgrado-ucsf/
LOCATION:UCSF Santa Fe\, Echagüe 7151\, Santa Fe\, Santa Fe\, Argentina
CATEGORIES:Santa Fe,Alumnos,Docentes,Personal UCSF,Carreras de Posgrado,Departamento de Posgrados,Doctorado en Educación,Comunidad,Posgrados,Sedes
ATTACH;FMTTYPE=image/png:https://www.ucsf.edu.ar/wp-content/uploads/2024/03/Defensa-Tesis_Feed-Ana-maria-volpato-1.png
ORGANIZER;CN="Posgrado":MAILTO:posgrado@ucsf.edu.ar
GEO:-31.6069451;-60.6709418
X-APPLE-STRUCTURED-LOCATION;VALUE=URI;X-ADDRESS=UCSF Santa Fe Echagüe 7151 Santa Fe Santa Fe Argentina;X-APPLE-RADIUS=500;X-TITLE=Echagüe 7151:geo:-60.6709418,-31.6069451
END:VEVENT
BEGIN:VEVENT
DTSTART;TZID=America/Argentina/Buenos_Aires:20240315T150000
DTEND;TZID=America/Argentina/Buenos_Aires:20240315T170000
DTSTAMP:20260422T084545
CREATED:20240301T174226Z
LAST-MODIFIED:20240301T191845Z
UID:69365-1710514800-1710522000@www.ucsf.edu.ar
SUMMARY:Conferencia: “La Cocina de la Política Educativa” Doctorado en Educación UCSF
DESCRIPTION:INSCRIPCIÓN  \n  \n 
URL:https://www.ucsf.edu.ar/evento/conferencia-la-cocina-de-la-politica-educativa-doctorado-en-educacion-ucsf/
LOCATION:UCSF Santa Fe\, Echagüe 7151\, Santa Fe\, Santa Fe\, Argentina
CATEGORIES:Santa Fe,Alumnos,Docentes,Personal UCSF,Carreras de Posgrado,Departamento de Posgrados,Doctorado en Educación,Comunidad,Posgrados,Sedes
ATTACH;FMTTYPE=image/png:https://www.ucsf.edu.ar/wp-content/uploads/2024/03/Conferencia-la-cocina-de-la-politica-educativa_feed-2.png
ORGANIZER;CN="Posgrado":MAILTO:posgrado@ucsf.edu.ar
GEO:-31.6069451;-60.6709418
X-APPLE-STRUCTURED-LOCATION;VALUE=URI;X-ADDRESS=UCSF Santa Fe Echagüe 7151 Santa Fe Santa Fe Argentina;X-APPLE-RADIUS=500;X-TITLE=Echagüe 7151:geo:-60.6709418,-31.6069451
END:VEVENT
BEGIN:VEVENT
DTSTART;TZID=America/Argentina/Buenos_Aires:20240316T103000
DTEND;TZID=America/Argentina/Buenos_Aires:20240316T130000
DTSTAMP:20260422T084545
CREATED:20240312T205851Z
LAST-MODIFIED:20240312T210108Z
UID:69605-1710585000-1710594000@www.ucsf.edu.ar
SUMMARY:Defensa de Tesis – Adriana Cian - Doctorado en Educación – Departamento de Posgrado UCSF
DESCRIPTION:  \n 
URL:https://www.ucsf.edu.ar/evento/defensa-de-tesis-adriana-cian-doctorado-en-educacion-departamento-de-posgrado-ucsf/
LOCATION:UCSF Santa Fe\, Echagüe 7151\, Santa Fe\, Santa Fe\, Argentina
CATEGORIES:Santa Fe,Alumnos,Docentes,Personal UCSF,Carreras de Posgrado,Departamento de Posgrados,Doctorado en Educación,Comunidad,Posgrados,Sedes
ATTACH;FMTTYPE=image/png:https://www.ucsf.edu.ar/wp-content/uploads/2024/03/Defensa-Tesis_Feed-Adriana-Veronica-Cian-1.png
ORGANIZER;CN="Posgrado":MAILTO:posgrado@ucsf.edu.ar
GEO:-31.6069451;-60.6709418
X-APPLE-STRUCTURED-LOCATION;VALUE=URI;X-ADDRESS=UCSF Santa Fe Echagüe 7151 Santa Fe Santa Fe Argentina;X-APPLE-RADIUS=500;X-TITLE=Echagüe 7151:geo:-60.6709418,-31.6069451
END:VEVENT
BEGIN:VEVENT
DTSTART;TZID=America/Argentina/Buenos_Aires:20240322T163000
DTEND;TZID=America/Argentina/Buenos_Aires:20240322T183000
DTSTAMP:20260422T084545
CREATED:20240327T160412Z
LAST-MODIFIED:20240327T161204Z
UID:70216-1711125000-1711132200@www.ucsf.edu.ar
SUMMARY:Visita académica del Dr. Horacio Rosatti - Doctorado en Ciencia Jurídica UCSF
DESCRIPTION:Como parte de una nueva edición del módulo de cursado intensivo del Doctorado en Ciencia Jurídica que llevan adelante en nuestra casa profesionales del Derecho provenientes de Ecuador\, el pasado 22 de marzo contamos con la presencia del Presidente de la Corte Suprema de Justicia de la Nación Dr. Horacio Daniel Rosatti\, quien a su vez fuera\, oportunamente\, Decano de la Facultad de Derecho y Ciencia Política\, y Director del Doctorado en Ciencia Jurídica del Departamento de Posgrado de la Universidad. \nEn esta ocasión\, el Dr. Rosatti fue recibido por el Presidente del Directorio\, Dr. Amando De Feo\, por la Directora del Departamento de Posgrado\, Dra. Anabel Gaitán\, y por la Directora del Doctorado en Cs. Jurídica\, Dra. María Marta Didier\, en tanto que acompañaron el encuentro los integrantes de la Comisión Académica del Doctorado\, Dres. Luis Niel Puig y Francisco Alberto Magín Ferrer\, junto a docentes y personal de Conducción de la institución. \nLuego de la bienvenida\, el Dr. Rosatti realizó su presentación académica con una disertación destinada a los doctorandos y docentes invitados\, en el marco del Seminario Problemática del Derecho Público\, proponiendo luego una instancia de diálogo y debate en torno a la problemática del Derecho Comparado y la legislación vigente en Argentina y Ecuador. \n  \n 
URL:https://www.ucsf.edu.ar/evento/visita-academica-del-dr-horacio-rosatti-doctorado-en-ciencia-juridica-ucsf/
LOCATION:UCSF Santa Fe\, Echagüe 7151\, Santa Fe\, Santa Fe\, Argentina
CATEGORIES:Santa Fe,Alumnos,Docentes,Personal UCSF,Carreras de Posgrado,Departamento de Posgrados,Doctorado en Ciencias Jurídicas,Comunidad,Posgrados,Sedes
ATTACH;FMTTYPE=image/jpeg:https://www.ucsf.edu.ar/wp-content/uploads/2024/03/IMG-20240326-WA0010.jpg
ORGANIZER;CN="Posgrado":MAILTO:posgrado@ucsf.edu.ar
GEO:-31.6069451;-60.6709418
X-APPLE-STRUCTURED-LOCATION;VALUE=URI;X-ADDRESS=UCSF Santa Fe Echagüe 7151 Santa Fe Santa Fe Argentina;X-APPLE-RADIUS=500;X-TITLE=Echagüe 7151:geo:-60.6709418,-31.6069451
END:VEVENT
BEGIN:VEVENT
DTSTART;TZID=America/Argentina/Buenos_Aires:20240326T160000
DTEND;TZID=America/Argentina/Buenos_Aires:20240326T170000
DTSTAMP:20260422T084545
CREATED:20240321T181434Z
LAST-MODIFIED:20240321T181434Z
UID:69978-1711468800-1711472400@www.ucsf.edu.ar
SUMMARY:Vía Crucis por dependencias
DESCRIPTION:El próximo martes 26/3 a las 16 hs.\, te esperamos en la planta baja de la UCSF – Sede Virgen de Guadalupe\, para recorrer las estaciones del Vía Crucis por las distintas dependencias de la Casa. \nUn año más\, te invitamos a vivir la Semana Santa en comunidad.
URL:https://www.ucsf.edu.ar/evento/via-crucis-por-dependencias-3/
LOCATION:UCSF Santa Fe\, Echagüe 7151\, Santa Fe\, Santa Fe\, Argentina
CATEGORIES:Pastoral,Alumnos,Docentes,Personal UCSF,Vicerrectorado de Formación,Comunidad,Bienestar universitario
ATTACH;FMTTYPE=image/jpeg:https://www.ucsf.edu.ar/wp-content/uploads/2024/03/Via-crucis-por-dependencias_feed-whatsapp.jpg
GEO:-31.6069451;-60.6709418
X-APPLE-STRUCTURED-LOCATION;VALUE=URI;X-ADDRESS=UCSF Santa Fe Echagüe 7151 Santa Fe Santa Fe Argentina;X-APPLE-RADIUS=500;X-TITLE=Echagüe 7151:geo:-60.6709418,-31.6069451
END:VEVENT
END:VCALENDAR