BEGIN:VCALENDAR
VERSION:2.0
PRODID:-//UCSF - Universidad Católica de Santa Fe - ECPv5.14.2.1//NONSGML v1.0//EN
CALSCALE:GREGORIAN
METHOD:PUBLISH
X-WR-CALNAME:UCSF - Universidad Católica de Santa Fe
X-ORIGINAL-URL:https://www.ucsf.edu.ar
X-WR-CALDESC:Events for UCSF - Universidad Católica de Santa Fe
REFRESH-INTERVAL;VALUE=DURATION:PT1H
X-Robots-Tag:noindex
X-PUBLISHED-TTL:PT1H
BEGIN:VTIMEZONE
TZID:America/Argentina/Buenos_Aires
BEGIN:STANDARD
TZOFFSETFROM:-0300
TZOFFSETTO:-0300
TZNAME:-03
DTSTART:20230101T000000
END:STANDARD
END:VTIMEZONE
BEGIN:VEVENT
DTSTART;TZID=America/Argentina/Buenos_Aires:20230415T100000
DTEND;TZID=America/Argentina/Buenos_Aires:20231209T140000
DTSTAMP:20260422T231858
CREATED:20230306T140649Z
LAST-MODIFIED:20231024T214616Z
UID:57898-1681552800-1702130400@www.ucsf.edu.ar
SUMMARY:Diplomatura Estrategia Casa Común
DESCRIPTION:El Vicerrectorado Académico de la UCSF\,  conjuntamente con Fundación EPyCA y el Centro Esperanza\, comunican: que se encuentra abierta la inscripción a la Diplomatura Estrategia Casa Común – ECCo- 2023. \nCoordinación: Dra. Mercedes Gagneten \nInicio Cursado: Sábado 15 de Abril\, de 10 a 14 horas. Finaliza Sábado 9 de diciembre.\nCierre Inscripción: 3 de Abril. \nModalidad: 9 encuentros virtuales de Video Construcciones. Presencial para personas con domicilio en Santa Fe Capital. \nDestinatarios: público en general: profesionales\, productores\, emprendedores\, militantes sociales\, técnicos\, docentes y estudiantes. \nNo requiere formación previa. \nCursado arancelado \n  \nVER FOLLETO\n  \nOrganizan: Universidad Católica de Santa Fe (UCSF)\, Fundación EPyCA y Centro Esperanza. \nLink de inscripción: https://forms.gle/74Y81mFr3LZAUiYz7 \nFacebook: https://www.facebook.com/fundacionepyca \nInformes: Email: Info@epyca.org.ar \nTeléfono móvil de contacto: +54 9 342 5485334 (Nicolás Machado)
URL:https://www.ucsf.edu.ar/evento/diplomatura-estrategia-casa-comun/
LOCATION:UCSF Santa Fe\, Echagüe 7151\, Santa Fe\, Santa Fe\, Argentina
CATEGORIES:Santa Fe,Alumnos,Rosario,Docentes,Posadas,Personal UCSF,Reconquista,Rafaela,Gualeguaychú,Posgrados,Sedes,Extensión,Investigación
GEO:-31.6069451;-60.6709418
X-APPLE-STRUCTURED-LOCATION;VALUE=URI;X-ADDRESS=UCSF Santa Fe Echagüe 7151 Santa Fe Santa Fe Argentina;X-APPLE-RADIUS=500;X-TITLE=Echagüe 7151:geo:-60.6709418,-31.6069451
END:VEVENT
BEGIN:VEVENT
DTSTART;TZID=America/Argentina/Buenos_Aires:20231019T180000
DTEND;TZID=America/Argentina/Buenos_Aires:20231020T210000
DTSTAMP:20260422T231858
CREATED:20230920T124737Z
LAST-MODIFIED:20231011T152525Z
UID:64436-1697738400-1697835600@www.ucsf.edu.ar
SUMMARY:Bodas de Plata en la UCSF Posadas
DESCRIPTION:Continuando con la tradición de celebrar las Bodas de Plata de sus egresados y egresadas\, la Sede Posadas de la Universidad Católica de Santa Fe invita a todos los graduados de la promoción 1998.  \nEl acto se realizará el viernes 19 de octubre a las 18 hs.\, en la sede Santos Mártires (Rademacher 3943\, Posadas).  \nEn esta ocasión\, celebraremos junto a los egresados 1998 y los docentes de la Universidad.   \nLuego del acto se ofrecerá un Vino de Honor.  \nSi sos uno de los egresados o conocés alguien que se haya recibido en esos años\, comunicate con Graduados de la UCSF\, al 0342-4603030 int. 170 (de lunes a viernes de 8:30 a 16:30 hs.)\, o por mail a graduados@ucsf.edu.ar.  \nDEJANOS TUS DATOS EN ESTE FORMULARIO 
URL:https://www.ucsf.edu.ar/evento/bodas-de-oro-y-plata-en-la-ucsf-posadas/
LOCATION:UCSF Sede Santos Mártires – Posadas\, Rademacher 3943\, Posadas\, Misiones\, Argentina
CATEGORIES:Home principal,Graduados,Docentes,Posadas,Personal UCSF
ATTACH;FMTTYPE=image/jpeg:https://www.ucsf.edu.ar/wp-content/uploads/2023/09/WhatsApp-Image-2023-10-03-at-17.31.03.jpeg
ORGANIZER;CN="Graduados%20UCSF":MAILTO:graduados@ucsf.edu.ar
GEO:-27.3859693;-55.896416
X-APPLE-STRUCTURED-LOCATION;VALUE=URI;X-ADDRESS=UCSF Sede Santos Mártires – Posadas Rademacher 3943 Posadas Misiones Argentina;X-APPLE-RADIUS=500;X-TITLE=Rademacher 3943:geo:-55.896416,-27.3859693
END:VEVENT
BEGIN:VEVENT
DTSTART;TZID=America/Argentina/Buenos_Aires:20231020T180000
DTEND;TZID=America/Argentina/Buenos_Aires:20231020T200000
DTSTAMP:20260422T231858
CREATED:20231010T213644Z
LAST-MODIFIED:20231011T155216Z
UID:65249-1697824800-1697832000@www.ucsf.edu.ar
SUMMARY:Doctorado en Educación – Defensa de Tesis: Francisco Chagas de Oliveira- Departamento de Posgrado
DESCRIPTION:  \nModalidad Presencial Sincrónica Remota: Link de ZOOM \n  \n 
URL:https://www.ucsf.edu.ar/evento/doctorado-en-educacion-defensa-de-tesis-francisco-chagas-de-oliveira-departamento-de-posgrado/
LOCATION:Vía Zoom\, Argentina
CATEGORIES:Santa Fe,Alumnos,Docentes,Personal UCSF,Carreras de Posgrado,Doctorado en Educación,Comunidad,Sedes
ATTACH;FMTTYPE=image/jpeg:https://www.ucsf.edu.ar/wp-content/uploads/2023/10/Def.-de-tesis.jpg
ORGANIZER;CN="Posgrado":MAILTO:posgrado@ucsf.edu.ar
END:VEVENT
END:VCALENDAR