BEGIN:VCALENDAR
VERSION:2.0
PRODID:-//UCSF - Universidad Católica de Santa Fe - ECPv5.14.2.1//NONSGML v1.0//EN
CALSCALE:GREGORIAN
METHOD:PUBLISH
X-WR-CALNAME:UCSF - Universidad Católica de Santa Fe
X-ORIGINAL-URL:https://www.ucsf.edu.ar
X-WR-CALDESC:Events for UCSF - Universidad Católica de Santa Fe
REFRESH-INTERVAL;VALUE=DURATION:PT1H
X-Robots-Tag:noindex
X-PUBLISHED-TTL:PT1H
BEGIN:VTIMEZONE
TZID:America/Argentina/Buenos_Aires
BEGIN:STANDARD
TZOFFSETFROM:-0300
TZOFFSETTO:-0300
TZNAME:-03
DTSTART:20230101T000000
END:STANDARD
END:VTIMEZONE
BEGIN:VEVENT
DTSTART;VALUE=DATE:20230327
DTEND;VALUE=DATE:20230801
DTSTAMP:20260423T143916
CREATED:20221228T185429Z
LAST-MODIFIED:20230203T120214Z
UID:56567-1679875200-1690847999@www.ucsf.edu.ar
SUMMARY:Diplomatura Internacional en Discapacidad desde la Perspectiva de Derechos Humanos – UCSF
DESCRIPTION:  \nEl curso está dirigido a graduados de disciplinas vinculadas a la salud (medicina\, psicología\, terapia ocupacional\, trabajo social\, etc.)\, al derecho\, a la educación\, y todos aquellos graduados que tengan interés en el tema. \nPermite brindar herramientas básicas a los profesionales en atención al abordaje interdisciplinario que el modelo social de la discapacidad impone\, destacando el enfoque de derechos en los procesos administrativos y judiciales que involucren a personas con discapacidad\, como así también en lo que respecta a la atención-cuidado de su salud y al ejercicio de actos personalísimos. \n  \nFecha: desde el 27 de marzo hasta el 31 de julio de 2023 \nModalidad virtual \n  \nFolleto de la Diplomatura \nConsultas e inscripción: posgrado@ucsf.edu.ar \n  \n 
URL:https://www.ucsf.edu.ar/evento/diplomatura-internacional-en-discapacidad-desde-la-perspectiva-de-derechos-humanos-ucsf/
LOCATION:Virtual\, Argentina
CATEGORIES:Doctorado en Filosofía,Santa Fe,Maestría en Evaluación de Impacto y Gestión Ambiental,Alumnos,Docentes,Especialización en Terapias Cognitivas,Personal UCSF,Carreras de Posgrado,Especialización en Gestión Integral del Hábitat,Doctorado en Ciencias Jurídicas,Doctorado en Educación,Posgrados,Sedes,Maestría en Relaciones Internacionales
ATTACH;FMTTYPE=image/jpeg:https://www.ucsf.edu.ar/wp-content/uploads/2022/12/DIPLOMATURA-EN-DISCAPACIDAD_feed.jpg
END:VEVENT
BEGIN:VEVENT
DTSTART;TZID=America/Argentina/Buenos_Aires:20230415T100000
DTEND;TZID=America/Argentina/Buenos_Aires:20231209T140000
DTSTAMP:20260423T143916
CREATED:20230306T140649Z
LAST-MODIFIED:20231024T214616Z
UID:57898-1681552800-1702130400@www.ucsf.edu.ar
SUMMARY:Diplomatura Estrategia Casa Común
DESCRIPTION:El Vicerrectorado Académico de la UCSF\,  conjuntamente con Fundación EPyCA y el Centro Esperanza\, comunican: que se encuentra abierta la inscripción a la Diplomatura Estrategia Casa Común – ECCo- 2023. \nCoordinación: Dra. Mercedes Gagneten \nInicio Cursado: Sábado 15 de Abril\, de 10 a 14 horas. Finaliza Sábado 9 de diciembre.\nCierre Inscripción: 3 de Abril. \nModalidad: 9 encuentros virtuales de Video Construcciones. Presencial para personas con domicilio en Santa Fe Capital. \nDestinatarios: público en general: profesionales\, productores\, emprendedores\, militantes sociales\, técnicos\, docentes y estudiantes. \nNo requiere formación previa. \nCursado arancelado \n  \nVER FOLLETO\n  \nOrganizan: Universidad Católica de Santa Fe (UCSF)\, Fundación EPyCA y Centro Esperanza. \nLink de inscripción: https://forms.gle/74Y81mFr3LZAUiYz7 \nFacebook: https://www.facebook.com/fundacionepyca \nInformes: Email: Info@epyca.org.ar \nTeléfono móvil de contacto: +54 9 342 5485334 (Nicolás Machado)
URL:https://www.ucsf.edu.ar/evento/diplomatura-estrategia-casa-comun/
LOCATION:UCSF Santa Fe\, Echagüe 7151\, Santa Fe\, Santa Fe\, Argentina
CATEGORIES:Santa Fe,Alumnos,Docentes,Rosario,Posadas,Personal UCSF,Reconquista,Rafaela,Gualeguaychú,Posgrados,Sedes,Extensión,Investigación
GEO:-31.6069451;-60.6709418
X-APPLE-STRUCTURED-LOCATION;VALUE=URI;X-ADDRESS=UCSF Santa Fe Echagüe 7151 Santa Fe Santa Fe Argentina;X-APPLE-RADIUS=500;X-TITLE=Echagüe 7151:geo:-60.6709418,-31.6069451
END:VEVENT
BEGIN:VEVENT
DTSTART;TZID=America/Argentina/Buenos_Aires:20230427T153000
DTEND;TZID=America/Argentina/Buenos_Aires:20230515T153000
DTSTAMP:20260423T143916
CREATED:20230423T112923Z
LAST-MODIFIED:20230425T110222Z
UID:59646-1682609400-1684164600@www.ucsf.edu.ar
SUMMARY:La Editorial UCSF presente en la Feria del libro en Buenos Aires
DESCRIPTION:Feria del Libro 2023\n27 de abril al 15 de mayo del 2023\nPabellón amarillo. \nStand 1815\nLa Feria Internacional del Libro se realizará desde el jueves 27 de abril hasta el lunes 15 de mayo en el predio de la Sociedad Rural Argentina(SRA). Según el día\, tendrá un horario diferencial aunque\, en su mayoría\, estará abierta por las tardes y las primeras horas de la noche. \nMás información en: http://www.crup.org.ar/347-la-reup-se-presentara-en-la-edicion-46-de-filba
URL:https://www.ucsf.edu.ar/evento/feria-del-libro-en-buenos-aires-la-editorial-ucsf-presente/
LOCATION:Santa Fe
CATEGORIES:Santa Fe,Editorial,Alumnos,Docentes,Rosario,Personal UCSF,Posadas,Reconquista,Rafaela,Gualeguaychú,Posgrados,Sedes,Extensión,Investigación
ATTACH;FMTTYPE=image/jpeg:https://www.ucsf.edu.ar/wp-content/uploads/2023/04/feria-del-libro-2023_feed.jpg
END:VEVENT
BEGIN:VEVENT
DTSTART;TZID=America/Argentina/Buenos_Aires:20230429T083000
DTEND;TZID=America/Argentina/Buenos_Aires:20230429T123000
DTSTAMP:20260423T143916
CREATED:20230404T175927Z
LAST-MODIFIED:20230404T175927Z
UID:59071-1682757000-1682771400@www.ucsf.edu.ar
SUMMARY:Diplomatura Arte + Crítica. La finalidad del arte en la educación
DESCRIPTION:El mundo en el que vivimos es un mundo postfotográfico\, en donde la palabra no hace referencia a una condición técnica de la fotografía en donde nuevos parámetros desplazarían a otros\, sino a la “desintegración de una cultura”\, a la “transmutación de unos valores” (Fontcuberta\, 2017). \nYa en la fotografía digital se había dado una crisis de la verdad. Una fotografía construida por un mosaico de píxeles es algo absolutamente manipulable. Y\, si bien las imágenes han estado desde su nacimiento acechadas por la posibilidad de falsificación\, lo que cambiaba era la facilidad de la mentira y cómo este hecho generaba una actitud de escepticismo en los espectadores. Pero en la era postfotográfica “se ha producido una segunda revolución digital\, caracterizada esta vez por la preeminencia de internet\, las redes sociales y la telefonía móvil. Todas las facetas de la vida\, de las relaciones personales a la economía\, de la comunicación a la política\, se han visto sacudidas por completo: el mundo se ha convertido en un espacio dirigido por la instantaneidad\, la globalización y la desmaterialización” (Fontcuberta\, 2017\, p. 31). \nEsta desmaterialización permite la creación de mundos\, poniendo en crisis el concepto de representación. La desmaterialización a la que asistimos permite vivir directamente en la representación. Y aún no hemos analizado las consecuencias que esto acarrea. \n  \nCONOCÉ MÁS\n  \nLa Diplomatura está a cargo de la Prof. Ayelén Jesica Poggi\, Licenciada en Filosofía por la UCSF\, Profesora Tercer Ciclo EGB y Educación Polimodal en Filosofía\, y Magistranda en Educación Artística en la UNR. \n  \nDestinatarios \nEsta diplomatura está destinada a docentes de todos los niveles educativos sin importar la especialidad\, ya que planteamos al arte como herramienta metodológica para generar un pensamiento crítico en el aula\, independientemente de la materia\, espacio disciplinar o desempeño docente que realice el cursante. \n  \nObjetivos \n\nQue el asistente pueda adquirir las lecturas y herramientas necesarias para generar un pensamiento crítico en el sentido en que Foucault desarrolla el término.\nQue los asistentes logren afirmarse en el derecho a interrogar a la verdad acerca de sus efectos de poder\, y al poder acerca de sus discursos de verdad.\nQue los asistentes desarrollen herramientas relacionadas al conocimiento del arte moderno y contemporáneo\, para que las mismas sean usadas como metodología que opere como motor de ese pensamiento crítico.\nQue los asistentes logren\, en la actualidad y en sus futuros trabajos\, ser mediadores críticos en las instituciones en las que se desarrollen.\nQue los asistentes logren\, a través de la mediación\, ser productores de cambios sociales.\n\n  \n  \nCronograma \nDías: sábados \nHorarios: 8.30 a 12.30hs \nMódulo 1: 1/04 – 15/04 – 29/04 – 13/05 \nMódulo 2: 20/05 – 10/06 – 24/06 – 22/07 \nMódulo 3: 05/08 – 19/08 – 02/09 – 16/09 \nMódulo 4: 07/10 – 21/10 – 4/11 – 18/11 \n  \n  \nInformes e inscripción: extensionffyh@ucsf.edu.ar \n  \nAcompaña: Instituto Superior del Profesorado de Ingles Nro. 1 – Estela Guinle de Cervera
URL:https://www.ucsf.edu.ar/evento/diplomatura-arte-critica-la-finalidad-del-arte-en-la-educacion-3/
LOCATION:Vía Zoom\, Argentina
CATEGORIES:A distancia,Santa Fe,Facultades,Alumnos,Rosario,Docentes,Personal UCSF,Reconquista,Filosofía y Humanidades,Posgrados,Concordia,Sedes
ATTACH;FMTTYPE=image/jpeg:https://www.ucsf.edu.ar/wp-content/uploads/2023/02/arte-y-critica_feed-1-1.jpg
ORGANIZER;CN="Facultad%20de%20Filosofia%20y%20Humanidades":MAILTO:extensionffyh@ucsf.edu.ar
END:VEVENT
BEGIN:VEVENT
DTSTART;TZID=America/Argentina/Buenos_Aires:20230429T100000
DTEND;TZID=America/Argentina/Buenos_Aires:20230429T113000
DTSTAMP:20260423T143916
CREATED:20230424T155229Z
LAST-MODIFIED:20230427T125259Z
UID:59683-1682762400-1682767800@www.ucsf.edu.ar
SUMMARY:Desafíos y oportunidades del uso de ChatGPT en la Universidad
DESCRIPTION:En vísperas del “Mes de la Inteligencia artificial en la Universidad” \nEl Vicerrectorado Académico\, a través del Programa Universidad Abierta y la Facultad de Derecho y Ciencia Política\,  invitan al webinar: “Desafíos y oportunidades del uso de ChatGPT en la universidad. ¿Cómo evaluar su impacto desde la perspectiva del diseño de “prompts”. \nEl uso de ChatGPT en la enseñanza universitaria presenta oportunidades emocionantes para los docentes que buscan mejorar la calidad y la eficiencia de las actividades virtuales. Sin embargo\, también existen desafíos únicos que deben abordarse\, especialmente en lo que respecta al diseño de actividades significativas para el aprendizaje de las habilidades consideradas centrales en el Silgo XXI.\nEn esa cuestión\, la importancia de los “prompts“ (indicadores de texto) con los que se “conversa“ con ChatGPT puede ser un elemente relevante a la hora de diseñar dichas actividad. Es decir\, el diseño de “prompts“ adecuados es relevante para evaluar las actividades universitarias. Diseñar “prompts“ claros y relevantes es crucial para evaluar si los estudiantes estén aprendiendo de manera efectiva\, pero también es importante sopesar los resultados obtenidos con ChatGPT y ajustar en consecuencia. \nObjetivos:\n1. compartir una experiencia educativa en ejecución sobre el uso de ChatGPT en la carrera de Abogacía;\n2. proponer una respuesta posible para evaluar las actividades donde estén implicadas herramientas de inteligencia artificial como ChatGPT; y\n3. compartir propuestas educativas posibles que prioricen el desarrollo de las cuatro habilidades centrales del Siglo XXI en la enseñanza de la Metodología del Investigación. \nDía y horario: sábado 29 de abril\, a las 10 horas. \nExpositor: Abog. Mario Antonio Fioravante \nInscripciones:  https://www.eventbrite.com.ar/e/desafios-y-oportunidades-del-uso-de-chatgpt-en-la-universidad-tickets-623701366577?aff=Inscripciones \n  \nUnirse a la reunión Zoomhttps://zoom.us/j/97876592154ID de reunión: 978 7659 2154 \n  \nCV abreviado: Mario Fioravante\nAbogado\, docente universitario y especialista en la creación\, diseño\, administración y tutorización de aulas virtuales. Curso virtual “Creación y Administración de Cursos Online”\, del Departamento de Desarrollo Humano\, Educación y Empleo (DHDEE) de la Organización de los Estados Americanos (OEA)\, (2019).\nCurso virtual “Formación en Tutorías Virtual 2.0 10ma. edición”\, del Departamento de Desarrollo Humano\, Educación y Empleo (DHDEE) de la Organización de los Estados Americanos (OEA)\, (2018).\nCurso virtual “Clases mediadas por TIC. Nuevos formatos para aulas virtuales”\, del Departamento de Teleformación de la Universidad Católica de Santa Fe\, (2018).\nCurso virtual “Diseño de propuestas educativas con modalidad a distancia virtual y blended learning”\, del Departamento de Teleformación de la Universidad Católica de Santa Fe (2017).\nCurso virtual “Formación de tutores para planificar y desarrollar cursos virtuales en la UCSF”\, Departamento de Teleformación de la Universidad Católica de Santa Fe (2017).\nCurso virtual “Prácticas Educativas Mediadas por Tecnologías”\, del Departamento de Teleformación de la Universidad Católica de Santa Fe (2016).\nAutodidacta en la creación\, diseño\, administración y tutorización de las aulas virtuales de Introducción al Derecho\, Taller I – Técnicas de razonamiento jurídico\, Taller II – Técnicas de Expresión Jurídica\, Introducción al Conocimiento y a la Investigación Científica y Filosofía del Derecho de la Facultad de Derecho y Ciencia Política\, Sede Santos Mártires \nInformes por Email a: nsturla@ucsf.eddu.ar
URL:https://www.ucsf.edu.ar/evento/desafios-y-oportunidades-del-uso-de-chatgpt-en-la-universidad/
LOCATION:UCSF Santa Fe\, Echagüe 7151\, Santa Fe\, Santa Fe\, Argentina
CATEGORIES:Santa Fe,Alumnos,Docentes,Rosario,Posadas,Personal UCSF,Reconquista,Rafaela,Gualeguaychú,Posgrados,Sedes,Extensión,Investigación
ORGANIZER;CN="Vicerrectorado%20Acad%C3%A9mico":MAILTO:vrecacad@ucsf.edu.ar
GEO:-31.6069451;-60.6709418
X-APPLE-STRUCTURED-LOCATION;VALUE=URI;X-ADDRESS=UCSF Santa Fe Echagüe 7151 Santa Fe Santa Fe Argentina;X-APPLE-RADIUS=500;X-TITLE=Echagüe 7151:geo:-60.6709418,-31.6069451
END:VEVENT
END:VCALENDAR