BEGIN:VCALENDAR
VERSION:2.0
PRODID:-//UCSF - Universidad Católica de Santa Fe - ECPv5.14.2.1//NONSGML v1.0//EN
CALSCALE:GREGORIAN
METHOD:PUBLISH
X-WR-CALNAME:UCSF - Universidad Católica de Santa Fe
X-ORIGINAL-URL:https://www.ucsf.edu.ar
X-WR-CALDESC:Events for UCSF - Universidad Católica de Santa Fe
REFRESH-INTERVAL;VALUE=DURATION:PT1H
X-Robots-Tag:noindex
X-PUBLISHED-TTL:PT1H
BEGIN:VTIMEZONE
TZID:America/Argentina/Buenos_Aires
BEGIN:STANDARD
TZOFFSETFROM:-0300
TZOFFSETTO:-0300
TZNAME:-03
DTSTART:20230101T000000
END:STANDARD
END:VTIMEZONE
BEGIN:VEVENT
DTSTART;TZID=America/Argentina/Buenos_Aires:20230415T100000
DTEND;TZID=America/Argentina/Buenos_Aires:20231209T140000
DTSTAMP:20260423T070044
CREATED:20230306T140649Z
LAST-MODIFIED:20231024T214616Z
UID:57898-1681552800-1702130400@www.ucsf.edu.ar
SUMMARY:Diplomatura Estrategia Casa Común
DESCRIPTION:El Vicerrectorado Académico de la UCSF\,  conjuntamente con Fundación EPyCA y el Centro Esperanza\, comunican: que se encuentra abierta la inscripción a la Diplomatura Estrategia Casa Común – ECCo- 2023. \nCoordinación: Dra. Mercedes Gagneten \nInicio Cursado: Sábado 15 de Abril\, de 10 a 14 horas. Finaliza Sábado 9 de diciembre.\nCierre Inscripción: 3 de Abril. \nModalidad: 9 encuentros virtuales de Video Construcciones. Presencial para personas con domicilio en Santa Fe Capital. \nDestinatarios: público en general: profesionales\, productores\, emprendedores\, militantes sociales\, técnicos\, docentes y estudiantes. \nNo requiere formación previa. \nCursado arancelado \n  \nVER FOLLETO\n  \nOrganizan: Universidad Católica de Santa Fe (UCSF)\, Fundación EPyCA y Centro Esperanza. \nLink de inscripción: https://forms.gle/74Y81mFr3LZAUiYz7 \nFacebook: https://www.facebook.com/fundacionepyca \nInformes: Email: Info@epyca.org.ar \nTeléfono móvil de contacto: +54 9 342 5485334 (Nicolás Machado)
URL:https://www.ucsf.edu.ar/evento/diplomatura-estrategia-casa-comun/
LOCATION:UCSF Santa Fe\, Echagüe 7151\, Santa Fe\, Santa Fe\, Argentina
CATEGORIES:Santa Fe,Alumnos,Rosario,Docentes,Posadas,Personal UCSF,Reconquista,Rafaela,Gualeguaychú,Posgrados,Sedes,Extensión,Investigación
GEO:-31.6069451;-60.6709418
X-APPLE-STRUCTURED-LOCATION;VALUE=URI;X-ADDRESS=UCSF Santa Fe Echagüe 7151 Santa Fe Santa Fe Argentina;X-APPLE-RADIUS=500;X-TITLE=Echagüe 7151:geo:-60.6709418,-31.6069451
END:VEVENT
BEGIN:VEVENT
DTSTART;TZID=America/Argentina/Buenos_Aires:20230825T190000
DTEND;TZID=America/Argentina/Buenos_Aires:20230825T200000
DTSTAMP:20260423T070044
CREATED:20230814T201756Z
LAST-MODIFIED:20230814T202340Z
UID:62767-1692990000-1692993600@www.ucsf.edu.ar
SUMMARY:Libro “Cómo argumentar un caso penal. Técnicas para la defensa en el proceso adversarial"
DESCRIPTION:  \nEl Doctorado en Ciencia Jurídica del Departamento de Posgrado de la UCSF\, invita a la presentación del libro: Cómo argumentar un caso penal. Técnicas para la defensa en el proceso adversarial\, cuyo autor es el Dr. Luciano Damián Laise. Los disertantes que acompañarán el evento son los abogados Eduardo Esteban Magoja y Fabio Mudry. \n  \nDía: 25 de agosto             Horario: 19:00 Hs. \n  \nModalidad Virtual \n  \nLink de Zoom \nhttps://zoom.us/j/95006596791 \nID de reunión: 950 0659 6791 \n  \nPara informes: posgrado@ucsf.edu.ar ó pecposgrado@ucsf.edu.ar \n  \n 
URL:https://www.ucsf.edu.ar/evento/libro-como-argumentar-un-caso-penal-tecnicas-para-la-defensa-en-el-proceso-adversarial/
LOCATION:Vía Zoom\, Argentina
CATEGORIES:Santa Fe,Alumnos,Docentes,Personal UCSF,Carreras de Posgrado,Doctorado en Ciencias Jurídicas,Comunidad,Sedes
ATTACH;FMTTYPE=image/png:https://www.ucsf.edu.ar/wp-content/uploads/2023/08/LIBRO-flyer.png
ORGANIZER;CN="Posgrado":MAILTO:posgrado@ucsf.edu.ar
END:VEVENT
BEGIN:VEVENT
DTSTART;TZID=America/Argentina/Buenos_Aires:20230826T090000
DTEND;TZID=America/Argentina/Buenos_Aires:20230826T120000
DTSTAMP:20260423T070044
CREATED:20230816T121750Z
LAST-MODIFIED:20230816T131526Z
UID:62830-1693040400-1693051200@www.ucsf.edu.ar
SUMMARY:Intervención educativa en contextos de vulnerabilidad social
DESCRIPTION:Seminario abierto a todos los interesados en el marco de la Diplomatura en Inclusión Escolar de la FFH – UCSF \nIntervención educativa en contextos de vulnerabilidad social \nDisertante: Silvana Corso \n  \n \nProfesora de Historia. Especialista Superior Universitaria en Intervención Educativa ante Trastornos del Aprendizaje y en Estrategias de Inclusión Educativa; Diploma Superior en Necesidades Educativas y Prácticas Inclusivas en Trastornos del Espectro Autista; Inclusión Educativa y Diversidad; Trastornos del Lenguaje en el Niño Abordaje Neuropsicológico; Especialización en TIC y Educación (con orientación en Gestión Escolar); Máster Iberoamericano en Integración de Personas con Discapacidad. Docente-tutora y Coordinadora de tutorías. Expositora en eventos nacionales e internacionales. Autora de diversos artículos y libros referidos a tutorías\, TIC y educación\, metodología\, discapacidad y familia. Finalista 2017 Premio Global Teacher Prize (Top 50). \n  \nSobre la Diplomatura \nEl movimiento mundial reconocido como educación inclusiva tiene como objetivo garantizar a cada persona el derecho a acceder a una educación de calidad a lo largo de toda la vida. Este desafío propone considerar la\nsingularidad de cada persona\, de cada educando en el proceso de enseñanza y aprendizaje escolar. El objetivo es mayor\, ya que esta consideración se propone que en cada aula se propicie la participación y el aprendizaje compartido. (Declaración de Salamanca Art. 7).\nLa Educación Inclusiva reconoce que todos podemos aprender y que cada persona posee características\, intereses\, capacidades y necesidades de aprendizaje únicos. Ahora bien\, estas premisas implican un cambio de\nparadigma que debe consolidarse en el plano de las acciones concretas. Esto conlleva la implementación de cambios en la práctica educativa considerando no sólo las Políticas Públicas y los instrumentos de Gestión\nEducativa sino\, especialmente\, cambios en la dinámica ad intra del aula que requieren la comprensión crítica de nuevos paradigmas interpretativos\, la redefinición del rol docente y\, devenido de éste\, el aprendizaje de nuevas\ncompetencias. Es fundamental entonces considerar la relevancia de brindar espacios de formación integral tanto a los equipos de gestión institucional de orientación educativa como a los docentes para asumir el desafío planteado. \n  \nModalidad:  VIRTUAL \nHora: sábado 26/08\, de 9 a 12hs \n  \nBonificación especial para instituciones de la JAE y comunidad UCSF \nContacto: extensionffyh@ucsf.edu.ar
URL:https://www.ucsf.edu.ar/evento/intervencion-educativa-en-contextos-de-vulnerabilidad-social/
LOCATION:Vía Zoom\, Argentina
CATEGORIES:A distancia,Santa Fe,Facultades,Alumnos,Rosario,Docentes,Personal UCSF,Reconquista,Filosofía y Humanidades,Comunidad,Concordia,Sedes
ATTACH;FMTTYPE=image/jpeg:https://www.ucsf.edu.ar/wp-content/uploads/2023/08/Seminarios-Abiertos-Diplomatura-en-Inclusion-Escolar-FEED_1-1.jpg
ORGANIZER;CN="Facultad%20de%20Filosofia%20y%20Humanidades":MAILTO:extensionffyh@ucsf.edu.ar
END:VEVENT
END:VCALENDAR