BEGIN:VCALENDAR
VERSION:2.0
PRODID:-//UCSF - Universidad Católica de Santa Fe - ECPv5.14.2.1//NONSGML v1.0//EN
CALSCALE:GREGORIAN
METHOD:PUBLISH
X-WR-CALNAME:UCSF - Universidad Católica de Santa Fe
X-ORIGINAL-URL:https://www.ucsf.edu.ar
X-WR-CALDESC:Events for UCSF - Universidad Católica de Santa Fe
REFRESH-INTERVAL;VALUE=DURATION:PT1H
X-Robots-Tag:noindex
X-PUBLISHED-TTL:PT1H
BEGIN:VTIMEZONE
TZID:America/Argentina/Buenos_Aires
BEGIN:STANDARD
TZOFFSETFROM:-0300
TZOFFSETTO:-0300
TZNAME:-03
DTSTART:20230101T000000
END:STANDARD
END:VTIMEZONE
BEGIN:VEVENT
DTSTART;TZID=America/Argentina/Buenos_Aires:20230415T100000
DTEND;TZID=America/Argentina/Buenos_Aires:20231209T140000
DTSTAMP:20260423T052341
CREATED:20230306T140649Z
LAST-MODIFIED:20231024T214616Z
UID:57898-1681552800-1702130400@www.ucsf.edu.ar
SUMMARY:Diplomatura Estrategia Casa Común
DESCRIPTION:El Vicerrectorado Académico de la UCSF\,  conjuntamente con Fundación EPyCA y el Centro Esperanza\, comunican: que se encuentra abierta la inscripción a la Diplomatura Estrategia Casa Común – ECCo- 2023. \nCoordinación: Dra. Mercedes Gagneten \nInicio Cursado: Sábado 15 de Abril\, de 10 a 14 horas. Finaliza Sábado 9 de diciembre.\nCierre Inscripción: 3 de Abril. \nModalidad: 9 encuentros virtuales de Video Construcciones. Presencial para personas con domicilio en Santa Fe Capital. \nDestinatarios: público en general: profesionales\, productores\, emprendedores\, militantes sociales\, técnicos\, docentes y estudiantes. \nNo requiere formación previa. \nCursado arancelado \n  \nVER FOLLETO\n  \nOrganizan: Universidad Católica de Santa Fe (UCSF)\, Fundación EPyCA y Centro Esperanza. \nLink de inscripción: https://forms.gle/74Y81mFr3LZAUiYz7 \nFacebook: https://www.facebook.com/fundacionepyca \nInformes: Email: Info@epyca.org.ar \nTeléfono móvil de contacto: +54 9 342 5485334 (Nicolás Machado)
URL:https://www.ucsf.edu.ar/evento/diplomatura-estrategia-casa-comun/
LOCATION:UCSF Santa Fe\, Echagüe 7151\, Santa Fe\, Santa Fe\, Argentina
CATEGORIES:Alumnos,Santa Fe,Docentes,Rosario,Personal UCSF,Posadas,Reconquista,Rafaela,Gualeguaychú,Posgrados,Sedes,Extensión,Investigación
GEO:-31.6069451;-60.6709418
X-APPLE-STRUCTURED-LOCATION;VALUE=URI;X-ADDRESS=UCSF Santa Fe Echagüe 7151 Santa Fe Santa Fe Argentina;X-APPLE-RADIUS=500;X-TITLE=Echagüe 7151:geo:-60.6709418,-31.6069451
END:VEVENT
BEGIN:VEVENT
DTSTART;TZID=America/Argentina/Buenos_Aires:20230830T180000
DTEND;TZID=America/Argentina/Buenos_Aires:20230830T210000
DTSTAMP:20260423T052341
CREATED:20230823T180315Z
LAST-MODIFIED:20230823T183540Z
UID:63216-1693418400-1693429200@www.ucsf.edu.ar
SUMMARY:Jornada Belgraniana en la UCSF\, sede Rosario
DESCRIPTION:El Vicerrectorado Académico\, a través del Programa Universidad Abierta de la UCSF\, conjuntamente con el Centro de Estudios Belgranianos Rosario Siglo XXI (CEBR)  y el Instituto Nacional Belgraniano\, comunican que se encuentra abierta la inscripción para la “Jornada Belgraniana”. \nObjetivo general: referenciar el aporte del general Belgrano a la formación de la identidad nacional como mensaje y ejemplo del presente de nuestra sociedad\nObjetivo institucional: posicionar a la UCSF y desarrollar el protagonismo del CEBR como entidades referentes del paradigma belgraniano. \nFecha: 30 de agosto \nLugar: Moreno 1056\, aula 44 \nDisertantes:\nLic. Manuel Belgrano (Invitación especial)\nDr. Miguel Carrillo Bascary\nDr. Pablo Yurman \nDestinatarios: público en general \nModalidad híbrida: \nPresencial: UCSF\, sede Rosario. \nInscripciones participantes presenciales\, en este link:  https://www.eventbrite.com.ar/e/jornada-belgraniana-tickets-705505354507?aff=Inscripciones \nParticipación por Zoom \nUnirse a la reunión Zoom\nhttps://zoom.us/j/99104665239 \nID de reunión: 991 0466 5239 \n\nCV abreviado de los disertantes:\nLic. Manuel Belgrano\nPresidente del Instituto Nacional Belgraniano desde el año 2009 cuya gestión implica decenas de presentaciones académicas e institucionales cada año\nDescendiente del prócer en quinta generación \nDr. Miguel Carrillo Bascary\nMiembro de número y del Consejo Directivo del Instituto Nacional Belgraniano\nCoordinador Académico del Centro de Estudios Belgranianos Rosario Siglo XXI. Fundador\nConsultor en Vexilología y Ceremonial\nHistoriador especializado en el período de la Emancipación nacional\nFue director general del Monumento Nacional a la Bandera \nDr. Pablo Yurman\nDr. En Cs. jurídicas y Sociales (UCA). Abogado\nProf. Adjunto de Historia Constitucional Argentina (Fac. Derecho – UNR y PUCA Rosario)\nFundador y ex director del centro de Estudios de Historia Constitucional (UNR)\nAutor de numerosos libros\, entre ellos “Nación y Confederación” entre otros.\nConduce el ciclo “Mates con Historia” accesible en Youtube \nInformes: adelpazo@ucsf.edu.ar \n                    nsturla@ucsf.edu.ar
URL:https://www.ucsf.edu.ar/evento/jornada-belgraniana-en-la-ucsf-sede-rosario/
LOCATION:UCSF Sede Rosario\, Moreno 1056\, Rosario\, Santa Fe\, 2000\, Argentina
CATEGORIES:Pastoral,Alumnos,Cultura: coros y teatro,Santa Fe,Docentes,Deportes,Rosario,Personal UCSF,Posadas,Reconquista,Rafaela,Comunidad,Gualeguaychú,Bienestar universitario,Sedes,Extensión,Investigación
ATTACH;FMTTYPE=image/png:https://www.ucsf.edu.ar/wp-content/uploads/2023/08/WEB-jornadas-belgranianas-e1693402087166.png
ORGANIZER;CN="Vicerrectorado%20Acad%C3%A9mico":MAILTO:vrecacad@ucsf.edu.ar
GEO:-32.9491666;-60.6519119
X-APPLE-STRUCTURED-LOCATION;VALUE=URI;X-ADDRESS=UCSF Sede Rosario Moreno 1056 Rosario Santa Fe 2000 Argentina;X-APPLE-RADIUS=500;X-TITLE=Moreno 1056:geo:-60.6519119,-32.9491666
END:VEVENT
BEGIN:VEVENT
DTSTART;TZID=America/Argentina/Buenos_Aires:20230830T190000
DTEND;TZID=America/Argentina/Buenos_Aires:20230830T210000
DTSTAMP:20260423T052341
CREATED:20230816T123746Z
LAST-MODIFIED:20230816T123746Z
UID:62854-1693422000-1693429200@www.ucsf.edu.ar
SUMMARY:Sistemas de comunicación alternativos y aumentativos en el aula. Seminario abierto
DESCRIPTION:Seminario abierto a todos los interesados en el marco de la Diplomatura en Inclusión Escolar de la FFH – UCSF \n  \nDisertante: Florencia Gelcich \nLicenciada en Terapia Ocupacional y en Estimulación temprana. Master de Intervención ABA en autismo y trastornos del desarrollo\, ABA España. Docente del Programa “Conocer para Intervenir; aspectos para favorecer Aulas Inclusivas”\, Instituto de Formación Docente Continua\, San Luis. Docente en la Lic en Psicopedagogía y Lic. en Terapia Ocupacional\, de la UCSF. Realización de charlas dirigidas a docentes y familiares de niños con desafíos en el desarrollo y dificultades de aprendizaje. Atención de niños y adolescentes con retraso en el desarrollo y diferentes patologías\, y miembro del equipo interdisciplinario I.De.A (Integración\, desarrollo y Aprendizaje). \n  \n  \nSobre la Diplomatura \nEl movimiento mundial reconocido como educación inclusiva tiene como objetivo garantizar a cada persona el derecho a acceder a una educación de calidad a lo largo de toda la vida. Este desafío propone considerar la\nsingularidad de cada persona\, de cada educando en el proceso de enseñanza y aprendizaje escolar. El objetivo es mayor\, ya que esta consideración se propone que en cada aula se propicie la participación y el aprendizaje compartido. (Declaración de Salamanca Art. 7).\nLa Educación Inclusiva reconoce que todos podemos aprender y que cada persona posee características\, intereses\, capacidades y necesidades de aprendizaje únicos. Ahora bien\, estas premisas implican un cambio de\nparadigma que debe consolidarse en el plano de las acciones concretas. Esto conlleva la implementación de cambios en la práctica educativa considerando no sólo las Políticas Públicas y los instrumentos de Gestión\nEducativa sino\, especialmente\, cambios en la dinámica ad intra del aula que requieren la comprensión crítica de nuevos paradigmas interpretativos\, la redefinición del rol docente y\, devenido de éste\, el aprendizaje de nuevas\ncompetencias. Es fundamental entonces considerar la relevancia de brindar espacios de formación integral tanto a los equipos de gestión institucional de orientación educativa como a los docentes para asumir el desafío planteado. \n  \nModalidad: VIRTUAL \nHora: Miércoles 19 a 21 hs – sábados 9 a 12 hs \n  \nBonificación especial para instituciones de la JAE y comunidad UCSF \nContacto: extensionffyh@ucsf.edu.ar \n 
URL:https://www.ucsf.edu.ar/evento/sistemas-de-comunicacion-alternativos-y-aumentativos-en-el-aula-seminario-abierto/
LOCATION:Vía Zoom\, Argentina
CATEGORIES:A distancia,Alumnos,Santa Fe,Facultades,Docentes,Rosario,Personal UCSF,Reconquista,Filosofía y Humanidades,Comunidad,Concordia,Sedes
ATTACH;FMTTYPE=image/jpeg:https://www.ucsf.edu.ar/wp-content/uploads/2023/08/Seminarios-Abiertos-Diplomatura-en-Inclusion-Escolar-FEED_2.jpg
ORGANIZER;CN="Facultad%20de%20Filosofia%20y%20Humanidades":MAILTO:extensionffyh@ucsf.edu.ar
END:VEVENT
BEGIN:VEVENT
DTSTART;VALUE=DATE:20230901
DTEND;VALUE=DATE:20230903
DTSTAMP:20260423T052341
CREATED:20230823T213913Z
LAST-MODIFIED:20230823T214734Z
UID:63242-1693526400-1693699199@www.ucsf.edu.ar
SUMMARY:Encuentro de Apostolados Sociales
DESCRIPTION:En el marco del camino sinodal que nos propone el Papa Francisco\, nos sentimos llamados a ser una Iglesia en salida\, una comunidad de discípulos misioneros que primerean\, se involucran\, acompañan\, que fructifican y celebran. En este sentido\, convocamos a este primer ENCUENTRO DE APOSTOLADOS SOCIALES\, que buscará generar espacios de diálogo entre los diversos actores que abordan las realidades que más nos duelen en nuestra región; a fin de optimizar y afianzar el trabajo conjunto\, proponer metas comunes\, con acciones concretas y con la mirada en un bien mayor. \nComo afirma el Papa Francisco “estamos invitados a convocar y encontrarnos en un ‘nosotros’ que sea más fuerte que la suma de pequeñas individualidades\, recordemos que ‘el todo es más que la parte\, y también es más que la mera suma de ellas’” (Fratelli Tutti 78) \nInvitamos a todas las instituciones\, organizaciones sociales\, asociaciones\, movimientos\, grupos y comunidades a ser parte de este encuentro y a difundir la convocatoria. \nLos esperamos este 1 y 2 de septiembre para ir afianzando el trabajo en conjunto sobre problemáticas como la de las adicciones\, que demandan cada vez más el abordaje integral de las distintas instituciones que integran nuestra ciudad. \nTe podés inscribir en el siguiente link: https://docs.google.com/forms/d/e/1FAIpQLSdmd8kEiPHAQwgRQilkA1XxwJM0xfoFRhHXXLAxza4d1g0JCw/viewform \n\n			\n				\n			\n			\n				\n			\n		\n\n  \n 
URL:https://www.ucsf.edu.ar/evento/encuentro-de-apostolados-sociales/
LOCATION:UCSF Santa Fe\, Echagüe 7151\, Santa Fe\, Santa Fe\, Argentina
CATEGORIES:Pastoral,Alumnos,Docentes,Personal UCSF,Vicerrectorado de Formación,Comunidad
ATTACH;FMTTYPE=image/jpeg:https://www.ucsf.edu.ar/wp-content/uploads/2023/08/WhatsApp-Image-2023-08-18-at-10.35.47.jpeg
ORGANIZER;CN="Vicerrectorado%20de%20Formaci%C3%B3n":MAILTO:vrecform@ucsf.edu.ar
GEO:-31.6069451;-60.6709418
X-APPLE-STRUCTURED-LOCATION;VALUE=URI;X-ADDRESS=UCSF Santa Fe Echagüe 7151 Santa Fe Santa Fe Argentina;X-APPLE-RADIUS=500;X-TITLE=Echagüe 7151:geo:-60.6709418,-31.6069451
END:VEVENT
BEGIN:VEVENT
DTSTART;TZID=America/Argentina/Buenos_Aires:20230902T090000
DTEND;TZID=America/Argentina/Buenos_Aires:20230902T110000
DTSTAMP:20260423T052341
CREATED:20230816T134718Z
LAST-MODIFIED:20230816T135339Z
UID:62870-1693645200-1693652400@www.ucsf.edu.ar
SUMMARY:Seminario Abierto de Gestión Institucional\, acreditable a la Lic. en Gestión de la Educación (CCC)
DESCRIPTION:Comienza el 2 de septiembre \nDías: Sábados de 9 a 11 hs. (encuentros sincrónicos) \nCarga horaria total : 60 horas \n  \nLugar / Modalidad: Virtual sincrónica y asincrónica \n  \nDisertantes: \nMaría Eugenia Moor. Profesora en Ciencias de la Educación (UCSF)\, Magíster en Didácticas Específicas (UNL) \nVerónica Reyes. Profesora en Ciencias de la Educación (UCSF)\, Especialista en Conducción del Sistema Educativo y sus Instituciones (FLACSO) \n  \nEstá destinado a directivos y docentes aspirantes a cargos de gestión de todos los niveles educativos\, independientemente de la formación de base y antigüedad en la docencia. \nEste Seminario se enmarca en la Licenciatura en Gestión de la Educación (CCC) si alguno luego\, quiere cursarla\, ya tendría el Seminario cursado y aprobado. Para acceder a la licenciatura es necesario tener en cuenta otros requisitos de admisión\, que pueden o no darse para el cursado de este Seminario. \n  \nMÁS INFORMACIÓN\n  \nContacto para consultas e inscripción a la actividad: extensionffyh@ucsf.edu.ar
URL:https://www.ucsf.edu.ar/evento/seminario-abierto-de-gestion-institucional-acreditable-a-la-lic-en-gestion-de-la-educacion-ccc/
LOCATION:Vía Zoom\, Argentina
CATEGORIES:Facultades,Alumnos,Carreras de Grado,Docentes,Ciclos de complementación,Licenciatura en Gestión de la Educación (CCC),Personal UCSF,Filosofía y Humanidades,Comunidad
ATTACH;FMTTYPE=image/jpeg:https://www.ucsf.edu.ar/wp-content/uploads/2023/08/Gestion-Institucional_feed-1.jpg
END:VEVENT
END:VCALENDAR