BEGIN:VCALENDAR
VERSION:2.0
PRODID:-//UCSF - Universidad Católica de Santa Fe - ECPv5.14.2.1//NONSGML v1.0//EN
CALSCALE:GREGORIAN
METHOD:PUBLISH
X-WR-CALNAME:UCSF - Universidad Católica de Santa Fe
X-ORIGINAL-URL:https://www.ucsf.edu.ar
X-WR-CALDESC:Events for UCSF - Universidad Católica de Santa Fe
REFRESH-INTERVAL;VALUE=DURATION:PT1H
X-Robots-Tag:noindex
X-PUBLISHED-TTL:PT1H
BEGIN:VTIMEZONE
TZID:America/Argentina/Buenos_Aires
BEGIN:STANDARD
TZOFFSETFROM:-0300
TZOFFSETTO:-0300
TZNAME:-03
DTSTART:20230101T000000
END:STANDARD
END:VTIMEZONE
BEGIN:VEVENT
DTSTART;TZID=America/Argentina/Buenos_Aires:20230415T100000
DTEND;TZID=America/Argentina/Buenos_Aires:20231209T140000
DTSTAMP:20260423T052456
CREATED:20230306T140649Z
LAST-MODIFIED:20231024T214616Z
UID:57898-1681552800-1702130400@www.ucsf.edu.ar
SUMMARY:Diplomatura Estrategia Casa Común
DESCRIPTION:El Vicerrectorado Académico de la UCSF\,  conjuntamente con Fundación EPyCA y el Centro Esperanza\, comunican: que se encuentra abierta la inscripción a la Diplomatura Estrategia Casa Común – ECCo- 2023. \nCoordinación: Dra. Mercedes Gagneten \nInicio Cursado: Sábado 15 de Abril\, de 10 a 14 horas. Finaliza Sábado 9 de diciembre.\nCierre Inscripción: 3 de Abril. \nModalidad: 9 encuentros virtuales de Video Construcciones. Presencial para personas con domicilio en Santa Fe Capital. \nDestinatarios: público en general: profesionales\, productores\, emprendedores\, militantes sociales\, técnicos\, docentes y estudiantes. \nNo requiere formación previa. \nCursado arancelado \n  \nVER FOLLETO\n  \nOrganizan: Universidad Católica de Santa Fe (UCSF)\, Fundación EPyCA y Centro Esperanza. \nLink de inscripción: https://forms.gle/74Y81mFr3LZAUiYz7 \nFacebook: https://www.facebook.com/fundacionepyca \nInformes: Email: Info@epyca.org.ar \nTeléfono móvil de contacto: +54 9 342 5485334 (Nicolás Machado)
URL:https://www.ucsf.edu.ar/evento/diplomatura-estrategia-casa-comun/
LOCATION:UCSF Santa Fe\, Echagüe 7151\, Santa Fe\, Santa Fe\, Argentina
CATEGORIES:Alumnos,Santa Fe,Docentes,Rosario,Personal UCSF,Posadas,Reconquista,Rafaela,Gualeguaychú,Posgrados,Sedes,Extensión,Investigación
GEO:-31.6069451;-60.6709418
X-APPLE-STRUCTURED-LOCATION;VALUE=URI;X-ADDRESS=UCSF Santa Fe Echagüe 7151 Santa Fe Santa Fe Argentina;X-APPLE-RADIUS=500;X-TITLE=Echagüe 7151:geo:-60.6709418,-31.6069451
END:VEVENT
BEGIN:VEVENT
DTSTART;TZID=America/Argentina/Buenos_Aires:20230906T180000
DTEND;TZID=America/Argentina/Buenos_Aires:20230927T200000
DTSTAMP:20260423T052456
CREATED:20230503T210215Z
LAST-MODIFIED:20230624T191716Z
UID:59957-1694023200-1695844800@www.ucsf.edu.ar
SUMMARY:Micro Credencial de Posgrado UCSF – “Evaluación e intervención de la lectura y la comprensión”
DESCRIPTION:  \n-Programa de Educación Continua – \nMicro Credencial “Evaluación e Intervención de la Lectura y la Comprensión” \n  \nLa lectura y la comprensión de textos son habilidades cognitivas\, lingüísticas y culturales que median gran parte de las actividades de la vida cotidiana de los seres humanos que vivimos en sociedades letradas. En función de los contextos en los que se usen la lectura supone diferentes demandas para los sujetos que participan de una actividad determinada. \n  \nDocentes:  Dra Valeria Abusamra y Dr. Luis Ángel Roldán \n  \nInicio de cursado virtual sincrónico: 06 de septiembre \n  \nIncluye Insignia Digital \n  \nInscripción abierta hasta el 01 de septiembre \n  \nPara informes e inscripción: pecposgrado@ucsf.edu.ar \n  \n 
URL:https://www.ucsf.edu.ar/evento/micro-credencial-de-posgrado-ucsf-evaluacion-e-intervencion-de-la-lectura-y-la-comprension/
LOCATION:UCSF Santa Fe\, Echagüe 7151\, Santa Fe\, Santa Fe\, Argentina
CATEGORIES:Doctorado en Filosofía,Maestría en Evaluación de Impacto y Gestión Ambiental,Alumnos,Santa Fe,Docentes,Especialización en Terapias Cognitivas,Personal UCSF,Especialización en Gestión Integral del Hábitat,Carreras de Posgrado,Doctorado en Ciencias Jurídicas,Departamento de Posgrados,Doctorado en Educación,Posgrados,Sedes,Maestría en Relaciones Internacionales
ATTACH;FMTTYPE=image/jpeg:https://www.ucsf.edu.ar/wp-content/uploads/2023/05/Microcredencial-evaluacion-psicodiagnostica_flyer-7.jpg
ORGANIZER;CN="Posgrado":MAILTO:posgrado@ucsf.edu.ar
GEO:-31.6069451;-60.6709418
X-APPLE-STRUCTURED-LOCATION;VALUE=URI;X-ADDRESS=UCSF Santa Fe Echagüe 7151 Santa Fe Santa Fe Argentina;X-APPLE-RADIUS=500;X-TITLE=Echagüe 7151:geo:-60.6709418,-31.6069451
END:VEVENT
BEGIN:VEVENT
DTSTART;TZID=America/Argentina/Buenos_Aires:20230919T200000
DTEND;TZID=America/Argentina/Buenos_Aires:20230919T200000
DTSTAMP:20260423T052456
CREATED:20230911T222331Z
LAST-MODIFIED:20230911T222331Z
UID:64030-1695153600-1695153600@www.ucsf.edu.ar
SUMMARY:Presentación del libro "La verdad los hará libres"
DESCRIPTION:El martes 19 de septiembre a las 20 hs. se realizará la Presentación del libro: “La verdad los hará libres”\, en el Aula 2.52 de la UCSF Sede Virgen de Guadalupe. \nDisertarán el Pbro. Dr. Luis Liberti SVD\, el Pbro. Dr. Antonio Grande y Rogelio Alaniz. \nLa actividad es organizada por la Pastoral Social de Santa Fe y el Vicerrectorado de Formación de la Universidad Católica de Santa Fe.
URL:https://www.ucsf.edu.ar/evento/presentacion-del-libro-la-verdad-los-hara-libres/
LOCATION:UCSF Santa Fe\, Echagüe 7151\, Santa Fe\, Santa Fe\, Argentina
CATEGORIES:Pastoral,Alumnos,Docentes,Personal UCSF,Vicerrectorado de Formación,Comunidad,Bienestar universitario
ATTACH;FMTTYPE=image/jpeg:https://www.ucsf.edu.ar/wp-content/uploads/2023/09/Presentacion-libro-La-verdad-los-hara-libres-_feed2.jpg
GEO:-31.6069451;-60.6709418
X-APPLE-STRUCTURED-LOCATION;VALUE=URI;X-ADDRESS=UCSF Santa Fe Echagüe 7151 Santa Fe Santa Fe Argentina;X-APPLE-RADIUS=500;X-TITLE=Echagüe 7151:geo:-60.6709418,-31.6069451
END:VEVENT
BEGIN:VEVENT
DTSTART;TZID=America/Argentina/Buenos_Aires:20230923T090000
DTEND;TZID=America/Argentina/Buenos_Aires:20230923T120000
DTSTAMP:20260423T052456
CREATED:20230816T124754Z
LAST-MODIFIED:20230920T121201Z
UID:62857-1695459600-1695470400@www.ucsf.edu.ar
SUMMARY:Seminarios abiertos - Autorregulación y Co-regulación en el aula. Seminario abierto
DESCRIPTION:16/9 – 23/9 y 07/10 \n“Autorregulación y Co-regulación en el aula” \nSeminario abierto a todos los interesados en el marco de la Diplomatura en Inclusión Escolar de la FFH – UCSF \n  \nDisertantes: María Aggio\, Cecilia Paillet y Débora Tablada \n \nMaría Aggio\nProfesora de Enseñanza Primaria y Profesora de Educación Especial\, ejerciendo la docencia desde el año 1990. Certificada en el Modelo DIR® por el ICDL (Internacional Council on Develpomental and Learning Disorders\, creado por el Dr. Stanley Greenspan y la Dra. Serena Wieder). Trabaja en el CETNA – Fleni\, desde el año 2001\, en la Escuela Terapéutica y coordinando el área de Floortime. Colabora con el Summer Camp de la Institución CELEBRATE THE CHILDREN (Escuela DIR® de New Jersey – USA) y el SUMMER INSTITUTE. Es asesora de la Editorial Abrecascarones\, dedicada a niños con necesidades especiales. Es disertante en diferentes Congresos y Jornadas relacionadas al tratamiento de personas con necesidad Especiales. \n  \n  \nSobre la Diplomatura \nEl movimiento mundial reconocido como educación inclusiva tiene como objetivo garantizar a cada persona el derecho a acceder a una educación de calidad a lo largo de toda la vida. Este desafío propone considerar la\nsingularidad de cada persona\, de cada educando en el proceso de enseñanza y aprendizaje escolar. El objetivo es mayor\, ya que esta consideración se propone que en cada aula se propicie la participación y el aprendizaje compartido. (Declaración de Salamanca Art. 7).\nLa Educación Inclusiva reconoce que todos podemos aprender y que cada persona posee características\, intereses\, capacidades y necesidades de aprendizaje únicos. Ahora bien\, estas premisas implican un cambio de\nparadigma que debe consolidarse en el plano de las acciones concretas. Esto conlleva la implementación de cambios en la práctica educativa considerando no sólo las Políticas Públicas y los instrumentos de Gestión\nEducativa sino\, especialmente\, cambios en la dinámica ad intra del aula que requieren la comprensión crítica de nuevos paradigmas interpretativos\, la redefinición del rol docente y\, devenido de éste\, el aprendizaje de nuevas\ncompetencias. Es fundamental entonces considerar la relevancia de brindar espacios de formación integral tanto a los equipos de gestión institucional de orientación educativa como a los docentes para asumir el desafío planteado. \n  \nModalidad: HÍBRIDA \nHora: Miércoles 19 a 21 hs – sábados 9 a 12 hs \n  \nBonificación especial para instituciones de la JAE y comunidad UCSF \n  \nContacto: extensionffyh@ucsf.edu.ar \n 
URL:https://www.ucsf.edu.ar/evento/autorregulacion-y-co-regulacion-en-el-aula-seminario-abierto/
LOCATION:UCSF Santa Fe\, Echagüe 7151\, Santa Fe\, Santa Fe\, Argentina
CATEGORIES:A distancia,Alumnos,Santa Fe,Facultades,Docentes,Rosario,Personal UCSF,Reconquista,Filosofía y Humanidades,Comunidad,Concordia,Sedes
ATTACH;FMTTYPE=image/jpeg:https://www.ucsf.edu.ar/wp-content/uploads/2023/08/Seminarios-Abiertos-Diplomatura-en-Inclusion-Escolar_3-e1694626236622.jpg
ORGANIZER;CN="Facultad%20de%20Filosofia%20y%20Humanidades":MAILTO:extensionffyh@ucsf.edu.ar
GEO:-31.6069451;-60.6709418
X-APPLE-STRUCTURED-LOCATION;VALUE=URI;X-ADDRESS=UCSF Santa Fe Echagüe 7151 Santa Fe Santa Fe Argentina;X-APPLE-RADIUS=500;X-TITLE=Echagüe 7151:geo:-60.6709418,-31.6069451
END:VEVENT
END:VCALENDAR