BEGIN:VCALENDAR
VERSION:2.0
PRODID:-//UCSF - Universidad Católica de Santa Fe - ECPv5.14.2.1//NONSGML v1.0//EN
CALSCALE:GREGORIAN
METHOD:PUBLISH
X-WR-CALNAME:UCSF - Universidad Católica de Santa Fe
X-ORIGINAL-URL:https://www.ucsf.edu.ar
X-WR-CALDESC:Events for UCSF - Universidad Católica de Santa Fe
REFRESH-INTERVAL;VALUE=DURATION:PT1H
X-Robots-Tag:noindex
X-PUBLISHED-TTL:PT1H
BEGIN:VTIMEZONE
TZID:America/Argentina/Buenos_Aires
BEGIN:STANDARD
TZOFFSETFROM:-0300
TZOFFSETTO:-0300
TZNAME:-03
DTSTART:20240101T000000
END:STANDARD
END:VTIMEZONE
BEGIN:VEVENT
DTSTART;TZID=America/Argentina/Buenos_Aires:20240215T190000
DTEND;TZID=America/Argentina/Buenos_Aires:20240215T203000
DTSTAMP:20260422T214929
CREATED:20240214T144345Z
LAST-MODIFIED:20240214T145625Z
UID:68958-1708023600-1708029000@www.ucsf.edu.ar
SUMMARY:Charla Informativa Virtual: "Especialización en Gestión de la Transformación Digital" Posgrado UCSF
DESCRIPTION:ENLACE DE ZOOM: \n  \n 
URL:https://www.ucsf.edu.ar/evento/charla-informativa-virtual-especializacion-en-gestion-de-la-transformacion-digital-posgrado-ucsf/
LOCATION:Vía Zoom\, Argentina
CATEGORIES:Alumnos,Santa Fe,Docentes,Personal UCSF,Carreras de Posgrado,Especialización en Gestión Integral del Hábitat,Doctorado en Ciencias Jurídicas,Departamento de Posgrados,Comunidad,Doctorado en Educación,Posgrados,Sedes,Maestría en Relaciones Internacionales
ATTACH;FMTTYPE=image/jpeg:https://www.ucsf.edu.ar/wp-content/uploads/2024/02/Charla-informativa-GTD_Facebook.jpg
ORGANIZER;CN="Posgrado":MAILTO:posgrado@ucsf.edu.ar
END:VEVENT
END:VCALENDAR