BEGIN:VCALENDAR
VERSION:2.0
PRODID:-//UCSF - Universidad Católica de Santa Fe - ECPv5.14.2.1//NONSGML v1.0//EN
CALSCALE:GREGORIAN
METHOD:PUBLISH
X-WR-CALNAME:UCSF - Universidad Católica de Santa Fe
X-ORIGINAL-URL:https://www.ucsf.edu.ar
X-WR-CALDESC:Events for UCSF - Universidad Católica de Santa Fe
REFRESH-INTERVAL;VALUE=DURATION:PT1H
X-Robots-Tag:noindex
X-PUBLISHED-TTL:PT1H
BEGIN:VTIMEZONE
TZID:America/Argentina/Buenos_Aires
BEGIN:STANDARD
TZOFFSETFROM:-0300
TZOFFSETTO:-0300
TZNAME:-03
DTSTART:20240101T000000
END:STANDARD
END:VTIMEZONE
BEGIN:VEVENT
DTSTART;TZID=America/Argentina/Buenos_Aires:20240326T160000
DTEND;TZID=America/Argentina/Buenos_Aires:20240326T170000
DTSTAMP:20260422T191318
CREATED:20240321T181434Z
LAST-MODIFIED:20240321T181434Z
UID:69978-1711468800-1711472400@www.ucsf.edu.ar
SUMMARY:Vía Crucis por dependencias
DESCRIPTION:El próximo martes 26/3 a las 16 hs.\, te esperamos en la planta baja de la UCSF – Sede Virgen de Guadalupe\, para recorrer las estaciones del Vía Crucis por las distintas dependencias de la Casa. \nUn año más\, te invitamos a vivir la Semana Santa en comunidad.
URL:https://www.ucsf.edu.ar/evento/via-crucis-por-dependencias-3/
LOCATION:UCSF Santa Fe\, Echagüe 7151\, Santa Fe\, Santa Fe\, Argentina
CATEGORIES:Pastoral,Alumnos,Docentes,Personal UCSF,Vicerrectorado de Formación,Comunidad,Bienestar universitario
ATTACH;FMTTYPE=image/jpeg:https://www.ucsf.edu.ar/wp-content/uploads/2024/03/Via-crucis-por-dependencias_feed-whatsapp.jpg
GEO:-31.6069451;-60.6709418
X-APPLE-STRUCTURED-LOCATION;VALUE=URI;X-ADDRESS=UCSF Santa Fe Echagüe 7151 Santa Fe Santa Fe Argentina;X-APPLE-RADIUS=500;X-TITLE=Echagüe 7151:geo:-60.6709418,-31.6069451
END:VEVENT
END:VCALENDAR