BEGIN:VCALENDAR
VERSION:2.0
PRODID:-//UCSF - Universidad Católica de Santa Fe - ECPv5.14.2.1//NONSGML v1.0//EN
CALSCALE:GREGORIAN
METHOD:PUBLISH
X-WR-CALNAME:UCSF - Universidad Católica de Santa Fe
X-ORIGINAL-URL:https://www.ucsf.edu.ar
X-WR-CALDESC:Events for UCSF - Universidad Católica de Santa Fe
REFRESH-INTERVAL;VALUE=DURATION:PT1H
X-Robots-Tag:noindex
X-PUBLISHED-TTL:PT1H
BEGIN:VTIMEZONE
TZID:America/Argentina/Buenos_Aires
BEGIN:STANDARD
TZOFFSETFROM:-0300
TZOFFSETTO:-0300
TZNAME:-03
DTSTART:20240101T000000
END:STANDARD
END:VTIMEZONE
BEGIN:VEVENT
DTSTART;TZID=America/Argentina/Buenos_Aires:20240411T170000
DTEND;TZID=America/Argentina/Buenos_Aires:20240411T203000
DTSTAMP:20260422T191314
CREATED:20240409T171601Z
LAST-MODIFIED:20240409T171705Z
UID:70383-1712854800-1712867400@www.ucsf.edu.ar
SUMMARY:Mateada y Peregrinación a Guadalupe
DESCRIPTION:El próximo jueves 11 de abril como Comunidad Universitaria peregrinaremos a la Casa de nuestra Madre y Patrona\, la Virgen de Guadalupe. \nA las 17 hs. convocamos a los estudiantes a compartir una mateada\, para ir luego a la Basílica de Guadalupe\,  junto a todos los integrantes de la UCSF\, para participar de la Novena y Misa. \n \nOrganiza: Departamento de Pastoral
URL:https://www.ucsf.edu.ar/evento/mateada-y-peregrinacion-a-guadalupe/
LOCATION:UCSF Santa Fe\, Echagüe 7151\, Santa Fe\, Santa Fe\, Argentina
CATEGORIES:Pastoral,Alumnos,Docentes,Personal UCSF,Vicerrectorado de Formación,Comunidad
GEO:-31.6069451;-60.6709418
X-APPLE-STRUCTURED-LOCATION;VALUE=URI;X-ADDRESS=UCSF Santa Fe Echagüe 7151 Santa Fe Santa Fe Argentina;X-APPLE-RADIUS=500;X-TITLE=Echagüe 7151:geo:-60.6709418,-31.6069451
END:VEVENT
END:VCALENDAR