BEGIN:VCALENDAR
VERSION:2.0
PRODID:-//UCSF - Universidad Católica de Santa Fe - ECPv5.14.2.1//NONSGML v1.0//EN
CALSCALE:GREGORIAN
METHOD:PUBLISH
X-WR-CALNAME:UCSF - Universidad Católica de Santa Fe
X-ORIGINAL-URL:https://www.ucsf.edu.ar
X-WR-CALDESC:Events for UCSF - Universidad Católica de Santa Fe
REFRESH-INTERVAL;VALUE=DURATION:PT1H
X-Robots-Tag:noindex
X-PUBLISHED-TTL:PT1H
BEGIN:VTIMEZONE
TZID:America/Argentina/Buenos_Aires
BEGIN:STANDARD
TZOFFSETFROM:-0300
TZOFFSETTO:-0300
TZNAME:-03
DTSTART:20240101T000000
END:STANDARD
END:VTIMEZONE
BEGIN:VEVENT
DTSTART;TZID=America/Argentina/Buenos_Aires:20240523T180000
DTEND;TZID=America/Argentina/Buenos_Aires:20240523T190000
DTSTAMP:20260422T191321
CREATED:20240508T123125Z
LAST-MODIFIED:20240508T124916Z
UID:71551-1716487200-1716490800@www.ucsf.edu.ar
SUMMARY:Webinar: Resolución alternativa de conflictos en el ámbito de la empresa
DESCRIPTION:La Facultad de Ciencias Económicas invita a participar del webinar: Resolución alternativa de conflictos en el ámbito de la empresa. \nEl mismo se realizará el jueves 23 de mayo a las 18 hs vía Zoom\, en el marco del Ciclo de Seminarios Virtuales que organiza la unidad académica para 2024\, y estará a cargo de la Dra. Elisabet Souza\, docente de la Licenciatura en Administración. \nLos interesados puede inscribirse a través de este formulario: https://forms.office.com/r/P1CFvsGyf8 \nPara conocer el resto de los webinars: https://www.ucsf.edu.ar/ciclo-de-seminarios-virtuales-sobre-empresa-negocios-y-transformacion-digital/ \nPor consultas\, dirigirse a: airigoitia@ucsf.edu.ar \n 
URL:https://www.ucsf.edu.ar/evento/webinar-resolucion-alternativa-de-conflictos-en-el-ambito-de-la-empresa/
LOCATION:Virtual\, Argentina
CATEGORIES:Alumnos,Santa Fe,Docentes,Rosario,Personal UCSF,Posadas,Reconquista,Rafaela,Comunidad,Gualeguaychú,Sedes
ATTACH;FMTTYPE=image/jpeg:https://www.ucsf.edu.ar/wp-content/uploads/2024/05/seminarios-virtuales-imagen-web_resolucion-de-conflictos.jpg
ORGANIZER;CN="Facultad%20de%20Ciencias%20Econ%C3%B3micas":MAILTO:gvelazquez@ucsf.edu.ar
END:VEVENT
END:VCALENDAR