BEGIN:VCALENDAR
VERSION:2.0
PRODID:-//UCSF - Universidad Católica de Santa Fe - ECPv5.14.2.1//NONSGML v1.0//EN
CALSCALE:GREGORIAN
METHOD:PUBLISH
X-WR-CALNAME:UCSF - Universidad Católica de Santa Fe
X-ORIGINAL-URL:https://www.ucsf.edu.ar
X-WR-CALDESC:Events for UCSF - Universidad Católica de Santa Fe
REFRESH-INTERVAL;VALUE=DURATION:PT1H
X-Robots-Tag:noindex
X-PUBLISHED-TTL:PT1H
BEGIN:VTIMEZONE
TZID:America/Argentina/Buenos_Aires
BEGIN:STANDARD
TZOFFSETFROM:-0300
TZOFFSETTO:-0300
TZNAME:-03
DTSTART:20240101T000000
END:STANDARD
END:VTIMEZONE
BEGIN:VEVENT
DTSTART;TZID=America/Argentina/Buenos_Aires:20240528T160000
DTEND;TZID=America/Argentina/Buenos_Aires:20240528T170000
DTSTAMP:20260422T041300
CREATED:20240516T185931Z
LAST-MODIFIED:20240516T185931Z
UID:71810-1716912000-1716915600@www.ucsf.edu.ar
SUMMARY:Apertura Encuentro de Investigadores e Extensionistas UCSF - EIE 2024
DESCRIPTION:El Próximo 28 de mayo se relizará el acto de apertura del 1er. Encuentro de Investigadores e Extensionistas UCSF – EIE 2024. La cita es a partir de las 16 horas en el Hall de la Sede Virgen de Guadalupe de la UCSF. \nLa conferencia inaugural estará a cargo del Ing. Rudy Grether\, docente e investigador de gran trayectoria en el mundo universitario. \nLa muestra podrá visitarse hasta el 28 de junio. \nEl EIE tiene como objetivos la generación de un espacio que permita la presentación de trabajos de investigación y extensión\, la difusión y el intercambio de conocimientos entre investigadores y extensionistas de la UCSF\, promover en la comunidad universitaria el interés por la investigación y extensión\, y visibilizar las líneas prioritarias de la UCSF en Investigación y Extensión.  \nOrganizan: las secretarias de Ciencia\, Técnica y Extensión de las Facultades de Arquitectura y Diseño\, Ciencias Agropecuarias\, Ciencias de la Salud\, Ciencias Económicas\, Derecho y Ciencia Política\, Filosofía y Humanidades\, Psicología\, el Departamento de Posgrado y el de Filosofía y Teología; el Consejo de Investigaciones\, junto a la Secretaría de Ciencia\, Técnica y Extensión de Rectorado de la UCSF. \n  \nConvocatoria abierta para el encuentro de investigadores y extensionistas de la UCSF \n \n 
URL:https://www.ucsf.edu.ar/evento/apertura-encuentro-de-investigadores-e-extensionistas-ucsf-eie-2024/
LOCATION:UCSF Santa Fe\, Echagüe 7151\, Santa Fe\, Santa Fe\, Argentina
CATEGORIES:Santa Fe,Facultades,Alumnos,Docentes,Rosario,Personal UCSF,Reconquista,Filosofía y Humanidades,Comunidad,Concordia,Sedes
ATTACH;FMTTYPE=image/jpeg:https://www.ucsf.edu.ar/wp-content/uploads/2024/05/WhatsApp-Image-2024-05-16-at-9.09.44-AM.jpeg
GEO:-31.6069451;-60.6709418
X-APPLE-STRUCTURED-LOCATION;VALUE=URI;X-ADDRESS=UCSF Santa Fe Echagüe 7151 Santa Fe Santa Fe Argentina;X-APPLE-RADIUS=500;X-TITLE=Echagüe 7151:geo:-60.6709418,-31.6069451
END:VEVENT
BEGIN:VEVENT
DTSTART;TZID=America/Argentina/Buenos_Aires:20240529T180000
DTEND;TZID=America/Argentina/Buenos_Aires:20240529T200000
DTSTAMP:20260422T041300
CREATED:20240513T220553Z
LAST-MODIFIED:20240513T220553Z
UID:71702-1717005600-1717012800@www.ucsf.edu.ar
SUMMARY:Charla - taller  Periodismo de soluciones: ¿cómo mejorar la información y la comunicación pública?
DESCRIPTION:En el marco del día del periodista trabajamos en la construcción de un periodismo más saludable. \nInvitación charla – taller 🌟Periodismo de soluciones: ¿cómo mejorar la información y la comunicación pública? 🌟\nIniciativa de KAS junto a Infociudadana. \nParticipación especial \nDra. Adriana Amado (Infociudadana) \nLic. Susanne Kass (Konrad Adenauer) \n  \n📍Charla Taller a cargo de la Lic. Ileana Hotschewer \n  \nDESTINATARIOS/AS:  \nEstudiantes y profesores de comunicación\, periodismo \nPúblico en general interesado en el tema. \n  \nOrganizan: UCSF (FFH)\, UNL (FHUC)\, Municipalidad de Santa Fe \n📅 29 de mayo\n🕒 18 hs (2 hs de duración aprox) \n📍 Estación Belgrano (Bv. Gálvez 1150 – Santa Fe) \n👥 Actividad libre y gratuita con inscripción previa. \n  \nINSCRIBITE: https://forms.gle/howz8tkRnwKXNJap7
URL:https://www.ucsf.edu.ar/evento/charla-taller-periodismo-de-soluciones-como-mejorar-la-informacion-y-la-comunicacion-publica/
LOCATION:UCSF Santa Fe\, Echagüe 7151\, Santa Fe\, Santa Fe\, Argentina
CATEGORIES:Santa Fe,Facultades,Alumnos,Docentes,Personal UCSF,Filosofía y Humanidades,Comunidad,Sedes
ATTACH;FMTTYPE=image/jpeg:https://www.ucsf.edu.ar/wp-content/uploads/2024/05/flyer-periodismo-de-soluciones.jpeg
GEO:-31.6069451;-60.6709418
X-APPLE-STRUCTURED-LOCATION;VALUE=URI;X-ADDRESS=UCSF Santa Fe Echagüe 7151 Santa Fe Santa Fe Argentina;X-APPLE-RADIUS=500;X-TITLE=Echagüe 7151:geo:-60.6709418,-31.6069451
END:VEVENT
END:VCALENDAR