BEGIN:VCALENDAR
VERSION:2.0
PRODID:-//UCSF - Universidad Católica de Santa Fe - ECPv5.14.2.1//NONSGML v1.0//EN
CALSCALE:GREGORIAN
METHOD:PUBLISH
X-WR-CALNAME:UCSF - Universidad Católica de Santa Fe
X-ORIGINAL-URL:https://www.ucsf.edu.ar
X-WR-CALDESC:Events for UCSF - Universidad Católica de Santa Fe
REFRESH-INTERVAL;VALUE=DURATION:PT1H
X-Robots-Tag:noindex
X-PUBLISHED-TTL:PT1H
BEGIN:VTIMEZONE
TZID:America/Argentina/Buenos_Aires
BEGIN:STANDARD
TZOFFSETFROM:-0300
TZOFFSETTO:-0300
TZNAME:-03
DTSTART:20240101T000000
END:STANDARD
END:VTIMEZONE
BEGIN:VEVENT
DTSTART;TZID=America/Argentina/Buenos_Aires:20240827T190000
DTEND;TZID=America/Argentina/Buenos_Aires:20241112T210000
DTSTAMP:20260421T113338
CREATED:20240814T190319Z
LAST-MODIFIED:20240814T190751Z
UID:75171-1724785200-1731445200@www.ucsf.edu.ar
SUMMARY:Seminarios Abiertos de Posgrado Acreditables a la Espec. en Gestión de la Transformación Digital
DESCRIPTION:
URL:https://www.ucsf.edu.ar/evento/seminarios-abiertos-de-posgrado-acreditables-a-la-esp-en-gestion-de-la-transformacion-digital/
LOCATION:Vía Zoom\, Argentina
CATEGORIES:A distancia,Especialización en Gestión de la Transformación Digital,Santa Fe,Alumnos,Docentes,Rosario,Posadas,Personal UCSF,Reconquista,Carreras de Posgrado,Departamento de Posgrados,Comunidad,Posgrados,Sedes
ATTACH;FMTTYPE=image/jpeg:https://www.ucsf.edu.ar/wp-content/uploads/2024/08/Seminarios-abiertos-de-posgrado_feed.jpg
ORGANIZER;CN="Posgrado":MAILTO:posgrado@ucsf.edu.ar
END:VEVENT
BEGIN:VEVENT
DTSTART;TZID=America/Argentina/Buenos_Aires:20241105T180000
DTEND;TZID=America/Argentina/Buenos_Aires:20241105T200000
DTSTAMP:20260421T113338
CREATED:20240910T143558Z
LAST-MODIFIED:20240910T143558Z
UID:76153-1730829600-1730836800@www.ucsf.edu.ar
SUMMARY:Curso interuniversitario: Dignidad humana\, aborto y eutanasia
DESCRIPTION:El Instituto de Bioética “Jérôme Lejeune”\, de la Universidad Católica de Santa Fe\, en colaboración con otras instituciones académicas de la Red UC-OC\, ofrecerá el curso interuniversitario “Dignidad humana\, aborto y eutanasia: aproximación interdisciplinaria” del 3 de septiembre al 12 de noviembre de 2024. Es gratuito\, con inscripción previa; y otorga puntaje para la Carrera docente UCSF. \nEste curso tiene como propósito profundizar en la reflexión sobre la dignidad humana desde una perspectiva integral\, abordando temas cruciales como la eutanasia\, el aborto y la defensa de la vida en todas sus etapas; desde el inicio de la vida hasta la muerte natural. El programa completo se puede consultar en este link.  \nEl curso se impartirá en modalidad sincrónica a través de la plataforma Zoom\, facilitando la participación de estudiantes y profesionales de todo el país. Se dictará los martes de 18 a 20hs hasta el 12 de noviembre de 2024. La carga horaria total es de 22 horas estructuradas en 11 encuentros semanales. \n 
URL:https://www.ucsf.edu.ar/evento/curso-interuniversitario-dignidad-humana-aborto-y-eutanasia-9/
LOCATION:Vía Zoom\, Argentina
CATEGORIES:A distancia,Home principal,Santa Fe,Facultades,IB Instituto de Bioética Jerome Lejeune,Docentes,Rosario,Carreras de Grado,Personal UCSF,Posadas,Reconquista,LA UCSF,Rafaela,Vicerrectorado de Formación,Comunidad,Gualeguaychú,Concordia,Sedes,Institutos
ATTACH;FMTTYPE=image/png:https://www.ucsf.edu.ar/wp-content/uploads/2024/09/curso-interuniversitario-bioetica.png
END:VEVENT
BEGIN:VEVENT
DTSTART;TZID=America/Argentina/Buenos_Aires:20241108T080000
DTEND;TZID=America/Argentina/Buenos_Aires:20241108T180000
DTSTAMP:20260421T113338
CREATED:20241031T201733Z
LAST-MODIFIED:20241105T123735Z
UID:77821-1731052800-1731088800@www.ucsf.edu.ar
SUMMARY:Primer congreso Santafesino de Organizaciones de la Sociedad Civil
DESCRIPTION:El Encuentro de Organizaciones Sociales de la Provincia de Santa Fe es un evento clave diseñado para fortalecer y capacitar a las organizaciones que desempeñan un papel crucial en nuestra sociedad y facilitar espacios de generación de vínculos y redes de contactos entre ellas y con el sector público y académico. \nEl mismo está orientado a proporcionar a los participantes una serie de herramientas y conocimientos esenciales para mejorar la gestión\, la ejecución de proyectos y la sostenibilidad de sus iniciativas. Durante el evento\, se abordarán temas variados que van desde la estrategia organizacional y sostenimiento de la personería jurídica\, hasta la innovación en comunicación y el fortalecimiento de redes colaborativas y el relacionamiento con programas del Gobierno provincial. \nNuestro objetivo es crear un espacio donde los representantes de las organizaciones puedan intercambiar experiencias\, aprender de expertos en el campo y establecer conexiones valiosas que potencien su impacto. Creemos que\, al ofrecer un entorno de aprendizaje y colaboración\, estamos contribuyendo significativamente al desarrollo y al éxito de las iniciativas cívicas que benefician a nuestras comunidades. \nEl evento está co-organizado entre la UCSF\, el Ministerio de Igualdad y Desarrollo Humano de la Provincia\, la Defensoría del Pueblo de Santa Fe y Sociedad Civil en Red. \nAgenda \n9.00 hs \n\nPalabras inaugurales a cargo de las autoridades\, bendición del evento.\n\n9.15 a 9.30 \n\nDesayuno de bienvenida.\n\n9.30 a 11.00 \n\nSala 1: “La experiencia de la Feria de Organizaciones Sociales de Santa Fe\, una alianza que funciona hace 15 años” – Defensoría del Pueblo / FOS\nSala 2: “Taller de comunicación asertiva” – UCSF y El Litoral\nSala 3: Presentación de Redes miembro de Sociedad Civil en Red: Red Encuentro de Entidades no Gubernamentales para el Desarrollo y Federación de Fundaciones Argentinas.\n\n11.00 a 12.30 \n\nSala 1: “La IA como herramienta potenciadora de Organizaciones Sociales” – Legal Check\nSala 2: “ABC de la recaudación de fondos” – AEDROS\nSala 3: Presentación de Redes miembro de Sociedad Civil en Red: Foro del Sector Social y Grupo de Fundaciones y Empresas\n\n12.30 a 13.00 \n\nAlmuerzo en el Jardín gratuito para las y los participantes inscriptos.\n\n13.00 a 14.30 \n\nSala 1: “Gestión eficiente de proyectos” – Aportes de Gestión\nSala 2: “Taller de reflexión sobre cómo se cuida a quienes cuidan” – Potenciar Solidario\nSala 3: Presentación de Redes miembro de Sociedad Civil en Red: Bancos de Alimentos Argentina y Red Argentina por la Cooperación Internacional\n\n14.30 a 16.00 \n\nPlenaria: “Herramientas para evaluar y sostener las personerías jurídicas” – Dirección de Personas Jurídicas de Santa Fe y Sociedad Civil en Red\, Nodo NEA.\n\n16.00 a 17.30 \n\nPlenaria: “Políticas Sociales en la Provincia de Santa Fe y articulación con Organizaciones de la Sociedad Civil” – Ministerio de Igualdad y Desarrollo Humano.\n\n17.30 \n\nCierre\n\n  \n9.15 a 17.30 \n\nEspacio de intercambio y relacionamiento.\n\n  \n  \nMÁS INFO: \nSe hará el primer Congreso Santafesino de Organizaciones de la Sociedad Civil
URL:https://www.ucsf.edu.ar/evento/congreso-organizaciones-sociedad-civil/
LOCATION:UCSF Santa Fe\, Echagüe 7151\, Santa Fe\, Santa Fe\, Argentina
CATEGORIES:Alumnos,Docentes,Personal UCSF,ORS - Observatorio de Responsabilidad Social
ORGANIZER;CN="Observatorio%20de%20Responsabilidad%20Social%20de%20la%20UCSF":MAILTO:obresocial@ucsf.edu.ar
GEO:-31.6069451;-60.6709418
X-APPLE-STRUCTURED-LOCATION;VALUE=URI;X-ADDRESS=UCSF Santa Fe Echagüe 7151 Santa Fe Santa Fe Argentina;X-APPLE-RADIUS=500;X-TITLE=Echagüe 7151:geo:-60.6709418,-31.6069451
END:VEVENT
END:VCALENDAR