BEGIN:VCALENDAR
VERSION:2.0
PRODID:-//UCSF - Universidad Católica de Santa Fe - ECPv5.14.2.1//NONSGML v1.0//EN
CALSCALE:GREGORIAN
METHOD:PUBLISH
X-WR-CALNAME:UCSF - Universidad Católica de Santa Fe
X-ORIGINAL-URL:https://www.ucsf.edu.ar
X-WR-CALDESC:Events for UCSF - Universidad Católica de Santa Fe
REFRESH-INTERVAL;VALUE=DURATION:PT1H
X-Robots-Tag:noindex
X-PUBLISHED-TTL:PT1H
BEGIN:VTIMEZONE
TZID:America/Argentina/Buenos_Aires
BEGIN:STANDARD
TZOFFSETFROM:-0300
TZOFFSETTO:-0300
TZNAME:-03
DTSTART:20250101T000000
END:STANDARD
END:VTIMEZONE
BEGIN:VEVENT
DTSTART;TZID=America/Argentina/Buenos_Aires:20250305T080000
DTEND;TZID=America/Argentina/Buenos_Aires:20250305T170000
DTSTAMP:20260420T232213
CREATED:20250219T220047Z
LAST-MODIFIED:20250219T220047Z
UID:80268-1741161600-1741194000@www.ucsf.edu.ar
SUMMARY:Misa Miércoles de Ceniza
DESCRIPTION:Invitamos a toda la comunidad universitaria a participar de la Misa de bendición e imposición de las cenizas\, con el cual damos inicio al tiempo de Cuaresma. \nEste año se celebrará el miércoles 5 de marzo a las 12 hs.\, en la Capilla de la UCSF – Sede Virgen de Guadalupe. \n¡Los esperamos! \n \n 
URL:https://www.ucsf.edu.ar/evento/misa-miercoles-de-ceniza-3/
LOCATION:UCSF Santa Fe\, Echagüe 7151\, Santa Fe\, Santa Fe\, Argentina
CATEGORIES:Pastoral,Alumnos,Cultura: coros y teatro,Docentes,Deportes,Personal UCSF,Vicerrectorado de Formación,Comunidad,Bienestar universitario
ATTACH;FMTTYPE=image/jpeg:https://www.ucsf.edu.ar/wp-content/uploads/2025/02/Miercoles-de-cenizas_web.jpg
GEO:-31.6069451;-60.6709418
X-APPLE-STRUCTURED-LOCATION;VALUE=URI;X-ADDRESS=UCSF Santa Fe Echagüe 7151 Santa Fe Santa Fe Argentina;X-APPLE-RADIUS=500;X-TITLE=Echagüe 7151:geo:-60.6709418,-31.6069451
END:VEVENT
BEGIN:VEVENT
DTSTART;TZID=America/Argentina/Buenos_Aires:20250307T150000
DTEND;TZID=America/Argentina/Buenos_Aires:20250307T170000
DTSTAMP:20260420T232213
CREATED:20250226T185457Z
LAST-MODIFIED:20250226T185625Z
UID:80583-1741359600-1741366800@www.ucsf.edu.ar
SUMMARY:Taller de diseño de Curriculum Vitae y Carga en SIGEVA
DESCRIPTION:  \n 
URL:https://www.ucsf.edu.ar/evento/taller-de-diseno-de-curriculum-vitae-y-carga-en-sigeva/
LOCATION:UCSF Santa Fe\, Echagüe 7151\, Santa Fe\, Santa Fe\, Argentina
CATEGORIES:Investigación Ecojurídica,Alumnos,Docentes,Personal UCSF
GEO:-31.6069451;-60.6709418
X-APPLE-STRUCTURED-LOCATION;VALUE=URI;X-ADDRESS=UCSF Santa Fe Echagüe 7151 Santa Fe Santa Fe Argentina;X-APPLE-RADIUS=500;X-TITLE=Echagüe 7151:geo:-60.6709418,-31.6069451
END:VEVENT
END:VCALENDAR