BEGIN:VCALENDAR
VERSION:2.0
PRODID:-//UCSF - Universidad Católica de Santa Fe - ECPv5.14.2.1//NONSGML v1.0//EN
CALSCALE:GREGORIAN
METHOD:PUBLISH
X-WR-CALNAME:UCSF - Universidad Católica de Santa Fe
X-ORIGINAL-URL:https://www.ucsf.edu.ar
X-WR-CALDESC:Events for UCSF - Universidad Católica de Santa Fe
REFRESH-INTERVAL;VALUE=DURATION:PT1H
X-Robots-Tag:noindex
X-PUBLISHED-TTL:PT1H
BEGIN:VTIMEZONE
TZID:America/Argentina/Buenos_Aires
BEGIN:STANDARD
TZOFFSETFROM:-0300
TZOFFSETTO:-0300
TZNAME:-03
DTSTART:20250101T000000
END:STANDARD
END:VTIMEZONE
BEGIN:VEVENT
DTSTART;TZID=America/Argentina/Buenos_Aires:20250404T183000
DTEND;TZID=America/Argentina/Buenos_Aires:20250618T203000
DTSTAMP:20260420T155937
CREATED:20250318T163933Z
LAST-MODIFIED:20250331T191318Z
UID:81047-1743791400-1750278600@www.ucsf.edu.ar
SUMMARY:"Construcción de Aulas Emocionalmente Inteligentes”
DESCRIPTION: Diplomatura Superior RR N.º 14.105 \nDescripción General \nLa Diplomatura Universitaria\, titulada: “Construcción de Aulas Emocionalmente Inteligentes” es un trayecto formativo virtual diseñado para docentes\, directivos y profesionales del ámbito educativo que buscan comprender y desarrollar estrategias efectivas para abordar las emociones en el aula y favorecer la inteligencia emocional al interior de la comunidad educativa. Conocer las emociones y la manera en que las mismas influyen en el desarrollo de las infancias y adolescencias constituye una herramienta significativa para repensar las prácticas de enseñanza y aprendizaje. \nObjetivo General \nFormar docentes\, directivos y profesionales del ámbito educativo en la comprensión y aplicación de estrategias pedagógicas innovadoras que integren la inteligencia emocional en el aula\, con el fin de promover un ambiente de aprendizaje positivo\, significativo y enriquecedor para el desarrollo integral de los estudiantes. \nDestinatarios \nLa Diplomatura está dirigida al ámbito educativo formal\, específicamente docentes de todos los niveles y modalidades\, profesionales de la educación y la salud mental que trabajen en ámbitos educativos y estudiantes avanzados de carreras afines. \nMetodología \nLa Diplomatura se desarrollará bajo la modalidad virtual\, incluyendo tanto instancias sincrónicas como asincrónicas. Cada Módulo contará con: \nClases virtuales sincrónicas: Exposición de contenidos\, análisis de situaciones\, debate y actividades prácticas. \nTrabajos asincrónicos mediante aula virtual de la UCSF. \nMaterial de lectura y estudio: artículos científicos\, libros y recursos en línea. \nFecha de Inicio: 04/04/2025 \nDuración: 16 semanas \nLink de Inscripción: \n https://forms.gle/ML94TeD5ozwLjFL8A
URL:https://www.ucsf.edu.ar/evento/construccion-de-aulas-emocionalmente-inteligentes/
LOCATION:Virtual\, Argentina
CATEGORIES:Pastoral,Cultura: coros y teatro,Santa Fe,Facultades,Alumnos,Rosario,Carreras de Grado,Docentes,Personal UCSF,Reconquista,Psicología,Comunidad,Bienestar universitario,Sedes,IIEP Instituto de Investigaciones y Extensión en Psicología,Licenciatura en Psicología,Licenciatura en Psicopedagogía,IIEP Instituto de Investigaciones y Extensión en Psicología
ATTACH;FMTTYPE=image/jpeg:https://www.ucsf.edu.ar/wp-content/uploads/2025/03/feec0b44-d0dc-4291-8381-d8ecf923a12f-1-1.jpg
ORGANIZER;CN="Facultad%20de%20Psicolog%C3%ADa":MAILTO:ralarcon@ucsf.edu.ar
END:VEVENT
BEGIN:VEVENT
DTSTART;TZID=America/Argentina/Buenos_Aires:20250508T080000
DTEND;TZID=America/Argentina/Buenos_Aires:20250509T233000
DTSTAMP:20260420T155937
CREATED:20250428T193014Z
LAST-MODIFIED:20250428T193015Z
UID:82103-1746691200-1746833400@www.ucsf.edu.ar
SUMMARY:Misión Universitaria
DESCRIPTION:La Pastoral de la UCSF te invita para el próximo 8 y 9 de mayo a la Misión Universitaria\, que se realizará en los barrios Varadero Sarsotti y FO.NA.VI Centenario. \nComo el año pasado\, la idea es visitar las casas de estos dos barrios\, compartir una tarde de juegos con los niños y sus familias\, así como momentos de espiritualidad y recreación con los jóvenes de la comunidad. \nSi querés sumarte\, aún podés anotarte en el siguiente formulario: \nhttps://forms.office.com/r/ahA5nPSpzC
URL:https://www.ucsf.edu.ar/evento/mision-universitaria/
LOCATION:UCSF Santa Fe\, Echagüe 7151\, Santa Fe\, Santa Fe\, Argentina
CATEGORIES:Pastoral,Alumnos,Cultura: coros y teatro,Docentes,Deportes,Personal UCSF,Vicerrectorado de Formación,Comunidad,Bienestar universitario
ATTACH;FMTTYPE=image/jpeg:https://www.ucsf.edu.ar/wp-content/uploads/2025/04/Mision-UCSF_feed-1.jpg
GEO:-31.6069451;-60.6709418
X-APPLE-STRUCTURED-LOCATION;VALUE=URI;X-ADDRESS=UCSF Santa Fe Echagüe 7151 Santa Fe Santa Fe Argentina;X-APPLE-RADIUS=500;X-TITLE=Echagüe 7151:geo:-60.6709418,-31.6069451
END:VEVENT
BEGIN:VEVENT
DTSTART;TZID=America/Argentina/Buenos_Aires:20250510T090000
DTEND;TZID=America/Argentina/Buenos_Aires:20250510T103000
DTSTAMP:20260420T155937
CREATED:20250505T135013Z
LAST-MODIFIED:20250505T152233Z
UID:82242-1746867600-1746873000@www.ucsf.edu.ar
SUMMARY:Seminario "Autismo: desafíos y aprendizajes"
DESCRIPTION:El Seminario “Autismo: desafíos y aprendizajes” se desarrollará el sábado 10 de mayo de 9 a 10:30hs por Zoom.  La disertante a cargo es la Lic. Mónica Aquino (psicopedagoga\, maestranda en Psicología Cognitiva y Aprendizaje -FLACSO y UNAM- referente en discapacidad e inclusión educativa\, profesora universitaria en UCSF e investigadora). \nEl Autismo representa una realidad cada vez más visible y comprendida en el ámbito educativo. La creciente identificación de estudiantes con Autismo en las aulas demanda una preparación y actualización constante por parte de los profesionales de la educación para garantizar una inclusión efectiva y una respuesta pedagógica adecuada a sus necesidades específicas. \nEste seminario se fundamenta en la necesidad de: \n\nActualizar conocimientos: Difundir los avances recientes en la comprensión del Autismo\, desmitificando concepciones erróneas y proporcionando información basada en la evidencia científica actual.\nPromover la inclusión: Ofrecer estrategias y herramientas prácticas para favorecer la participación y el aprendizaje de los estudiantes con Autismo en entornos educativos regulares.\nDesarrollar competencias: Fortalecer las habilidades de los docentes y directivos para la identificación temprana\, la evaluación funcional\, la adaptación curricular y la implementación de metodologías inclusivas.\nFomentar la colaboración: Crear un espacio de diálogo e intercambio de experiencias\, promoviendo la construcción colectiva de estrategias y soluciones.\nSensibilizar y concientizar: Aumentar la comprensión sobre la neurodiversidad y la importancia de un enfoque respetuoso y centrado en las fortalezas de cada individuo.\n\nObjetivo General: proporcionar a los docentes\, directivos y profesionales del ámbito educativo conocimientos actualizados\, estrategias prácticas y herramientas efectivas para abordar los desafíos y potenciar los aprendizajes de los estudiantes con Autismo en contextos educativos inclusivos. \nPrincipales Temas a Tratar\n\nIntroducción al Autismo\nCaracterísticas del Desarrollo y el Aprendizaje en el Autismo\nEstrategias Pedagógicas Inclusivas y Adaptación Curricular\nRecursos y Apoyos Específicos\nPromoción de la Colaboración y el Trabajo en Equipo\nEnfoque en las Fortalezas y el Bienestar\n\nActividad Arancelada. Entrega Certificado. \nInscripción: https://forms.gle/ooTxuKhYnvLgQXtB8
URL:https://www.ucsf.edu.ar/evento/seminario-autismo-desafios-y-aprendizajes/
LOCATION:Vía Zoom\, Argentina
CATEGORIES:Santa Fe,Facultades,Alumnos,Rosario,Carreras de Grado,Docentes,Personal UCSF,Reconquista,Psicología,Comunidad,Bienestar universitario,Sedes,Licenciatura en Psicología,IIEP Instituto de Investigaciones y Extensión en Psicología,Licenciatura en Psicopedagogía,IIEP Instituto de Investigaciones y Extensión en Psicología
ATTACH;FMTTYPE=image/jpeg:https://www.ucsf.edu.ar/wp-content/uploads/2025/05/WhatsApp-Image-2025-05-05-at-9.59.23-AM.jpeg
ORGANIZER;CN="Facultad%20de%20Psicolog%C3%ADa":MAILTO:ralarcon@ucsf.edu.ar
END:VEVENT
END:VCALENDAR