BEGIN:VCALENDAR
VERSION:2.0
PRODID:-//UCSF - Universidad Católica de Santa Fe - ECPv5.14.2.1//NONSGML v1.0//EN
CALSCALE:GREGORIAN
METHOD:PUBLISH
X-WR-CALNAME:UCSF - Universidad Católica de Santa Fe
X-ORIGINAL-URL:https://www.ucsf.edu.ar
X-WR-CALDESC:Events for UCSF - Universidad Católica de Santa Fe
REFRESH-INTERVAL;VALUE=DURATION:PT1H
X-Robots-Tag:noindex
X-PUBLISHED-TTL:PT1H
BEGIN:VTIMEZONE
TZID:America/Argentina/Buenos_Aires
BEGIN:STANDARD
TZOFFSETFROM:-0300
TZOFFSETTO:-0300
TZNAME:-03
DTSTART:20230101T000000
END:STANDARD
END:VTIMEZONE
BEGIN:VEVENT
DTSTART;TZID=America/Argentina/Buenos_Aires:20230727T180000
DTEND;TZID=America/Argentina/Buenos_Aires:20230727T220000
DTSTAMP:20260421T140630
CREATED:20230712T222952Z
LAST-MODIFIED:20230727T134030Z
UID:61999-1690480800-1690495200@www.ucsf.edu.ar
SUMMARY:3° Coloquio ADER -  Actualidad y perspectivas económicas ¿Hacia dónde vamos?
DESCRIPTION:3° Coloquio ADER|| Actualidad y perspectivas económicas ¿Hacia dónde vamos? \nLa Facultad de Ciencias Económicas\, invita a participar del tercer coloquio anual de la Agencia para el Desarrollo de Santa Fe y su Región\, a realizarse en el Centro de Convenciones Los Maderos\, en la ciudad de Santa Fe. \nContará con las disertaciones de reconocidos especialistas en la temática: Maria O´Donell; Ernesto Tenembaum; Hernán Lacunza y Emmanuel Álvarez Agis. Bajo la moderación de Silvana Mondino. \nEl objetivo de este coloquio es dialogar sobre los escenarios políticos económicos coyunturales actuales que nos atraviesan y su impacto en el futuro. \nFecha y horario: jueves 27 de julio a partir de las 18 horas \nReserva tu lugar para esta prometedora propuesta que ofrecerá miradas sobre la actualidad política y económica. \n📌Cupos limitados \nAgencia para el Desarrollo de Santa Fe y su Región \nMas info: http://bit.ly/441WqtX
URL:https://www.ucsf.edu.ar/evento/3-coloquio-ader-actualidad-y-perspectivas-economicas-hacia-donde-vamos/
LOCATION:UCSF Santa Fe\, Echagüe 7151\, Santa Fe\, Santa Fe\, Argentina
CATEGORIES:Santa Fe,Facultades,Alumnos,Docentes,Ciencias Económicas,Comunidad,Sedes
ATTACH;FMTTYPE=image/jpeg:https://www.ucsf.edu.ar/wp-content/uploads/2023/07/WhatsApp-Image-2023-07-11-at-6.50.58-PM.jpeg
GEO:-31.6069451;-60.6709418
X-APPLE-STRUCTURED-LOCATION;VALUE=URI;X-ADDRESS=UCSF Santa Fe Echagüe 7151 Santa Fe Santa Fe Argentina;X-APPLE-RADIUS=500;X-TITLE=Echagüe 7151:geo:-60.6709418,-31.6069451
END:VEVENT
END:VCALENDAR