BEGIN:VCALENDAR
VERSION:2.0
PRODID:-//UCSF - Universidad Católica de Santa Fe - ECPv5.14.2.1//NONSGML v1.0//EN
CALSCALE:GREGORIAN
METHOD:PUBLISH
X-WR-CALNAME:UCSF - Universidad Católica de Santa Fe
X-ORIGINAL-URL:https://www.ucsf.edu.ar
X-WR-CALDESC:Events for UCSF - Universidad Católica de Santa Fe
REFRESH-INTERVAL;VALUE=DURATION:PT1H
X-Robots-Tag:noindex
X-PUBLISHED-TTL:PT1H
BEGIN:VTIMEZONE
TZID:America/Argentina/Buenos_Aires
BEGIN:STANDARD
TZOFFSETFROM:-0300
TZOFFSETTO:-0300
TZNAME:-03
DTSTART:20250101T000000
END:STANDARD
END:VTIMEZONE
BEGIN:VEVENT
DTSTART;TZID=America/Argentina/Buenos_Aires:20250505T090000
DTEND;TZID=America/Argentina/Buenos_Aires:20250505T160000
DTSTAMP:20260420T040406
CREATED:20250429T204200Z
LAST-MODIFIED:20250429T204200Z
UID:82123-1746435600-1746460800@www.ucsf.edu.ar
SUMMARY:Workshop: Reconocimiento de la UNESCO para la Mejora del Patrimonio Cultural
DESCRIPTION:El día lunes 5 de mayo en nuestra sede Santa Fe\, desde las 9hs a las 16hs\, será dictado el Workshop “Reconocimiento de la UNESCO para la Mejora del Patrimonio Cultural: Proyectos\, Experiencias y Resultados Empresariales” en colaboración con el Conzorcio Universitario Italiano per l’Argentina (CUIA).\n\nEntre los disertantes nos acompañarán docentes de la Universidad de Urbino Carlo Bo\, de la Universidad de Camerino\, y de la Universidad de Padua; junto a docentes de la UCSF\, de las Facultades de Arquitectura y Diseño\, Derecho y Ciencia Política\, Filosofía y Humanidades y Ciencias Económicas.\n\nEntre algunas de las temáticas del mismo\, podemos mencionar:\n\n\n Impacto económico de la valorización del patrimonio arquitectónico\, histórico\, urbano y paisajístico\, y el papel de la UNESCO.\n\n\nEl procedimiento de reconocimiento de sitios de la UNESCO y los planes de gestión.\n\n\nPuesta en valor del patrimonio arquitectónico y monumental a través de la creación de rutas turísticas al aire libre de “Geo-Litología Urbana”.\n\n\nCiudades y paisajes del patrimonio industrial.\n\n\nViejas y nuevas formas de valorización empresarial del patrimonio cultural.\n\n\nDinámicas de deterioro del patrimonio histórico y arquitectónico: influencia de factores ambientales y humanos y enfoques de conservación sostenible.
URL:https://www.ucsf.edu.ar/evento/workshop-reconocimiento-de-la-unesco-para-la-mejora-del-patrimonio-cultural/
LOCATION:UCSF Santa Fe\, Echagüe 7151\, Santa Fe\, Santa Fe\, Argentina
CATEGORIES:Home principal,Arquitectura y Diseño,Ciencias Económicas,Derecho y Ciencia Política,Filosofía y Humanidades
ATTACH;FMTTYPE=image/png:https://www.ucsf.edu.ar/wp-content/uploads/2025/04/Workshop-reconociemitno-de-la-unesco_feed.png
GEO:-31.6069451;-60.6709418
X-APPLE-STRUCTURED-LOCATION;VALUE=URI;X-ADDRESS=UCSF Santa Fe Echagüe 7151 Santa Fe Santa Fe Argentina;X-APPLE-RADIUS=500;X-TITLE=Echagüe 7151:geo:-60.6709418,-31.6069451
END:VEVENT
END:VCALENDAR