BEGIN:VCALENDAR
VERSION:2.0
PRODID:-//UCSF - Universidad Católica de Santa Fe - ECPv5.14.2.1//NONSGML v1.0//EN
CALSCALE:GREGORIAN
METHOD:PUBLISH
X-WR-CALNAME:UCSF - Universidad Católica de Santa Fe
X-ORIGINAL-URL:https://www.ucsf.edu.ar
X-WR-CALDESC:Events for UCSF - Universidad Católica de Santa Fe
REFRESH-INTERVAL;VALUE=DURATION:PT1H
X-Robots-Tag:noindex
X-PUBLISHED-TTL:PT1H
BEGIN:VTIMEZONE
TZID:America/Argentina/Buenos_Aires
BEGIN:STANDARD
TZOFFSETFROM:-0300
TZOFFSETTO:-0300
TZNAME:-03
DTSTART:20240101T000000
END:STANDARD
END:VTIMEZONE
BEGIN:VEVENT
DTSTART;TZID=America/Argentina/Buenos_Aires:20240605T170000
DTEND;TZID=America/Argentina/Buenos_Aires:20240605T200000
DTSTAMP:20260420T142926
CREATED:20240522T131048Z
LAST-MODIFIED:20240522T131424Z
UID:72031-1717606800-1717617600@www.ucsf.edu.ar
SUMMARY:Jornada Académica por el Día Mundial del Ambiente
DESCRIPTION:Disertantes: \n\nDr. Juan Manuel Díaz (UCSF)\nDr. Victor Meseguer Sánchez (UCAM)\nDr. José Luis Durán Sánchez (UCAM)\nDr. Leonardo Villafañe (UCSF)\n\nModerado por el Dr. Juan Pablo Vedoya Recio (UCSF) \nMiércoles 5 de junio de 17 a 20 horas \nInscripciones => https://forms.gle/qP7tG2X6c1YRNKR96\nActividad de asistencia gratuita
URL:https://www.ucsf.edu.ar/evento/jornada-academica-por-el-dia-mundial-del-ambiente/
LOCATION:UCSF Sede Santos Mártires – Posadas\, Rademacher 3943\, Posadas\, Misiones\, Argentina
CATEGORIES:Abogacía,Facultades,Alumnos,Carreras de Grado,Docentes,Posadas,Personal UCSF,Derecho y Ciencia Política,Comunidad,Sedes,Licenciatura en Relaciones Internacionales,OPI - Observatorio de Política Internacional
ATTACH;FMTTYPE=image/jpeg:https://www.ucsf.edu.ar/wp-content/uploads/2024/05/WhatsApp-Image-2024-05-21-at-11.13.37-1.jpeg
ORGANIZER;CN="Facultad%20de%20Derecho%20y%20Ciencia%20Pol%C3%ADtica%20-%20Sede%20Posadas":MAILTO:posadas@ucsf.edu.ar
GEO:-27.3859693;-55.896416
X-APPLE-STRUCTURED-LOCATION;VALUE=URI;X-ADDRESS=UCSF Sede Santos Mártires – Posadas Rademacher 3943 Posadas Misiones Argentina;X-APPLE-RADIUS=500;X-TITLE=Rademacher 3943:geo:-55.896416,-27.3859693
END:VEVENT
BEGIN:VEVENT
DTSTART;TZID=America/Argentina/Buenos_Aires:20240607T153000
DTEND;TZID=America/Argentina/Buenos_Aires:20240607T200000
DTSTAMP:20260420T142926
CREATED:20240522T132858Z
LAST-MODIFIED:20240522T141808Z
UID:72037-1717774200-1717790400@www.ucsf.edu.ar
SUMMARY:Jornadas Preparatorias de las XXIX Jornadas Nacionales de Derecho Civil
DESCRIPTION:Actividad organizada por los Institutos de Derecho Privado de la sede Virgen de Guadalupe y Santos Mártires de la Facultad de Derecho y Ciencia Política de la Universidad Católica de Santa Fe \n  \nPalabras de apertura del Presidente de las Jornadas Nacionales\, Dr Ignacio Alterini. \n  \nPanel interdisciplinario sobre Derecho Civil Parte General y Obligaciones: \n-Consentimiento informado para actos médicos. \nDra. Amanda Palacios \n-Criptoactivos \nDr. Juan Manuel Lezcano \n-Obligaciones dinerarias \nDr. Cristian Werlen \n  \nPanel sobre Contratos y Derecho del Consumidor: \n-Responsabilidad de las plataformas y otros participantes (“influencers”) en entornos digitales. \nDra. Samantha Stekler y Dr. Martín Ayala \n-Contratos de larga duración \nDr. Guillermo Rey Leyes \n  \nPanel sobre Derechos Reales: \n-Derecho real de superficie. \nDra. Carolina Rosas y Dr. Roberto Dellamonica \n  \nConferencia magistral de cierre: \n-Vocación sucesoria\, relación afectiva y solidaridad. \nDr. Magín Ferrer \n  \nViernes 7 de junio de 15:30 a 20 horas. \nSede Santos Mártires – Rademacher 3943\, Posadas\, Misiones \n 
URL:https://www.ucsf.edu.ar/evento/jornadas-preparatorias-de-las-xix-jornadas-nacionales-de-derecho-civil/
LOCATION:UCSF Sede Santos Mártires – Posadas\, Rademacher 3943\, Posadas\, Misiones\, Argentina
CATEGORIES:Abogacía,Santa Fe,Facultades,Alumnos,Docentes,Posadas,Derecho y Ciencia Política,Comunidad,Sedes,Martillero Público y Corredor Inmobiliario,Notariado
GEO:-27.3859693;-55.896416
X-APPLE-STRUCTURED-LOCATION;VALUE=URI;X-ADDRESS=UCSF Sede Santos Mártires – Posadas Rademacher 3943 Posadas Misiones Argentina;X-APPLE-RADIUS=500;X-TITLE=Rademacher 3943:geo:-55.896416,-27.3859693
END:VEVENT
BEGIN:VEVENT
DTSTART;VALUE=DATE:20240610
DTEND;VALUE=DATE:20240611
DTSTAMP:20260420T142926
CREATED:20240528T205348Z
LAST-MODIFIED:20240610T140728Z
UID:72302-1717977600-1718063999@www.ucsf.edu.ar
SUMMARY:Compartimos un chocolate: 67° Aniversario de la UCSF
DESCRIPTION:El lunes 10 de junio celebramos un nuevo aniversario de nuestra Universidad.\n¡Te invitamos a acercarte a tu sede para compartir un chocolate! \n\nSanta Fe: 10 y 16 hs.\nReconquista: 10 y 18 hs.\nPosadas: 9 y 16 hs.\nRosario: 10.30 y 17 hs.\nRafaela: 17 hs.\nGualeguaychú: 19 hs.
URL:https://www.ucsf.edu.ar/evento/compartimos-un-chocolate-67-aniversario-de-la-ucsf/
LOCATION:UCSF\, Echagüe 7151\, Santa Fe Capital\, Santa Fe\, 3000\, Argentina
CATEGORIES:Home principal,Arquitectura y Diseño,Ciencias Agropecuarias,Santa Fe,Alumnos,Facultades,Carreras de Grado,Rosario,Docentes,Ciencias de la Salud,Posadas,Personal UCSF,Ciencias Económicas,Carreras de Posgrado,Reconquista,Derecho y Ciencia Política,LA UCSF,Filosofía y Humanidades,Rafaela,Gualeguaychú,Comunidad,Psicología,Posgrados,Bienestar universitario,Sedes
ATTACH;FMTTYPE=image/jpeg:https://www.ucsf.edu.ar/wp-content/uploads/2024/05/Chocolate-2024_todas-las-sedes.jpg
ORGANIZER;CN="Bienestar%20Universitario":MAILTO:debora@furman.com.ar
END:VEVENT
BEGIN:VEVENT
DTSTART;TZID=America/Argentina/Buenos_Aires:20240612T180000
DTEND;TZID=America/Argentina/Buenos_Aires:20240612T200000
DTSTAMP:20260420T142926
CREATED:20240530T161049Z
LAST-MODIFIED:20240530T161049Z
UID:72377-1718215200-1718222400@www.ucsf.edu.ar
SUMMARY:Profesión y Experiencia de un Diplomático del Servicio Exterior de la Nación
DESCRIPTION:Charla informativa sobre la Profesión y Experiencia de un Diplomático del Servicio Exterior de la Nación (ISEN) \n  \nDisertante: Pablo Marcelo Perilmutter \nConsul Adjunto del Consulado General de la Republica Argentina en Encarnación \n  \nDía: 12 de Junio de 2024 \nHorario: 18 horas \nAula: 1.1 \n  \nDestinarios: alumnos de la carrera de RRII y público en general.
URL:https://www.ucsf.edu.ar/evento/profesion-y-experiencia-de-un-diplomatico-del-servicio-exterior-de-la-nacion/
LOCATION:UCSF Sede Santos Mártires – Posadas\, Rademacher 3943\, Posadas\, Misiones\, Argentina
CATEGORIES:Facultades,Alumnos,Posadas,Derecho y Ciencia Política,Licenciatura en Relaciones Internacionales,OPI - Observatorio de Política Internacional
ORGANIZER;CN="Facultad%20de%20Derecho%20y%20Ciencia%20Pol%C3%ADtica%20-%20Sede%20Posadas":MAILTO:posadas@ucsf.edu.ar
GEO:-27.3859693;-55.896416
X-APPLE-STRUCTURED-LOCATION;VALUE=URI;X-ADDRESS=UCSF Sede Santos Mártires – Posadas Rademacher 3943 Posadas Misiones Argentina;X-APPLE-RADIUS=500;X-TITLE=Rademacher 3943:geo:-55.896416,-27.3859693
END:VEVENT
END:VCALENDAR